BEGIN:VCALENDAR
VERSION:2.0
PRODID:-//Tånga Hed - ECPv6.15.20//NONSGML v1.0//EN
CALSCALE:GREGORIAN
METHOD:PUBLISH
X-ORIGINAL-URL:https://www.tangahed.se
X-WR-CALDESC:Händelser för Tånga Hed
REFRESH-INTERVAL;VALUE=DURATION:PT1H
X-Robots-Tag:noindex
X-PUBLISHED-TTL:PT1H
BEGIN:VTIMEZONE
TZID:Europe/Stockholm
BEGIN:DAYLIGHT
TZOFFSETFROM:+0100
TZOFFSETTO:+0200
TZNAME:CEST
DTSTART:20240331T010000
END:DAYLIGHT
BEGIN:STANDARD
TZOFFSETFROM:+0200
TZOFFSETTO:+0100
TZNAME:CET
DTSTART:20241027T010000
END:STANDARD
BEGIN:DAYLIGHT
TZOFFSETFROM:+0100
TZOFFSETTO:+0200
TZNAME:CEST
DTSTART:20250330T010000
END:DAYLIGHT
BEGIN:STANDARD
TZOFFSETFROM:+0200
TZOFFSETTO:+0100
TZNAME:CET
DTSTART:20251026T010000
END:STANDARD
BEGIN:DAYLIGHT
TZOFFSETFROM:+0100
TZOFFSETTO:+0200
TZNAME:CEST
DTSTART:20260329T010000
END:DAYLIGHT
BEGIN:STANDARD
TZOFFSETFROM:+0200
TZOFFSETTO:+0100
TZNAME:CET
DTSTART:20261025T010000
END:STANDARD
END:VTIMEZONE
BEGIN:VEVENT
DTSTART;VALUE=DATE:20250801
DTEND;VALUE=DATE:20250804
DTSTAMP:20260420T113532
CREATED:20241119T091900Z
LAST-MODIFIED:20241119T091900Z
UID:6107-1754006400-1754265599@www.tangahed.se
SUMMARY:Svenska Schapendoesklubben
DESCRIPTION:
URL:https://www.tangahed.se/evenemang/svenska-schapendoesklubben-4/
END:VEVENT
BEGIN:VEVENT
DTSTART;VALUE=DATE:20250801
DTEND;VALUE=DATE:20250805
DTSTAMP:20260420T113532
CREATED:20241111T105751Z
LAST-MODIFIED:20241111T105751Z
UID:6100-1754006400-1754351999@www.tangahed.se
SUMMARY:Dansk Svensk Gårdshund
DESCRIPTION:
URL:https://www.tangahed.se/evenemang/dansk-svensk-gardshund-2/
END:VEVENT
BEGIN:VEVENT
DTSTART;VALUE=DATE:20250807
DTEND;VALUE=DATE:20250811
DTSTAMP:20260420T113532
CREATED:20241119T092205Z
LAST-MODIFIED:20241119T092205Z
UID:6109-1754524800-1754870399@www.tangahed.se
SUMMARY:Goldwingträff
DESCRIPTION:
URL:https://www.tangahed.se/evenemang/goldwingtraff/
END:VEVENT
BEGIN:VEVENT
DTSTART;VALUE=DATE:20250808
DTEND;VALUE=DATE:20250811
DTSTAMP:20260420T113532
CREATED:20241119T092519Z
LAST-MODIFIED:20241119T092519Z
UID:6111-1754611200-1754870399@www.tangahed.se
SUMMARY:Boxer SM
DESCRIPTION:
URL:https://www.tangahed.se/evenemang/boxer-sm-5/
END:VEVENT
BEGIN:VEVENT
DTSTART;VALUE=DATE:20250815
DTEND;VALUE=DATE:20250818
DTSTAMP:20260420T113532
CREATED:20241119T092844Z
LAST-MODIFIED:20241119T092844Z
UID:6113-1755216000-1755475199@www.tangahed.se
SUMMARY:Spinneriet utställning
DESCRIPTION:
URL:https://www.tangahed.se/evenemang/spinneriet-utstallning/
END:VEVENT
BEGIN:VEVENT
DTSTART;VALUE=DATE:20250817
DTEND;VALUE=DATE:20250818
DTSTAMP:20260420T113532
CREATED:20241119T093434Z
LAST-MODIFIED:20241119T093515Z
UID:6115-1755388800-1755475199@www.tangahed.se
SUMMARY:Västsvenska Taxklubben utställning
DESCRIPTION:
URL:https://www.tangahed.se/evenemang/vastsvenska-taxklubben-5/
END:VEVENT
BEGIN:VEVENT
DTSTART;VALUE=DATE:20250828
DTEND;VALUE=DATE:20250901
DTSTAMP:20260420T113532
CREATED:20241206T105231Z
LAST-MODIFIED:20241206T105231Z
UID:6155-1756339200-1756684799@www.tangahed.se
SUMMARY:Kennelläger Swedbox/Engelaiz
DESCRIPTION:
URL:https://www.tangahed.se/evenemang/kennellager-swedbox-engelaiz/
END:VEVENT
BEGIN:VEVENT
DTSTART;VALUE=DATE:20250831
DTEND;VALUE=DATE:20250901
DTSTAMP:20260420T113532
CREATED:20241119T094906Z
LAST-MODIFIED:20241119T094906Z
UID:6117-1756598400-1756684799@www.tangahed.se
SUMMARY:Specialklubben För Shih Tzu Utställning
DESCRIPTION:
URL:https://www.tangahed.se/evenemang/specialklubben-for-shih-tzu-utstallning/
END:VEVENT
END:VCALENDAR