BEGIN:VCALENDAR
VERSION:2.0
PRODID:-//Tånga Hed - ECPv6.15.20//NONSGML v1.0//EN
CALSCALE:GREGORIAN
METHOD:PUBLISH
X-WR-CALNAME:Tånga Hed
X-ORIGINAL-URL:http://www.tangahed.se
X-WR-CALDESC:Händelser för Tånga Hed
REFRESH-INTERVAL;VALUE=DURATION:PT1H
X-Robots-Tag:noindex
X-PUBLISHED-TTL:PT1H
BEGIN:VTIMEZONE
TZID:Europe/Stockholm
BEGIN:DAYLIGHT
TZOFFSETFROM:+0100
TZOFFSETTO:+0200
TZNAME:CEST
DTSTART:20220327T010000
END:DAYLIGHT
BEGIN:STANDARD
TZOFFSETFROM:+0200
TZOFFSETTO:+0100
TZNAME:CET
DTSTART:20221030T010000
END:STANDARD
BEGIN:DAYLIGHT
TZOFFSETFROM:+0100
TZOFFSETTO:+0200
TZNAME:CEST
DTSTART:20230326T010000
END:DAYLIGHT
BEGIN:STANDARD
TZOFFSETFROM:+0200
TZOFFSETTO:+0100
TZNAME:CET
DTSTART:20231029T010000
END:STANDARD
BEGIN:DAYLIGHT
TZOFFSETFROM:+0100
TZOFFSETTO:+0200
TZNAME:CEST
DTSTART:20240331T010000
END:DAYLIGHT
BEGIN:STANDARD
TZOFFSETFROM:+0200
TZOFFSETTO:+0100
TZNAME:CET
DTSTART:20241027T010000
END:STANDARD
END:VTIMEZONE
BEGIN:VEVENT
DTSTART;VALUE=DATE:20230804
DTEND;VALUE=DATE:20230807
DTSTAMP:20260421T152649
CREATED:20230331T080753Z
LAST-MODIFIED:20230331T080753Z
UID:5521-1691107200-1691366399@www.tangahed.se
SUMMARY:Schapendoes utställning
DESCRIPTION:
URL:http://www.tangahed.se/evenemang/schapendoes-utstallning/
END:VEVENT
BEGIN:VEVENT
DTSTART;VALUE=DATE:20230805
DTEND;VALUE=DATE:20230807
DTSTAMP:20260421T152649
CREATED:20230331T094225Z
LAST-MODIFIED:20230331T094225Z
UID:5523-1691193600-1691366399@www.tangahed.se
SUMMARY:Norwichterrier träff
DESCRIPTION:
URL:http://www.tangahed.se/evenemang/norwichterrier-traff/
END:VEVENT
BEGIN:VEVENT
DTSTART;VALUE=DATE:20230812
DTEND;VALUE=DATE:20230814
DTSTAMP:20260421T152649
CREATED:20230526T093427Z
LAST-MODIFIED:20230526T093427Z
UID:5551-1691798400-1691971199@www.tangahed.se
SUMMARY:Boxer SM
DESCRIPTION:
URL:http://www.tangahed.se/evenemang/boxer-sm-3/
END:VEVENT
BEGIN:VEVENT
DTSTART;VALUE=DATE:20230812
DTEND;VALUE=DATE:20230814
DTSTAMP:20260421T152649
CREATED:20230526T093947Z
LAST-MODIFIED:20230526T093947Z
UID:5553-1691798400-1691971199@www.tangahed.se
SUMMARY:Club show Welsh Springer Spaniel
DESCRIPTION:
URL:http://www.tangahed.se/evenemang/club-show-welsh-springer-spaniel/
END:VEVENT
BEGIN:VEVENT
DTSTART;VALUE=DATE:20230820
DTEND;VALUE=DATE:20230821
DTSTAMP:20260421T152649
CREATED:20230526T094240Z
LAST-MODIFIED:20230526T094240Z
UID:5555-1692489600-1692575999@www.tangahed.se
SUMMARY:Västsvenska taxklubben
DESCRIPTION:
URL:http://www.tangahed.se/evenemang/vastsvenska-taxklubben-4/
END:VEVENT
END:VCALENDAR