BEGIN:VCALENDAR
VERSION:2.0
PRODID:-//Tånga Hed - ECPv6.15.20//NONSGML v1.0//EN
CALSCALE:GREGORIAN
METHOD:PUBLISH
X-WR-CALNAME:Tånga Hed
X-ORIGINAL-URL:http://www.tangahed.se
X-WR-CALDESC:Händelser för Tånga Hed
REFRESH-INTERVAL;VALUE=DURATION:PT1H
X-Robots-Tag:noindex
X-PUBLISHED-TTL:PT1H
BEGIN:VTIMEZONE
TZID:Europe/Stockholm
BEGIN:DAYLIGHT
TZOFFSETFROM:+0100
TZOFFSETTO:+0200
TZNAME:CEST
DTSTART:20220327T010000
END:DAYLIGHT
BEGIN:STANDARD
TZOFFSETFROM:+0200
TZOFFSETTO:+0100
TZNAME:CET
DTSTART:20221030T010000
END:STANDARD
BEGIN:DAYLIGHT
TZOFFSETFROM:+0100
TZOFFSETTO:+0200
TZNAME:CEST
DTSTART:20230326T010000
END:DAYLIGHT
BEGIN:STANDARD
TZOFFSETFROM:+0200
TZOFFSETTO:+0100
TZNAME:CET
DTSTART:20231029T010000
END:STANDARD
BEGIN:DAYLIGHT
TZOFFSETFROM:+0100
TZOFFSETTO:+0200
TZNAME:CEST
DTSTART:20240331T010000
END:DAYLIGHT
BEGIN:STANDARD
TZOFFSETFROM:+0200
TZOFFSETTO:+0100
TZNAME:CET
DTSTART:20241027T010000
END:STANDARD
END:VTIMEZONE
BEGIN:VEVENT
DTSTART;VALUE=DATE:20230629
DTEND;VALUE=DATE:20230703
DTSTAMP:20260421T172146
CREATED:20230317T102212Z
LAST-MODIFIED:20230317T102212Z
UID:5482-1687996800-1688342399@www.tangahed.se
SUMMARY:Vulcan Riksträff
DESCRIPTION:
URL:http://www.tangahed.se/evenemang/vulcan-rikstraff/
END:VEVENT
BEGIN:VEVENT
DTSTART;VALUE=DATE:20230701
DTEND;VALUE=DATE:20230702
DTSTAMP:20260421T172146
CREATED:20230317T102623Z
LAST-MODIFIED:20230317T102623Z
UID:5484-1688169600-1688255999@www.tangahed.se
SUMMARY:Shih Tzu utställning
DESCRIPTION:
URL:http://www.tangahed.se/evenemang/shih-tzu-utstallning-2/
END:VEVENT
BEGIN:VEVENT
DTSTART;VALUE=DATE:20230707
DTEND;VALUE=DATE:20230710
DTSTAMP:20260421T172146
CREATED:20230317T102934Z
LAST-MODIFIED:20230619T111902Z
UID:5486-1688688000-1688947199@www.tangahed.se
SUMMARY:Gothenburg Truck Meet
DESCRIPTION:
URL:http://www.tangahed.se/evenemang/gothenburg-truck-meet/
END:VEVENT
BEGIN:VEVENT
DTSTART;VALUE=DATE:20230715
DTEND;VALUE=DATE:20230717
DTSTAMP:20260421T172146
CREATED:20230317T103129Z
LAST-MODIFIED:20230317T103129Z
UID:5488-1689379200-1689551999@www.tangahed.se
SUMMARY:Dalmatiner utställning
DESCRIPTION:
URL:http://www.tangahed.se/evenemang/dalmatiner-utstallning/
END:VEVENT
BEGIN:VEVENT
DTSTART;VALUE=DATE:20230716
DTEND;VALUE=DATE:20230717
DTSTAMP:20260421T172146
CREATED:20230317T103612Z
LAST-MODIFIED:20230317T103612Z
UID:5490-1689465600-1689551999@www.tangahed.se
SUMMARY:svenska Bassethound sällskapet utställning
DESCRIPTION:
URL:http://www.tangahed.se/evenemang/svenska-bassethound-sallskapet-utstallning/
END:VEVENT
BEGIN:VEVENT
DTSTART;VALUE=DATE:20230716
DTEND;VALUE=DATE:20230722
DTSTAMP:20260421T172146
CREATED:20230317T104429Z
LAST-MODIFIED:20230317T104429Z
UID:5492-1689465600-1689983999@www.tangahed.se
SUMMARY:Boxerläger
DESCRIPTION:
URL:http://www.tangahed.se/evenemang/boxerlager-2/
END:VEVENT
BEGIN:VEVENT
DTSTART;VALUE=DATE:20230725
DTEND;VALUE=DATE:20230727
DTSTAMP:20260421T172146
CREATED:20230317T105708Z
LAST-MODIFIED:20230619T113700Z
UID:5494-1690243200-1690415999@www.tangahed.se
SUMMARY:Pudel Nationalen
DESCRIPTION:
URL:http://www.tangahed.se/evenemang/pudel-nationalen/
END:VEVENT
BEGIN:VEVENT
DTSTART;VALUE=DATE:20230728
DTEND;VALUE=DATE:20230731
DTSTAMP:20260421T172146
CREATED:20230317T105831Z
LAST-MODIFIED:20230619T115717Z
UID:5496-1690502400-1690761599@www.tangahed.se
SUMMARY:SSM
DESCRIPTION:
URL:http://www.tangahed.se/evenemang/ssm-utstallning/
END:VEVENT
BEGIN:VEVENT
DTSTART;VALUE=DATE:20230729
DTEND;VALUE=DATE:20230731
DTSTAMP:20260421T172146
CREATED:20230317T110148Z
LAST-MODIFIED:20230317T110148Z
UID:5498-1690588800-1690761599@www.tangahed.se
SUMMARY:Vita Schäferhundklubben utställning
DESCRIPTION:
URL:http://www.tangahed.se/evenemang/vita-schaferhundklubben-utstallning/
END:VEVENT
END:VCALENDAR