BEGIN:VCALENDAR
VERSION:2.0
PRODID:-//Tånga Hed - ECPv6.15.20//NONSGML v1.0//EN
CALSCALE:GREGORIAN
METHOD:PUBLISH
X-WR-CALNAME:Tånga Hed
X-ORIGINAL-URL:http://www.tangahed.se
X-WR-CALDESC:Händelser för Tånga Hed
REFRESH-INTERVAL;VALUE=DURATION:PT1H
X-Robots-Tag:noindex
X-PUBLISHED-TTL:PT1H
BEGIN:VTIMEZONE
TZID:Europe/Stockholm
BEGIN:DAYLIGHT
TZOFFSETFROM:+0100
TZOFFSETTO:+0200
TZNAME:CEST
DTSTART:20220327T010000
END:DAYLIGHT
BEGIN:STANDARD
TZOFFSETFROM:+0200
TZOFFSETTO:+0100
TZNAME:CET
DTSTART:20221030T010000
END:STANDARD
BEGIN:DAYLIGHT
TZOFFSETFROM:+0100
TZOFFSETTO:+0200
TZNAME:CEST
DTSTART:20230326T010000
END:DAYLIGHT
BEGIN:STANDARD
TZOFFSETFROM:+0200
TZOFFSETTO:+0100
TZNAME:CET
DTSTART:20231029T010000
END:STANDARD
BEGIN:DAYLIGHT
TZOFFSETFROM:+0100
TZOFFSETTO:+0200
TZNAME:CEST
DTSTART:20240331T010000
END:DAYLIGHT
BEGIN:STANDARD
TZOFFSETFROM:+0200
TZOFFSETTO:+0100
TZNAME:CET
DTSTART:20241027T010000
END:STANDARD
END:VTIMEZONE
BEGIN:VEVENT
DTSTART;VALUE=DATE:20230211
DTEND;VALUE=DATE:20230213
DTSTAMP:20260422T005629
CREATED:20221102T084652Z
LAST-MODIFIED:20221102T090331Z
UID:5334-1676073600-1676246399@www.tangahed.se
SUMMARY:Hundkurs inkallning och följsamhet med Helena Lyckoskog
DESCRIPTION:Inkallning och följsamhet: \nAtt ha en fungerande inkallning kan vara livsviktigt. Men hur får vi en fungerande inkallning? Hur ska jag träna min hund?\nVi pratar om hundens inlärning och hur vi behöver tänka kring störningar och belöning.\nGruppen får titta på varandra vid de olika övningarna vi testar på\, vi diskuterar förloppet och ser om vi kan göra annorlunda nästa gång. \nVi arbetar med följsamhet på ett positivt sätt. Hundarna presenteras för olika övningar som ni kan använda i vardagen för en mer följsam hund. \nEn kurs som skapar en härlig teamkänsla med hunden! \nLite av innehållet: \nTeori: inlärning\, belöning\, följsamhet\, inkallning \nPraktik: belöna rätt\, inkallning\, följsamhet \nDatum: 11-12/2 \nPris: 3000 kr max 10 ekipage \nI priset ingår: helpension\, boende en natt vandrarhem (enkelrum) eller camping\, 2 dagar med Helena \nAnmälan görs till info@tangahed.se. I din anmälan behöver vi ditt namn\, adress\, mobilnummer\, eventuell specialkost och om du önskar ett vandrarhemsrum eller en campingplats. \nSista anmälningsdag 6/2 \nÖppen för alla raser \n  \nOm Helena: \nHelena Lyckoskog har tränat hund sedan barnsben. Hon började intressera sig tidigt för hundens språk\, inlärning\, friskvård och beteende. Hon brinner för att lära ut och skapa förståelse för hundens beteenden och behov och har haft kurser i ämnet i över 20 år. \nNär hon inte jobbar som lydnadsinstruktör dömer hon viltspårprov\, utbildar och meriterar hundar inom viltspår samt tränar eftersöksekipage. Hon är aktiv eftersöksjägare.  Med de egna hundarna blir det\, förutom jakt\, en hel del träning\, eftersök\, jaktprov och utställningar. Helena håller utbildningar för blivande viltspårinstruktörer samt föreläser och skriver i olika tidningar om hundavel\, jakthundens träning och välmående med mera. Hon har skrivit böckerna Med passion för det vilda samt Viltspår & Eftersök. \n  \nSe också Helenas andra kurser hos oss: \nhttp://www.tangahed.se/evenemang/hundkurs-sparteknik-med-helena-lyckoskog/ \nhttp://www.tangahed.se/evenemang/hundkurs-tema-jakthund-med-helena-lyckoskog/
URL:http://www.tangahed.se/evenemang/hundkurs-inkallning-och-foljsamhet-med-helena-lyckoskog/
END:VEVENT
END:VCALENDAR