BEGIN:VCALENDAR
VERSION:2.0
PRODID:-//Tånga Hed - ECPv6.15.20//NONSGML v1.0//EN
CALSCALE:GREGORIAN
METHOD:PUBLISH
X-ORIGINAL-URL:http://www.tangahed.se
X-WR-CALDESC:Händelser för Tånga Hed
REFRESH-INTERVAL;VALUE=DURATION:PT1H
X-Robots-Tag:noindex
X-PUBLISHED-TTL:PT1H
BEGIN:VTIMEZONE
TZID:Europe/Stockholm
BEGIN:DAYLIGHT
TZOFFSETFROM:+0100
TZOFFSETTO:+0200
TZNAME:CEST
DTSTART:20210328T010000
END:DAYLIGHT
BEGIN:STANDARD
TZOFFSETFROM:+0200
TZOFFSETTO:+0100
TZNAME:CET
DTSTART:20211031T010000
END:STANDARD
BEGIN:DAYLIGHT
TZOFFSETFROM:+0100
TZOFFSETTO:+0200
TZNAME:CEST
DTSTART:20220327T010000
END:DAYLIGHT
BEGIN:STANDARD
TZOFFSETFROM:+0200
TZOFFSETTO:+0100
TZNAME:CET
DTSTART:20221030T010000
END:STANDARD
BEGIN:DAYLIGHT
TZOFFSETFROM:+0100
TZOFFSETTO:+0200
TZNAME:CEST
DTSTART:20230326T010000
END:DAYLIGHT
BEGIN:STANDARD
TZOFFSETFROM:+0200
TZOFFSETTO:+0100
TZNAME:CET
DTSTART:20231029T010000
END:STANDARD
END:VTIMEZONE
BEGIN:VEVENT
DTSTART;TZID=Europe/Stockholm:20221001T080000
DTEND;TZID=Europe/Stockholm:20221002T170000
DTSTAMP:20260422T072924
CREATED:20220705T120509Z
LAST-MODIFIED:20220705T120509Z
UID:5290-1664611200-1664730000@www.tangahed.se
SUMMARY:Västsvenska Terrierklubben
DESCRIPTION:
URL:http://www.tangahed.se/evenemang/vastsvenska-terrierklubben-2/
END:VEVENT
BEGIN:VEVENT
DTSTART;TZID=Europe/Stockholm:20221001T080000
DTEND;TZID=Europe/Stockholm:20221002T170000
DTSTAMP:20260422T072924
CREATED:20220705T120528Z
LAST-MODIFIED:20220705T120528Z
UID:5292-1664611200-1664730000@www.tangahed.se
SUMMARY:Svenska Boxerklubben VLO
DESCRIPTION:
URL:http://www.tangahed.se/evenemang/svenska-boxerklubben-vlo/
END:VEVENT
BEGIN:VEVENT
DTSTART;TZID=Europe/Stockholm:20221008T080000
DTEND;TZID=Europe/Stockholm:20221008T170000
DTSTAMP:20260422T072924
CREATED:20220705T120547Z
LAST-MODIFIED:20220705T120547Z
UID:5294-1665216000-1665248400@www.tangahed.se
SUMMARY:Svenska Pudelklubben Västra
DESCRIPTION:
URL:http://www.tangahed.se/evenemang/svenska-pudelklubben-vastra/
END:VEVENT
BEGIN:VEVENT
DTSTART;TZID=Europe/Stockholm:20221022T080000
DTEND;TZID=Europe/Stockholm:20221022T170000
DTSTAMP:20260422T072924
CREATED:20220705T120630Z
LAST-MODIFIED:20220705T120630Z
UID:5298-1666425600-1666458000@www.tangahed.se
SUMMARY:Svenska Irländska Varghundklubben
DESCRIPTION:
URL:http://www.tangahed.se/evenemang/svenska-irlandska-varghundklubben/
END:VEVENT
BEGIN:VEVENT
DTSTART;TZID=Europe/Stockholm:20221022T080000
DTEND;TZID=Europe/Stockholm:20221023T170000
DTSTAMP:20260422T072924
CREATED:20220705T120605Z
LAST-MODIFIED:20220705T120605Z
UID:5296-1666425600-1666544400@www.tangahed.se
SUMMARY:Up and Run Agility
DESCRIPTION:
URL:http://www.tangahed.se/evenemang/up-and-run-agility/
END:VEVENT
BEGIN:VEVENT
DTSTART;TZID=Europe/Stockholm:20221027T080000
DTEND;TZID=Europe/Stockholm:20221030T170000
DTSTAMP:20260422T072924
CREATED:20220705T120657Z
LAST-MODIFIED:20220705T120657Z
UID:5300-1666857600-1667149200@www.tangahed.se
SUMMARY:Svenska Rasfjäderförbundet
DESCRIPTION:
URL:http://www.tangahed.se/evenemang/svenska-rasfjaderforbundet/
END:VEVENT
END:VCALENDAR