BEGIN:VCALENDAR
VERSION:2.0
PRODID:-//Tånga Hed - ECPv6.15.20//NONSGML v1.0//EN
CALSCALE:GREGORIAN
METHOD:PUBLISH
X-ORIGINAL-URL:http://www.tangahed.se
X-WR-CALDESC:Händelser för Tånga Hed
REFRESH-INTERVAL;VALUE=DURATION:PT1H
X-Robots-Tag:noindex
X-PUBLISHED-TTL:PT1H
BEGIN:VTIMEZONE
TZID:Europe/Stockholm
BEGIN:DAYLIGHT
TZOFFSETFROM:+0100
TZOFFSETTO:+0200
TZNAME:CEST
DTSTART:20210328T010000
END:DAYLIGHT
BEGIN:STANDARD
TZOFFSETFROM:+0200
TZOFFSETTO:+0100
TZNAME:CET
DTSTART:20211031T010000
END:STANDARD
BEGIN:DAYLIGHT
TZOFFSETFROM:+0100
TZOFFSETTO:+0200
TZNAME:CEST
DTSTART:20220327T010000
END:DAYLIGHT
BEGIN:STANDARD
TZOFFSETFROM:+0200
TZOFFSETTO:+0100
TZNAME:CET
DTSTART:20221030T010000
END:STANDARD
BEGIN:DAYLIGHT
TZOFFSETFROM:+0100
TZOFFSETTO:+0200
TZNAME:CEST
DTSTART:20230326T010000
END:DAYLIGHT
BEGIN:STANDARD
TZOFFSETFROM:+0200
TZOFFSETTO:+0100
TZNAME:CET
DTSTART:20231029T010000
END:STANDARD
END:VTIMEZONE
BEGIN:VEVENT
DTSTART;TZID=Europe/Stockholm:20220901T080000
DTEND;TZID=Europe/Stockholm:20220904T170000
DTSTAMP:20260422T085751
CREATED:20220705T120329Z
LAST-MODIFIED:20220705T120329Z
UID:5282-1662019200-1662310800@www.tangahed.se
SUMMARY:Swedbox/Engelaiz Kennelläger
DESCRIPTION:
URL:http://www.tangahed.se/evenemang/swedbox-engelaiz-kennellager/
END:VEVENT
BEGIN:VEVENT
DTSTART;TZID=Europe/Stockholm:20220910T080000
DTEND;TZID=Europe/Stockholm:20220911T170000
DTSTAMP:20260422T085751
CREATED:20220705T120353Z
LAST-MODIFIED:20220705T120353Z
UID:5284-1662796800-1662915600@www.tangahed.se
SUMMARY:Portugisisk Vattenhund
DESCRIPTION:
URL:http://www.tangahed.se/evenemang/portugisisk-vattenhund/
END:VEVENT
BEGIN:VEVENT
DTSTART;TZID=Europe/Stockholm:20220915T080000
DTEND;TZID=Europe/Stockholm:20220918T170000
DTSTAMP:20260422T085751
CREATED:20220705T120412Z
LAST-MODIFIED:20220705T120412Z
UID:5286-1663228800-1663520400@www.tangahed.se
SUMMARY:Riesen i Väst
DESCRIPTION:
URL:http://www.tangahed.se/evenemang/riesen-i-vast/
END:VEVENT
BEGIN:VEVENT
DTSTART;TZID=Europe/Stockholm:20220924T080000
DTEND;TZID=Europe/Stockholm:20220925T170000
DTSTAMP:20260422T085751
CREATED:20220705T120445Z
LAST-MODIFIED:20220705T120445Z
UID:5288-1664006400-1664125200@www.tangahed.se
SUMMARY:Hovawartklubben
DESCRIPTION:
URL:http://www.tangahed.se/evenemang/hovawartklubben/
END:VEVENT
END:VCALENDAR