BEGIN:VCALENDAR
VERSION:2.0
PRODID:-//Tånga Hed - ECPv6.15.20//NONSGML v1.0//EN
CALSCALE:GREGORIAN
METHOD:PUBLISH
X-ORIGINAL-URL:http://www.tangahed.se
X-WR-CALDESC:Händelser för Tånga Hed
REFRESH-INTERVAL;VALUE=DURATION:PT1H
X-Robots-Tag:noindex
X-PUBLISHED-TTL:PT1H
BEGIN:VTIMEZONE
TZID:Europe/Stockholm
BEGIN:DAYLIGHT
TZOFFSETFROM:+0100
TZOFFSETTO:+0200
TZNAME:CEST
DTSTART:20190331T010000
END:DAYLIGHT
BEGIN:STANDARD
TZOFFSETFROM:+0200
TZOFFSETTO:+0100
TZNAME:CET
DTSTART:20191027T010000
END:STANDARD
BEGIN:DAYLIGHT
TZOFFSETFROM:+0100
TZOFFSETTO:+0200
TZNAME:CEST
DTSTART:20200329T010000
END:DAYLIGHT
BEGIN:STANDARD
TZOFFSETFROM:+0200
TZOFFSETTO:+0100
TZNAME:CET
DTSTART:20201025T010000
END:STANDARD
BEGIN:DAYLIGHT
TZOFFSETFROM:+0100
TZOFFSETTO:+0200
TZNAME:CEST
DTSTART:20210328T010000
END:DAYLIGHT
BEGIN:STANDARD
TZOFFSETFROM:+0200
TZOFFSETTO:+0100
TZNAME:CET
DTSTART:20211031T010000
END:STANDARD
END:VTIMEZONE
BEGIN:VEVENT
DTSTART;VALUE=DATE:20200201
DTEND;VALUE=DATE:20200202
DTSTAMP:20260424T062100
CREATED:20191209T124810Z
LAST-MODIFIED:20191209T124810Z
UID:4968-1580515200-1580601599@www.tangahed.se
SUMMARY:Vinterspecialen 2020/Svenska Staffordshire Bullterrierklubben
DESCRIPTION:
URL:http://www.tangahed.se/evenemang/vinterspecialen-2020-svenska-staffordshire-bullterrierklubben/
END:VEVENT
BEGIN:VEVENT
DTSTART;VALUE=DATE:20200208
DTEND;VALUE=DATE:20200210
DTSTAMP:20260424T062100
CREATED:20191209T125410Z
LAST-MODIFIED:20191209T125410Z
UID:4970-1581120000-1581292799@www.tangahed.se
SUMMARY:BK Häcken P07 Träningsläger
DESCRIPTION:
URL:http://www.tangahed.se/evenemang/bk-hacken-p07-traningslager/
LOCATION:Tångahallen
END:VEVENT
BEGIN:VEVENT
DTSTART;VALUE=DATE:20200210
DTEND;VALUE=DATE:20200212
DTSTAMP:20260424T062100
CREATED:20191209T125655Z
LAST-MODIFIED:20191209T130007Z
UID:4973-1581292800-1581465599@www.tangahed.se
SUMMARY:Tillslag
DESCRIPTION:
URL:http://www.tangahed.se/evenemang/tillslag-3/
LOCATION:Tångahallen
END:VEVENT
BEGIN:VEVENT
DTSTART;VALUE=DATE:20200214
DTEND;VALUE=DATE:20200217
DTSTAMP:20260424T062100
CREATED:20191209T130713Z
LAST-MODIFIED:20191209T131213Z
UID:4975-1581638400-1581897599@www.tangahed.se
SUMMARY:Hundspektra AB/Alla Hjärtansdag tävling/Agility
DESCRIPTION:
URL:http://www.tangahed.se/evenemang/hundspektra-ab-alla-hjartansdag-tavling-agility/
LOCATION:Tångahallen
END:VEVENT
BEGIN:VEVENT
DTSTART;VALUE=DATE:20200215
DTEND;VALUE=DATE:20200216
DTSTAMP:20260424T062100
CREATED:20190109T140931Z
LAST-MODIFIED:20191209T131625Z
UID:4702-1581724800-1581811199@www.tangahed.se
SUMMARY:RockaBilly Fest/VCCC
DESCRIPTION:
URL:http://www.tangahed.se/evenemang/rockabilly-fest-2/
LOCATION:Matsalen
END:VEVENT
BEGIN:VEVENT
DTSTART;VALUE=DATE:20200221
DTEND;VALUE=DATE:20200223
DTSTAMP:20260424T062100
CREATED:20191209T132456Z
LAST-MODIFIED:20191209T132456Z
UID:4978-1582243200-1582415999@www.tangahed.se
SUMMARY:NSK P08 Träningsläger
DESCRIPTION:
URL:http://www.tangahed.se/evenemang/nsk-p08-traningslager/
LOCATION:Tångahallen
END:VEVENT
BEGIN:VEVENT
DTSTART;VALUE=DATE:20200223
DTEND;VALUE=DATE:20200224
DTSTAMP:20260424T062100
CREATED:20191209T132816Z
LAST-MODIFIED:20191209T134020Z
UID:4980-1582416000-1582502399@www.tangahed.se
SUMMARY:Svenska Leonbergerklubben/Utställning
DESCRIPTION:Inofficiell Utställning \nalla raser från 4 mån. \n  \nVarmt välkomna! \n 
URL:http://www.tangahed.se/evenemang/svenska-leonbergerklubben-utstallning/
LOCATION:Tångahallen
END:VEVENT
BEGIN:VEVENT
DTSTART;VALUE=DATE:20200223
DTEND;VALUE=DATE:20200224
DTSTAMP:20260424T062100
CREATED:20191209T134527Z
LAST-MODIFIED:20191209T134527Z
UID:4983-1582416000-1582502399@www.tangahed.se
SUMMARY:Riesen i Väst/Årsmöte
DESCRIPTION:
URL:http://www.tangahed.se/evenemang/riesen-i-vast-arsmote-2/
LOCATION:PINGISLOKALEN
END:VEVENT
BEGIN:VEVENT
DTSTART;VALUE=DATE:20200229
DTEND;VALUE=DATE:20200302
DTSTAMP:20260424T062100
CREATED:20191209T134741Z
LAST-MODIFIED:20191209T135145Z
UID:4986-1582934400-1583107199@www.tangahed.se
SUMMARY:Örgryte IS P09/Träningsläger
DESCRIPTION:
URL:http://www.tangahed.se/evenemang/orgryte-is-p09-traningslager/
LOCATION:Tångahallen
END:VEVENT
BEGIN:VEVENT
DTSTART;VALUE=DATE:20200229
DTEND;VALUE=DATE:20200302
DTSTAMP:20260424T062100
CREATED:20191209T135249Z
LAST-MODIFIED:20191209T135249Z
UID:4988-1582934400-1583107199@www.tangahed.se
SUMMARY:Sävedalens IF/Träningsläger
DESCRIPTION:
URL:http://www.tangahed.se/evenemang/savedalens-if-traningslager-6/
LOCATION:Tångahallen
END:VEVENT
BEGIN:VEVENT
DTSTART;VALUE=DATE:20200229
DTEND;VALUE=DATE:20200302
DTSTAMP:20260424T062100
CREATED:20191209T135415Z
LAST-MODIFIED:20191209T144525Z
UID:4992-1582934400-1583107199@www.tangahed.se
SUMMARY:Sport International/Vallens IF Träningsläger
DESCRIPTION:
URL:http://www.tangahed.se/evenemang/sportinternational-vallens-if-traningslager/
LOCATION:Tångahallen
END:VEVENT
END:VCALENDAR