BEGIN:VCALENDAR
VERSION:2.0
PRODID:-//Tånga Hed - ECPv6.15.20//NONSGML v1.0//EN
CALSCALE:GREGORIAN
METHOD:PUBLISH
X-ORIGINAL-URL:http://www.tangahed.se
X-WR-CALDESC:Händelser för Tånga Hed
REFRESH-INTERVAL;VALUE=DURATION:PT1H
X-Robots-Tag:noindex
X-PUBLISHED-TTL:PT1H
BEGIN:VTIMEZONE
TZID:Europe/Stockholm
BEGIN:DAYLIGHT
TZOFFSETFROM:+0100
TZOFFSETTO:+0200
TZNAME:CEST
DTSTART:20180325T010000
END:DAYLIGHT
BEGIN:STANDARD
TZOFFSETFROM:+0200
TZOFFSETTO:+0100
TZNAME:CET
DTSTART:20181028T010000
END:STANDARD
BEGIN:DAYLIGHT
TZOFFSETFROM:+0100
TZOFFSETTO:+0200
TZNAME:CEST
DTSTART:20190331T010000
END:DAYLIGHT
BEGIN:STANDARD
TZOFFSETFROM:+0200
TZOFFSETTO:+0100
TZNAME:CET
DTSTART:20191027T010000
END:STANDARD
BEGIN:DAYLIGHT
TZOFFSETFROM:+0100
TZOFFSETTO:+0200
TZNAME:CEST
DTSTART:20200329T010000
END:DAYLIGHT
BEGIN:STANDARD
TZOFFSETFROM:+0200
TZOFFSETTO:+0100
TZNAME:CET
DTSTART:20201025T010000
END:STANDARD
END:VTIMEZONE
BEGIN:VEVENT
DTSTART;VALUE=DATE:20190706
DTEND;VALUE=DATE:20190707
DTSTAMP:20260424T153316
CREATED:20190115T104952Z
LAST-MODIFIED:20190115T104952Z
UID:4734-1562371200-1562457599@www.tangahed.se
SUMMARY:Svenska Basset Hound Sällskapet/Årsmöte
DESCRIPTION:
URL:http://www.tangahed.se/evenemang/svenska-basset-hound-sallskapet-arsmote/
LOCATION:Mässen
END:VEVENT
BEGIN:VEVENT
DTSTART;VALUE=DATE:20190706
DTEND;VALUE=DATE:20190708
DTSTAMP:20260424T153316
CREATED:20190115T104312Z
LAST-MODIFIED:20190115T104312Z
UID:4732-1562371200-1562543999@www.tangahed.se
SUMMARY:Svenska Dalmatinersällskapet/Utställning
DESCRIPTION:
URL:http://www.tangahed.se/evenemang/svenska-dalmatinersallskapet-utstallning-2/
LOCATION:Tånga Hed IP
END:VEVENT
BEGIN:VEVENT
DTSTART;VALUE=DATE:20190707
DTEND;VALUE=DATE:20190708
DTSTAMP:20260424T153316
CREATED:20190115T105134Z
LAST-MODIFIED:20190115T105231Z
UID:4736-1562457600-1562543999@www.tangahed.se
SUMMARY:SBHS Club Show
DESCRIPTION:
URL:http://www.tangahed.se/evenemang/sbhs-club-show/
LOCATION:Talldungen
END:VEVENT
BEGIN:VEVENT
DTSTART;VALUE=DATE:20190712
DTEND;VALUE=DATE:20190714
DTSTAMP:20260424T153316
CREATED:20190115T105815Z
LAST-MODIFIED:20190115T105815Z
UID:4739-1562889600-1563062399@www.tangahed.se
SUMMARY:GTM Gothenburg Truck Meet
DESCRIPTION:
URL:http://www.tangahed.se/evenemang/gtm-gothenburg-truck-meet-2/
LOCATION:Kanonplan
END:VEVENT
BEGIN:VEVENT
DTSTART;VALUE=DATE:20190714
DTEND;VALUE=DATE:20190721
DTSTAMP:20260424T153316
CREATED:20190115T110531Z
LAST-MODIFIED:20190115T110720Z
UID:4744-1563062400-1563667199@www.tangahed.se
SUMMARY:Boxerläger 2019
DESCRIPTION:
URL:http://www.tangahed.se/evenemang/boxerlager-2019/
LOCATION:Tånga Hed
END:VEVENT
BEGIN:VEVENT
DTSTART;VALUE=DATE:20190726
DTEND;VALUE=DATE:20190729
DTSTAMP:20260424T153316
CREATED:20190115T111411Z
LAST-MODIFIED:20190115T111715Z
UID:4748-1564099200-1564358399@www.tangahed.se
SUMMARY:Svenska Schäferhundklubben SM 2019
DESCRIPTION:
URL:http://www.tangahed.se/evenemang/svenska-schaferhundklubben-sm-2019/
LOCATION:Tånga Hed IP
END:VEVENT
END:VCALENDAR