BEGIN:VCALENDAR
VERSION:2.0
PRODID:-//Tånga Hed - ECPv6.15.20//NONSGML v1.0//EN
CALSCALE:GREGORIAN
METHOD:PUBLISH
X-ORIGINAL-URL:http://www.tangahed.se
X-WR-CALDESC:Händelser för Tånga Hed
REFRESH-INTERVAL;VALUE=DURATION:PT1H
X-Robots-Tag:noindex
X-PUBLISHED-TTL:PT1H
BEGIN:VTIMEZONE
TZID:Europe/Stockholm
BEGIN:DAYLIGHT
TZOFFSETFROM:+0100
TZOFFSETTO:+0200
TZNAME:CEST
DTSTART:20180325T010000
END:DAYLIGHT
BEGIN:STANDARD
TZOFFSETFROM:+0200
TZOFFSETTO:+0100
TZNAME:CET
DTSTART:20181028T010000
END:STANDARD
BEGIN:DAYLIGHT
TZOFFSETFROM:+0100
TZOFFSETTO:+0200
TZNAME:CEST
DTSTART:20190331T010000
END:DAYLIGHT
BEGIN:STANDARD
TZOFFSETFROM:+0200
TZOFFSETTO:+0100
TZNAME:CET
DTSTART:20191027T010000
END:STANDARD
BEGIN:DAYLIGHT
TZOFFSETFROM:+0100
TZOFFSETTO:+0200
TZNAME:CEST
DTSTART:20200329T010000
END:DAYLIGHT
BEGIN:STANDARD
TZOFFSETFROM:+0200
TZOFFSETTO:+0100
TZNAME:CET
DTSTART:20201025T010000
END:STANDARD
END:VTIMEZONE
BEGIN:VEVENT
DTSTART;VALUE=DATE:20190426
DTEND;VALUE=DATE:20190502
DTSTAMP:20260424T183256
CREATED:20181127T150100Z
LAST-MODIFIED:20181127T150100Z
UID:4545-1556236800-1556755199@www.tangahed.se
SUMMARY:Riesen i väst Vårläger
DESCRIPTION:
URL:http://www.tangahed.se/evenemang/riesen-i-vast-varlager/
LOCATION:Tånga Hed
END:VEVENT
BEGIN:VEVENT
DTSTART;TZID=Europe/Stockholm:20190407T143000
DTEND;TZID=Europe/Stockholm:20190407T174500
DTSTAMP:20260424T183256
CREATED:20181127T140328Z
LAST-MODIFIED:20181127T140328Z
UID:4508-1554647400-1554659100@www.tangahed.se
SUMMARY:Bilbingo
DESCRIPTION:Bilbingo på ”Bingoplan” utanför matsalen på Tånga. \nFikaservering \nVälkomna!
URL:http://www.tangahed.se/evenemang/bilbingo-3/
LOCATION:Bingoplan
END:VEVENT
BEGIN:VEVENT
DTSTART;TZID=Europe/Stockholm:20190114T170000
DTEND;TZID=Europe/Stockholm:20190114T210000
DTSTAMP:20260424T183256
CREATED:20190109T114752Z
LAST-MODIFIED:20190109T115237Z
UID:4604-1547485200-1547499600@www.tangahed.se
SUMMARY:Korpen Bowling Träning 17-21
DESCRIPTION:
URL:http://www.tangahed.se/evenemang/korpen-traning-17-21/
LOCATION:Bowlingen
END:VEVENT
BEGIN:VEVENT
DTSTART;VALUE=DATE:20190511
DTEND;VALUE=DATE:20190512
DTSTAMP:20260424T183256
CREATED:20181128T075724Z
LAST-MODIFIED:20181128T075823Z
UID:4550-1557532800-1557619199@www.tangahed.se
SUMMARY:Västsvenska Terrierklubben Utställning
DESCRIPTION:
URL:http://www.tangahed.se/evenemang/vastsvenska-terrierklubben-utstallning-5/
LOCATION:Tångahallen
END:VEVENT
BEGIN:VEVENT
DTSTART;TZID=Europe/Stockholm:20190407T143000
DTEND;TZID=Europe/Stockholm:20190407T174500
DTSTAMP:20260424T183256
CREATED:20181127T140328Z
LAST-MODIFIED:20181127T140328Z
UID:4508-1554647400-1554659100@www.tangahed.se
SUMMARY:Bilbingo
DESCRIPTION:Bilbingo på ”Bingoplan” utanför matsalen på Tånga. \nFikaservering \nVälkomna!
URL:http://www.tangahed.se/evenemang/bilbingo-3/
LOCATION:Bingoplan
END:VEVENT
BEGIN:VEVENT
DTSTART;TZID=Europe/Stockholm:20190114T170000
DTEND;TZID=Europe/Stockholm:20190114T210000
DTSTAMP:20260424T183256
CREATED:20190109T114752Z
LAST-MODIFIED:20190109T115237Z
UID:4604-1547485200-1547499600@www.tangahed.se
SUMMARY:Korpen Bowling Träning 17-21
DESCRIPTION:
URL:http://www.tangahed.se/evenemang/korpen-traning-17-21/
LOCATION:Bowlingen
END:VEVENT
BEGIN:VEVENT
DTSTART;TZID=Europe/Stockholm:20190407T143000
DTEND;TZID=Europe/Stockholm:20190407T174500
DTSTAMP:20260424T183256
CREATED:20181127T140328Z
LAST-MODIFIED:20181127T140328Z
UID:4508-1554647400-1554659100@www.tangahed.se
SUMMARY:Bilbingo
DESCRIPTION:Bilbingo på ”Bingoplan” utanför matsalen på Tånga. \nFikaservering \nVälkomna!
URL:http://www.tangahed.se/evenemang/bilbingo-3/
LOCATION:Bingoplan
END:VEVENT
BEGIN:VEVENT
DTSTART;TZID=Europe/Stockholm:20190114T170000
DTEND;TZID=Europe/Stockholm:20190114T210000
DTSTAMP:20260424T183256
CREATED:20190109T114752Z
LAST-MODIFIED:20190109T115237Z
UID:4604-1547485200-1547499600@www.tangahed.se
SUMMARY:Korpen Bowling Träning 17-21
DESCRIPTION:
URL:http://www.tangahed.se/evenemang/korpen-traning-17-21/
LOCATION:Bowlingen
END:VEVENT
BEGIN:VEVENT
DTSTART;VALUE=DATE:20190524
DTEND;VALUE=DATE:20190526
DTSTAMP:20260424T183256
CREATED:20181128T080151Z
LAST-MODIFIED:20181128T080151Z
UID:4553-1558656000-1558828799@www.tangahed.se
SUMMARY:Keeshondringen Västra Utställning
DESCRIPTION:
URL:http://www.tangahed.se/evenemang/keeshondringen-vastra-utstallning/
LOCATION:Talldungen
END:VEVENT
BEGIN:VEVENT
DTSTART;VALUE=DATE:20190525
DTEND;VALUE=DATE:20190526
DTSTAMP:20260424T183256
CREATED:20181128T080512Z
LAST-MODIFIED:20181128T080512Z
UID:4555-1558742400-1558828799@www.tangahed.se
SUMMARY:Släthårig Foxterrier Utställning
DESCRIPTION:
URL:http://www.tangahed.se/evenemang/slatharig-foxterrier-utstallning/
LOCATION:Hemvärnsplan
END:VEVENT
BEGIN:VEVENT
DTSTART;TZID=Europe/Stockholm:20190407T143000
DTEND;TZID=Europe/Stockholm:20190407T174500
DTSTAMP:20260424T183256
CREATED:20181127T140328Z
LAST-MODIFIED:20181127T140328Z
UID:4508-1554647400-1554659100@www.tangahed.se
SUMMARY:Bilbingo
DESCRIPTION:Bilbingo på ”Bingoplan” utanför matsalen på Tånga. \nFikaservering \nVälkomna!
URL:http://www.tangahed.se/evenemang/bilbingo-3/
LOCATION:Bingoplan
END:VEVENT
BEGIN:VEVENT
DTSTART;VALUE=DATE:20190530
DTEND;VALUE=DATE:20190531
DTSTAMP:20260424T183256
CREATED:20181128T082445Z
LAST-MODIFIED:20181128T082445Z
UID:4560-1559174400-1559260799@www.tangahed.se
SUMMARY:Specialklubben för Västgötaspets Utställning
DESCRIPTION:
URL:http://www.tangahed.se/evenemang/specialklubben-for-vastgotaspets-utstallning-2/
LOCATION:Talldungen
END:VEVENT
BEGIN:VEVENT
DTSTART;VALUE=DATE:20190531
DTEND;VALUE=DATE:20190603
DTSTAMP:20260424T183256
CREATED:20181128T081427Z
LAST-MODIFIED:20181128T081514Z
UID:4558-1559260800-1559519999@www.tangahed.se
SUMMARY:RC Lastbilar (Minilastbilar)
DESCRIPTION:
URL:http://www.tangahed.se/evenemang/rc-lastbilar-minilastbilar-4/
LOCATION:Tångahallen
END:VEVENT
BEGIN:VEVENT
DTSTART;VALUE=DATE:20190531
DTEND;VALUE=DATE:20190603
DTSTAMP:20260424T183256
CREATED:20190313T122033Z
LAST-MODIFIED:20190313T122033Z
UID:4808-1559260800-1559519999@www.tangahed.se
SUMMARY:Suzuki träff
DESCRIPTION:
URL:http://www.tangahed.se/evenemang/suzuki-traff/
LOCATION:Tånga Hed
END:VEVENT
END:VCALENDAR