BEGIN:VCALENDAR
VERSION:2.0
PRODID:-//Tånga Hed - ECPv6.15.20//NONSGML v1.0//EN
CALSCALE:GREGORIAN
METHOD:PUBLISH
X-WR-CALNAME:Tånga Hed
X-ORIGINAL-URL:http://www.tangahed.se
X-WR-CALDESC:Händelser för Tånga Hed
REFRESH-INTERVAL;VALUE=DURATION:PT1H
X-Robots-Tag:noindex
X-PUBLISHED-TTL:PT1H
BEGIN:VTIMEZONE
TZID:Europe/Stockholm
BEGIN:DAYLIGHT
TZOFFSETFROM:+0100
TZOFFSETTO:+0200
TZNAME:CEST
DTSTART:20180325T010000
END:DAYLIGHT
BEGIN:STANDARD
TZOFFSETFROM:+0200
TZOFFSETTO:+0100
TZNAME:CET
DTSTART:20181028T010000
END:STANDARD
BEGIN:DAYLIGHT
TZOFFSETFROM:+0100
TZOFFSETTO:+0200
TZNAME:CEST
DTSTART:20190331T010000
END:DAYLIGHT
BEGIN:STANDARD
TZOFFSETFROM:+0200
TZOFFSETTO:+0100
TZNAME:CET
DTSTART:20191027T010000
END:STANDARD
BEGIN:DAYLIGHT
TZOFFSETFROM:+0100
TZOFFSETTO:+0200
TZNAME:CEST
DTSTART:20200329T010000
END:DAYLIGHT
BEGIN:STANDARD
TZOFFSETFROM:+0200
TZOFFSETTO:+0100
TZNAME:CET
DTSTART:20201025T010000
END:STANDARD
END:VTIMEZONE
BEGIN:VEVENT
DTSTART;VALUE=DATE:20190302
DTEND;VALUE=DATE:20190304
DTSTAMP:20260424T211506
CREATED:20190109T145805Z
LAST-MODIFIED:20190109T145805Z
UID:4714-1551484800-1551657599@www.tangahed.se
SUMMARY:Sävedalens IF Träningsläger
DESCRIPTION:
URL:http://www.tangahed.se/evenemang/savedalens-if-traningslager-5/
END:VEVENT
BEGIN:VEVENT
DTSTART;VALUE=DATE:20190302
DTEND;VALUE=DATE:20190304
DTSTAMP:20260424T211506
CREATED:20190109T145854Z
LAST-MODIFIED:20190109T145854Z
UID:4716-1551484800-1551657599@www.tangahed.se
SUMMARY:Örgryte Damjuniorer Träningsläger
DESCRIPTION:
URL:http://www.tangahed.se/evenemang/orgryte-damjuniorer-traningslager/
END:VEVENT
BEGIN:VEVENT
DTSTART;TZID=Europe/Stockholm:20190114T170000
DTEND;TZID=Europe/Stockholm:20190114T210000
DTSTAMP:20260424T211506
CREATED:20190109T114752Z
LAST-MODIFIED:20190109T115237Z
UID:4604-1547485200-1547499600@www.tangahed.se
SUMMARY:Korpen Bowling Träning 17-21
DESCRIPTION:
URL:http://www.tangahed.se/evenemang/korpen-traning-17-21/
LOCATION:Bowlingen
END:VEVENT
BEGIN:VEVENT
DTSTART;TZID=Europe/Stockholm:20190205T170000
DTEND;TZID=Europe/Stockholm:20190205T210000
DTSTAMP:20260424T211506
CREATED:20190109T124530Z
LAST-MODIFIED:20190109T124530Z
UID:4645-1549386000-1549400400@www.tangahed.se
SUMMARY:Korpen Bowling Seriespel 17-21
DESCRIPTION:
URL:http://www.tangahed.se/evenemang/korpen-bowling-seriespel-17-21/
LOCATION:Bowlingen
END:VEVENT
BEGIN:VEVENT
DTSTART;TZID=Europe/Stockholm:20190206T170000
DTEND;TZID=Europe/Stockholm:20190206T210000
DTSTAMP:20260424T211506
CREATED:20190109T124712Z
LAST-MODIFIED:20190109T124712Z
UID:4655-1549472400-1549486800@www.tangahed.se
SUMMARY:Korpen Bowling Seriespel 17-21
DESCRIPTION:
URL:http://www.tangahed.se/evenemang/korpen-bowling-seriespel-17-21-2/
LOCATION:Bowlingen
END:VEVENT
BEGIN:VEVENT
DTSTART;TZID=Europe/Stockholm:20190117T180000
DTEND;TZID=Europe/Stockholm:20190117T210000
DTSTAMP:20260424T211506
CREATED:20190109T132824Z
LAST-MODIFIED:20190109T132824Z
UID:4687-1547748000-1547758800@www.tangahed.se
SUMMARY:Alingsås Dansklubb Motionsdans
DESCRIPTION:VÅRGÅRDA\, 12 gånger motionsdans med start 17 januari\n \nHär ska det vara roligt att dansa\, träffa nya människor och få lite motion på köpet\, i vår lokal ”Matsalen” \nÖppen dans för alla\, 60:- per gång\, inget medlemsskap krävs \nVälkommen!
URL:http://www.tangahed.se/evenemang/alingsas-dansklubb-motionsdans/
LOCATION:Matsalen\, Tånga Hed\, Sverige
END:VEVENT
BEGIN:VEVENT
DTSTART;VALUE=DATE:20190309
DTEND;VALUE=DATE:20190310
DTSTAMP:20260424T211506
CREATED:20181126T150823Z
LAST-MODIFIED:20181126T150823Z
UID:4489-1552089600-1552175999@www.tangahed.se
SUMMARY:Västsvenska Fågelhundklubben Årsmöte
DESCRIPTION:
URL:http://www.tangahed.se/evenemang/vastsvenska-fagelhundklubben-arsmote/
LOCATION:Mässen
END:VEVENT
BEGIN:VEVENT
DTSTART;VALUE=DATE:20190309
DTEND;VALUE=DATE:20190311
DTSTAMP:20260424T211506
CREATED:20181126T141649Z
LAST-MODIFIED:20181126T141649Z
UID:4487-1552089600-1552262399@www.tangahed.se
SUMMARY:Tångahallen Futsal Cup
DESCRIPTION:
URL:http://www.tangahed.se/evenemang/tangahallen-futsal-cup-3/
LOCATION:Tångahallen
END:VEVENT
BEGIN:VEVENT
DTSTART;TZID=Europe/Stockholm:20190114T170000
DTEND;TZID=Europe/Stockholm:20190114T210000
DTSTAMP:20260424T211506
CREATED:20190109T114752Z
LAST-MODIFIED:20190109T115237Z
UID:4604-1547485200-1547499600@www.tangahed.se
SUMMARY:Korpen Bowling Träning 17-21
DESCRIPTION:
URL:http://www.tangahed.se/evenemang/korpen-traning-17-21/
LOCATION:Bowlingen
END:VEVENT
BEGIN:VEVENT
DTSTART;TZID=Europe/Stockholm:20190205T170000
DTEND;TZID=Europe/Stockholm:20190205T210000
DTSTAMP:20260424T211506
CREATED:20190109T124530Z
LAST-MODIFIED:20190109T124530Z
UID:4645-1549386000-1549400400@www.tangahed.se
SUMMARY:Korpen Bowling Seriespel 17-21
DESCRIPTION:
URL:http://www.tangahed.se/evenemang/korpen-bowling-seriespel-17-21/
LOCATION:Bowlingen
END:VEVENT
BEGIN:VEVENT
DTSTART;TZID=Europe/Stockholm:20190206T170000
DTEND;TZID=Europe/Stockholm:20190206T210000
DTSTAMP:20260424T211506
CREATED:20190109T124712Z
LAST-MODIFIED:20190109T124712Z
UID:4655-1549472400-1549486800@www.tangahed.se
SUMMARY:Korpen Bowling Seriespel 17-21
DESCRIPTION:
URL:http://www.tangahed.se/evenemang/korpen-bowling-seriespel-17-21-2/
LOCATION:Bowlingen
END:VEVENT
BEGIN:VEVENT
DTSTART;TZID=Europe/Stockholm:20190117T180000
DTEND;TZID=Europe/Stockholm:20190117T210000
DTSTAMP:20260424T211506
CREATED:20190109T132824Z
LAST-MODIFIED:20190109T132824Z
UID:4687-1547748000-1547758800@www.tangahed.se
SUMMARY:Alingsås Dansklubb Motionsdans
DESCRIPTION:VÅRGÅRDA\, 12 gånger motionsdans med start 17 januari\n \nHär ska det vara roligt att dansa\, träffa nya människor och få lite motion på köpet\, i vår lokal ”Matsalen” \nÖppen dans för alla\, 60:- per gång\, inget medlemsskap krävs \nVälkommen!
URL:http://www.tangahed.se/evenemang/alingsas-dansklubb-motionsdans/
LOCATION:Matsalen\, Tånga Hed\, Sverige
END:VEVENT
BEGIN:VEVENT
DTSTART;VALUE=DATE:20190316
DTEND;VALUE=DATE:20190318
DTSTAMP:20260424T211506
CREATED:20181126T150929Z
LAST-MODIFIED:20181126T150929Z
UID:4491-1552694400-1552867199@www.tangahed.se
SUMMARY:Floda BOIF Träningsläger
DESCRIPTION:
URL:http://www.tangahed.se/evenemang/floda-boif-traningslager/
LOCATION:Tångahallen
END:VEVENT
BEGIN:VEVENT
DTSTART;TZID=Europe/Stockholm:20190114T170000
DTEND;TZID=Europe/Stockholm:20190114T210000
DTSTAMP:20260424T211506
CREATED:20190109T114752Z
LAST-MODIFIED:20190109T115237Z
UID:4604-1547485200-1547499600@www.tangahed.se
SUMMARY:Korpen Bowling Träning 17-21
DESCRIPTION:
URL:http://www.tangahed.se/evenemang/korpen-traning-17-21/
LOCATION:Bowlingen
END:VEVENT
BEGIN:VEVENT
DTSTART;TZID=Europe/Stockholm:20190205T170000
DTEND;TZID=Europe/Stockholm:20190205T210000
DTSTAMP:20260424T211506
CREATED:20190109T124530Z
LAST-MODIFIED:20190109T124530Z
UID:4645-1549386000-1549400400@www.tangahed.se
SUMMARY:Korpen Bowling Seriespel 17-21
DESCRIPTION:
URL:http://www.tangahed.se/evenemang/korpen-bowling-seriespel-17-21/
LOCATION:Bowlingen
END:VEVENT
BEGIN:VEVENT
DTSTART;TZID=Europe/Stockholm:20190206T170000
DTEND;TZID=Europe/Stockholm:20190206T210000
DTSTAMP:20260424T211506
CREATED:20190109T124712Z
LAST-MODIFIED:20190109T124712Z
UID:4655-1549472400-1549486800@www.tangahed.se
SUMMARY:Korpen Bowling Seriespel 17-21
DESCRIPTION:
URL:http://www.tangahed.se/evenemang/korpen-bowling-seriespel-17-21-2/
LOCATION:Bowlingen
END:VEVENT
BEGIN:VEVENT
DTSTART;TZID=Europe/Stockholm:20190117T180000
DTEND;TZID=Europe/Stockholm:20190117T210000
DTSTAMP:20260424T211506
CREATED:20190109T132824Z
LAST-MODIFIED:20190109T132824Z
UID:4687-1547748000-1547758800@www.tangahed.se
SUMMARY:Alingsås Dansklubb Motionsdans
DESCRIPTION:VÅRGÅRDA\, 12 gånger motionsdans med start 17 januari\n \nHär ska det vara roligt att dansa\, träffa nya människor och få lite motion på köpet\, i vår lokal ”Matsalen” \nÖppen dans för alla\, 60:- per gång\, inget medlemsskap krävs \nVälkommen!
URL:http://www.tangahed.se/evenemang/alingsas-dansklubb-motionsdans/
LOCATION:Matsalen\, Tånga Hed\, Sverige
END:VEVENT
BEGIN:VEVENT
DTSTART;VALUE=DATE:20190322
DTEND;VALUE=DATE:20190325
DTSTAMP:20260424T211506
CREATED:20190110T121556Z
LAST-MODIFIED:20190110T121556Z
UID:4720-1553212800-1553471999@www.tangahed.se
SUMMARY:Sport International Träningsläger
DESCRIPTION:
URL:http://www.tangahed.se/evenemang/sport-international-traningslager-3/
END:VEVENT
BEGIN:VEVENT
DTSTART;TZID=Europe/Stockholm:20190323T090000
DTEND;TZID=Europe/Stockholm:20190323T130000
DTSTAMP:20260424T211506
CREATED:20181126T151413Z
LAST-MODIFIED:20181126T151635Z
UID:4495-1553331600-1553346000@www.tangahed.se
SUMMARY:WIBK Barnmarknad
DESCRIPTION:Öppet mellan 09\,00-13\,00 \nFikaservering! \nVarmt Välkomna!
URL:http://www.tangahed.se/evenemang/wibk-barnmarknad-3/
LOCATION:Tångahallen
END:VEVENT
BEGIN:VEVENT
DTSTART;TZID=Europe/Stockholm:20190114T170000
DTEND;TZID=Europe/Stockholm:20190114T210000
DTSTAMP:20260424T211506
CREATED:20190109T114752Z
LAST-MODIFIED:20190109T115237Z
UID:4604-1547485200-1547499600@www.tangahed.se
SUMMARY:Korpen Bowling Träning 17-21
DESCRIPTION:
URL:http://www.tangahed.se/evenemang/korpen-traning-17-21/
LOCATION:Bowlingen
END:VEVENT
BEGIN:VEVENT
DTSTART;TZID=Europe/Stockholm:20190205T170000
DTEND;TZID=Europe/Stockholm:20190205T210000
DTSTAMP:20260424T211506
CREATED:20190109T124530Z
LAST-MODIFIED:20190109T124530Z
UID:4645-1549386000-1549400400@www.tangahed.se
SUMMARY:Korpen Bowling Seriespel 17-21
DESCRIPTION:
URL:http://www.tangahed.se/evenemang/korpen-bowling-seriespel-17-21/
LOCATION:Bowlingen
END:VEVENT
BEGIN:VEVENT
DTSTART;TZID=Europe/Stockholm:20190206T170000
DTEND;TZID=Europe/Stockholm:20190206T210000
DTSTAMP:20260424T211506
CREATED:20190109T124712Z
LAST-MODIFIED:20190109T124712Z
UID:4655-1549472400-1549486800@www.tangahed.se
SUMMARY:Korpen Bowling Seriespel 17-21
DESCRIPTION:
URL:http://www.tangahed.se/evenemang/korpen-bowling-seriespel-17-21-2/
LOCATION:Bowlingen
END:VEVENT
BEGIN:VEVENT
DTSTART;TZID=Europe/Stockholm:20190117T180000
DTEND;TZID=Europe/Stockholm:20190117T210000
DTSTAMP:20260424T211506
CREATED:20190109T132824Z
LAST-MODIFIED:20190109T132824Z
UID:4687-1547748000-1547758800@www.tangahed.se
SUMMARY:Alingsås Dansklubb Motionsdans
DESCRIPTION:VÅRGÅRDA\, 12 gånger motionsdans med start 17 januari\n \nHär ska det vara roligt att dansa\, träffa nya människor och få lite motion på köpet\, i vår lokal ”Matsalen” \nÖppen dans för alla\, 60:- per gång\, inget medlemsskap krävs \nVälkommen!
URL:http://www.tangahed.se/evenemang/alingsas-dansklubb-motionsdans/
LOCATION:Matsalen\, Tånga Hed\, Sverige
END:VEVENT
BEGIN:VEVENT
DTSTART;VALUE=DATE:20190329
DTEND;VALUE=DATE:20190401
DTSTAMP:20260424T211506
CREATED:20181126T152354Z
LAST-MODIFIED:20181126T152354Z
UID:4499-1553817600-1554076799@www.tangahed.se
SUMMARY:Swedish Open-Agilitytävling
DESCRIPTION:
URL:http://www.tangahed.se/evenemang/swedish-open-agilitytavling/
LOCATION:Tångahallen
END:VEVENT
END:VCALENDAR