BEGIN:VCALENDAR
VERSION:2.0
PRODID:-//Tånga Hed - ECPv6.15.20//NONSGML v1.0//EN
CALSCALE:GREGORIAN
METHOD:PUBLISH
X-ORIGINAL-URL:http://www.tangahed.se
X-WR-CALDESC:Händelser för Tånga Hed
REFRESH-INTERVAL;VALUE=DURATION:PT1H
X-Robots-Tag:noindex
X-PUBLISHED-TTL:PT1H
BEGIN:VTIMEZONE
TZID:Europe/Stockholm
BEGIN:DAYLIGHT
TZOFFSETFROM:+0100
TZOFFSETTO:+0200
TZNAME:CEST
DTSTART:20170326T010000
END:DAYLIGHT
BEGIN:STANDARD
TZOFFSETFROM:+0200
TZOFFSETTO:+0100
TZNAME:CET
DTSTART:20171029T010000
END:STANDARD
BEGIN:DAYLIGHT
TZOFFSETFROM:+0100
TZOFFSETTO:+0200
TZNAME:CEST
DTSTART:20180325T010000
END:DAYLIGHT
BEGIN:STANDARD
TZOFFSETFROM:+0200
TZOFFSETTO:+0100
TZNAME:CET
DTSTART:20181028T010000
END:STANDARD
BEGIN:DAYLIGHT
TZOFFSETFROM:+0100
TZOFFSETTO:+0200
TZNAME:CEST
DTSTART:20190331T010000
END:DAYLIGHT
BEGIN:STANDARD
TZOFFSETFROM:+0200
TZOFFSETTO:+0100
TZNAME:CET
DTSTART:20191027T010000
END:STANDARD
END:VTIMEZONE
BEGIN:VEVENT
DTSTART;VALUE=DATE:20181102
DTEND;VALUE=DATE:20181104
DTSTAMP:20260425T030131
CREATED:20160824T070026Z
LAST-MODIFIED:20230829T080801Z
UID:2582-1541116800-1541289599@www.tangahed.se
SUMMARY:Fotofestival i Vårgårda centrum
DESCRIPTION:Fotofestivalen i Vårgårda\, boka ditt boende på Tånga Hed!\nUtställningen kommer hållas på Kulturen och sporthallen i Vårgårda medan mingel samt middag kommer hållas på Tånga.\nLäs mer på Vårgårda fotoklubbs naturfotofestival
URL:http://www.tangahed.se/evenemang/fotofestival-i-vargarda-centrum/
END:VEVENT
BEGIN:VEVENT
DTSTART;VALUE=DATE:20181102
DTEND;VALUE=DATE:20181105
DTSTAMP:20260425T030131
CREATED:20180824T074439Z
LAST-MODIFIED:20180824T074439Z
UID:4413-1541116800-1541375999@www.tangahed.se
SUMMARY:Nordiska Mästerskap i Rubiks
DESCRIPTION:Tävlingen blir första utgåvan av ett nordiskt mästerskap!
URL:http://www.tangahed.se/evenemang/nordiska-masterskap-i-rubiks/
LOCATION:Tångahallen
END:VEVENT
BEGIN:VEVENT
DTSTART;VALUE=DATE:20181102
DTEND;VALUE=DATE:20181104
DTSTAMP:20260425T030131
CREATED:20160824T070026Z
LAST-MODIFIED:20230829T080801Z
UID:2582-1541116800-1541289599@www.tangahed.se
SUMMARY:Fotofestival i Vårgårda centrum
DESCRIPTION:Fotofestivalen i Vårgårda\, boka ditt boende på Tånga Hed!\nUtställningen kommer hållas på Kulturen och sporthallen i Vårgårda medan mingel samt middag kommer hållas på Tånga.\nLäs mer på Vårgårda fotoklubbs naturfotofestival
URL:http://www.tangahed.se/evenemang/fotofestival-i-vargarda-centrum/
END:VEVENT
BEGIN:VEVENT
DTSTART;VALUE=DATE:20181108
DTEND;VALUE=DATE:20181109
DTSTAMP:20260425T030131
CREATED:20170210T081825Z
LAST-MODIFIED:20230829T080734Z
UID:2909-1541635200-1541721599@www.tangahed.se
SUMMARY:VIK Ungdomsavslutning
DESCRIPTION:
URL:http://www.tangahed.se/evenemang/vik-ungdomsavslutning/
LOCATION:Tångahallen
END:VEVENT
BEGIN:VEVENT
DTSTART;VALUE=DATE:20181109
DTEND;VALUE=DATE:20181112
DTSTAMP:20260425T030131
CREATED:20180209T115345Z
LAST-MODIFIED:20180209T115345Z
UID:3537-1541721600-1541980799@www.tangahed.se
SUMMARY:Svenska Brukshundklubben
DESCRIPTION:Talangtruppen lydnad
URL:http://www.tangahed.se/evenemang/svenska-brukshundklubben-2/
END:VEVENT
BEGIN:VEVENT
DTSTART;VALUE=DATE:20181110
DTEND;VALUE=DATE:20181111
DTSTAMP:20260425T030131
CREATED:20180209T115558Z
LAST-MODIFIED:20180209T115558Z
UID:3539-1541808000-1541894399@www.tangahed.se
SUMMARY:VIKs Årsavslutning
DESCRIPTION:
URL:http://www.tangahed.se/evenemang/viks-arsavslutning/
END:VEVENT
BEGIN:VEVENT
DTSTART;VALUE=DATE:20181123
DTEND;VALUE=DATE:20181124
DTSTAMP:20260425T030131
CREATED:20181119T105224Z
LAST-MODIFIED:20181119T105224Z
UID:4448-1542931200-1543017599@www.tangahed.se
SUMMARY:Black Friday i Puas Bowling
DESCRIPTION:
URL:http://www.tangahed.se/evenemang/black-friday-i-puas-bowling/
LOCATION:Bowlingen
END:VEVENT
END:VCALENDAR