BEGIN:VCALENDAR
VERSION:2.0
PRODID:-//Tånga Hed - ECPv6.15.20//NONSGML v1.0//EN
CALSCALE:GREGORIAN
METHOD:PUBLISH
X-ORIGINAL-URL:http://www.tangahed.se
X-WR-CALDESC:Händelser för Tånga Hed
REFRESH-INTERVAL;VALUE=DURATION:PT1H
X-Robots-Tag:noindex
X-PUBLISHED-TTL:PT1H
BEGIN:VTIMEZONE
TZID:Europe/Stockholm
BEGIN:DAYLIGHT
TZOFFSETFROM:+0100
TZOFFSETTO:+0200
TZNAME:CEST
DTSTART:20170326T010000
END:DAYLIGHT
BEGIN:STANDARD
TZOFFSETFROM:+0200
TZOFFSETTO:+0100
TZNAME:CET
DTSTART:20171029T010000
END:STANDARD
BEGIN:DAYLIGHT
TZOFFSETFROM:+0100
TZOFFSETTO:+0200
TZNAME:CEST
DTSTART:20180325T010000
END:DAYLIGHT
BEGIN:STANDARD
TZOFFSETFROM:+0200
TZOFFSETTO:+0100
TZNAME:CET
DTSTART:20181028T010000
END:STANDARD
BEGIN:DAYLIGHT
TZOFFSETFROM:+0100
TZOFFSETTO:+0200
TZNAME:CEST
DTSTART:20190331T010000
END:DAYLIGHT
BEGIN:STANDARD
TZOFFSETFROM:+0200
TZOFFSETTO:+0100
TZNAME:CET
DTSTART:20191027T010000
END:STANDARD
END:VTIMEZONE
BEGIN:VEVENT
DTSTART;VALUE=DATE:20181005
DTEND;VALUE=DATE:20181008
DTSTAMP:20260425T044124
CREATED:20160121T143829Z
LAST-MODIFIED:20230829T080709Z
UID:2316-1538697600-1538956799@www.tangahed.se
SUMMARY:Elfsborgskatten utställning
DESCRIPTION:
URL:http://www.tangahed.se/evenemang/elfsborgskatten-kattutstallning/
LOCATION:Tångahallen
END:VEVENT
BEGIN:VEVENT
DTSTART;VALUE=DATE:20181006
DTEND;VALUE=DATE:20181007
DTSTAMP:20260425T044124
CREATED:20180818T085838Z
LAST-MODIFIED:20180818T085838Z
UID:4410-1538784000-1538870399@www.tangahed.se
SUMMARY:Hundkurs på Tånga
DESCRIPTION:I samarbete med hundinstruktören Ingrid Trip presenterar vi hundkurs på Tånga! \n  \nIngrid har hållit på med hundar sedan 2001 och arbetar främst med grunder och relationen till din hund – För att du ska kunna få en så bra framtid som möjligt med din vovve. Det ska vara roligt att vara hundägare! Eftersom det endast är max 6st deltagare i kursen kan också varje ekipage få mycket fokus och kursens innehåll individanpassas. \n  \nGenom att bli visad\, få testa själv och diskutera med Ingrid och de andra deltagarna får du sedan med dig de verktyg du behöver för att fortsätta relationsbyggandet med din hund hemma. \n  \nKursen passar alltså dels dig som kanske känner att du inte vet hur du på bästa sätt ska hantera eller uppfostra din hund\, men också dig som bara vill ha lite tips och idéer på hur du får en ännu bättre relation med din fyrbenta vän. \n  \nKursen passar också alla raser och hundar i alla åldrar. \n  \nKursen börjar med 4 torsdagar på Tånga och avslutas med en lördag i skogen. \n  \nSagt av Ingrids tidigare kursdeltagare: ”Ingrid är en av de bästa!” ”Du som inte gått kurs för Ingrid\, ta chansen hon är grym!!” \n  \nFå platser så först till kvarn! \nFör anmälan eller frågor maila: ingrid@tangahed.se \n  \nKurstillfällen: \nTorsdag 6/9 18:00-20:00 \nTorsdag 13/9 18:00-20:00 \nTorsdag 20/9 18:00-20:00 \nTorsdag 27/9 18:00-20:00 \nLördag 6/10 halvdag i skogen \n  \nKursavgift 1400kr betalas innan kursstart.
URL:http://www.tangahed.se/evenemang/hundkurs-pa-tanga-5/
END:VEVENT
BEGIN:VEVENT
DTSTART;TZID=Europe/Stockholm:20180902T143000
DTEND;TZID=Europe/Stockholm:20180902T174500
DTSTAMP:20260425T044124
CREATED:20150129T133200Z
LAST-MODIFIED:20180206T110832Z
UID:1603-1535898600-1535910300@www.tangahed.se
SUMMARY:Bilbingo
DESCRIPTION:Bilbingo på ”Bingoplan” utanför Matsalen på Tånga. \nVÄLKOMNA!
URL:http://www.tangahed.se/evenemang/bilbingo/
LOCATION:Bingoplan
END:VEVENT
BEGIN:VEVENT
DTSTART;VALUE=DATE:20181012
DTEND;VALUE=DATE:20181015
DTSTAMP:20260425T044124
CREATED:20150129T135006Z
LAST-MODIFIED:20230829T080800Z
UID:1629-1539302400-1539561599@www.tangahed.se
SUMMARY:Ulricehamns Brukshundsklubb - Agilitytävling i Tångahallen
DESCRIPTION:
URL:http://www.tangahed.se/evenemang/ulricehamns-brukshundsklubb-agilitytavling-i-tangahallen/
LOCATION:Tångahallen
END:VEVENT
BEGIN:VEVENT
DTSTART;TZID=Europe/Stockholm:20180902T143000
DTEND;TZID=Europe/Stockholm:20180902T174500
DTSTAMP:20260425T044124
CREATED:20150129T133200Z
LAST-MODIFIED:20180206T110832Z
UID:1603-1535898600-1535910300@www.tangahed.se
SUMMARY:Bilbingo
DESCRIPTION:Bilbingo på ”Bingoplan” utanför Matsalen på Tånga. \nVÄLKOMNA!
URL:http://www.tangahed.se/evenemang/bilbingo/
LOCATION:Bingoplan
END:VEVENT
BEGIN:VEVENT
DTSTART;VALUE=DATE:20181020
DTEND;VALUE=DATE:20181022
DTSTAMP:20260425T044124
CREATED:20170208T103509Z
LAST-MODIFIED:20230829T080854Z
UID:2848-1539993600-1540166399@www.tangahed.se
SUMMARY:Västsvenska Terrierklubben
DESCRIPTION:Utställning
URL:http://www.tangahed.se/evenemang/vastsvenska-terrierklubben/
LOCATION:Tångahallen
END:VEVENT
BEGIN:VEVENT
DTSTART;TZID=Europe/Stockholm:20180902T143000
DTEND;TZID=Europe/Stockholm:20180902T174500
DTSTAMP:20260425T044124
CREATED:20150129T133200Z
LAST-MODIFIED:20180206T110832Z
UID:1603-1535898600-1535910300@www.tangahed.se
SUMMARY:Bilbingo
DESCRIPTION:Bilbingo på ”Bingoplan” utanför Matsalen på Tånga. \nVÄLKOMNA!
URL:http://www.tangahed.se/evenemang/bilbingo/
LOCATION:Bingoplan
END:VEVENT
BEGIN:VEVENT
DTSTART;VALUE=DATE:20181026
DTEND;VALUE=DATE:20181029
DTSTAMP:20260425T044124
CREATED:20180115T150903Z
LAST-MODIFIED:20230829T080923Z
UID:3219-1540512000-1540771199@www.tangahed.se
SUMMARY:Svenska brukshundklubben
DESCRIPTION:Landslaget Lydnad
URL:http://www.tangahed.se/evenemang/svenska-brukshundklubben/
LOCATION:Tångahallen
END:VEVENT
BEGIN:VEVENT
DTSTART;VALUE=DATE:20181027
DTEND;VALUE=DATE:20181028
DTSTAMP:20260425T044124
CREATED:20140507T091242Z
LAST-MODIFIED:20230829T080838Z
UID:882-1540598400-1540684799@www.tangahed.se
SUMMARY:Svenska Yorkshireterrier utställning
DESCRIPTION:Svenska Yorkshireterrier utställning
URL:http://www.tangahed.se/evenemang/svenska-yorkshireterrier-utstallning/
END:VEVENT
BEGIN:VEVENT
DTSTART;VALUE=DATE:20181026
DTEND;VALUE=DATE:20181029
DTSTAMP:20260425T044124
CREATED:20180115T150903Z
LAST-MODIFIED:20230829T080923Z
UID:3219-1540512000-1540771199@www.tangahed.se
SUMMARY:Svenska brukshundklubben
DESCRIPTION:Landslaget Lydnad
URL:http://www.tangahed.se/evenemang/svenska-brukshundklubben/
LOCATION:Tångahallen
END:VEVENT
BEGIN:VEVENT
DTSTART;VALUE=DATE:20181026
DTEND;VALUE=DATE:20181029
DTSTAMP:20260425T044124
CREATED:20180115T150903Z
LAST-MODIFIED:20230829T080923Z
UID:3219-1540512000-1540771199@www.tangahed.se
SUMMARY:Svenska brukshundklubben
DESCRIPTION:Landslaget Lydnad
URL:http://www.tangahed.se/evenemang/svenska-brukshundklubben/
LOCATION:Tångahallen
END:VEVENT
BEGIN:VEVENT
DTSTART;TZID=Europe/Stockholm:20181028T130000
DTEND;TZID=Europe/Stockholm:20181028T160000
DTSTAMP:20260425T044124
CREATED:20150129T133200Z
LAST-MODIFIED:20181018T065224Z
UID:3519-1540731600-1540742400@www.tangahed.se
SUMMARY:Bilbingo
DESCRIPTION:Bilbingo på ”Bingoplan” utanför Matsalen på Tånga. \nVÄLKOMNA!
URL:http://www.tangahed.se/evenemang/bilbingo-2018-10-28/
LOCATION:Bingoplan
END:VEVENT
END:VCALENDAR