BEGIN:VCALENDAR
VERSION:2.0
PRODID:-//Tånga Hed - ECPv6.15.20//NONSGML v1.0//EN
CALSCALE:GREGORIAN
METHOD:PUBLISH
X-WR-CALNAME:Tånga Hed
X-ORIGINAL-URL:http://www.tangahed.se
X-WR-CALDESC:Händelser för Tånga Hed
REFRESH-INTERVAL;VALUE=DURATION:PT1H
X-Robots-Tag:noindex
X-PUBLISHED-TTL:PT1H
BEGIN:VTIMEZONE
TZID:Europe/Stockholm
BEGIN:DAYLIGHT
TZOFFSETFROM:+0100
TZOFFSETTO:+0200
TZNAME:CEST
DTSTART:20170326T010000
END:DAYLIGHT
BEGIN:STANDARD
TZOFFSETFROM:+0200
TZOFFSETTO:+0100
TZNAME:CET
DTSTART:20171029T010000
END:STANDARD
BEGIN:DAYLIGHT
TZOFFSETFROM:+0100
TZOFFSETTO:+0200
TZNAME:CEST
DTSTART:20180325T010000
END:DAYLIGHT
BEGIN:STANDARD
TZOFFSETFROM:+0200
TZOFFSETTO:+0100
TZNAME:CET
DTSTART:20181028T010000
END:STANDARD
BEGIN:DAYLIGHT
TZOFFSETFROM:+0100
TZOFFSETTO:+0200
TZNAME:CEST
DTSTART:20190331T010000
END:DAYLIGHT
BEGIN:STANDARD
TZOFFSETFROM:+0200
TZOFFSETTO:+0100
TZNAME:CET
DTSTART:20191027T010000
END:STANDARD
END:VTIMEZONE
BEGIN:VEVENT
DTSTART;VALUE=DATE:20180203
DTEND;VALUE=DATE:20180205
DTSTAMP:20260425T172938
CREATED:20180115T151118Z
LAST-MODIFIED:20180115T151118Z
UID:3220-1517616000-1517788799@www.tangahed.se
SUMMARY:Sävedalens IF Träningsläger
DESCRIPTION:
URL:http://www.tangahed.se/evenemang/savedalens-if-traningslager-2/
END:VEVENT
BEGIN:VEVENT
DTSTART;TZID=Europe/Stockholm:20180206T170000
DTEND;TZID=Europe/Stockholm:20180206T220000
DTSTAMP:20260425T172938
CREATED:20180115T142904Z
LAST-MODIFIED:20180115T142904Z
UID:3200-1517936400-1517954400@www.tangahed.se
SUMMARY:Korpen Seriespel
DESCRIPTION:Seriespel 17\,00-22\,00
URL:http://www.tangahed.se/evenemang/korpen-seriespel-3/
LOCATION:Bowlingen
END:VEVENT
BEGIN:VEVENT
DTSTART;TZID=Europe/Stockholm:20180210T210000
DTEND;TZID=Europe/Stockholm:20180210T210000
DTSTAMP:20260425T172938
CREATED:20170203T133127Z
LAST-MODIFIED:20180126T084559Z
UID:2789-1518296400-1518296400@www.tangahed.se
SUMMARY:Rockabilly Fest
DESCRIPTION:
URL:http://www.tangahed.se/evenemang/rockabilly-fest/
LOCATION:Matsalen\, Tånga Hed\, Sverige
END:VEVENT
BEGIN:VEVENT
DTSTART;TZID=Europe/Stockholm:20180213T170000
DTEND;TZID=Europe/Stockholm:20180213T220000
DTSTAMP:20260425T172938
CREATED:20180115T143007Z
LAST-MODIFIED:20180115T143007Z
UID:3203-1518541200-1518559200@www.tangahed.se
SUMMARY:Korpen seriespel
DESCRIPTION:Seriespel 17\,00-22\,00
URL:http://www.tangahed.se/evenemang/korpen-seriespel-4/
LOCATION:Bowlingen
END:VEVENT
BEGIN:VEVENT
DTSTART;TZID=Europe/Stockholm:20180220T170000
DTEND;TZID=Europe/Stockholm:20180220T220000
DTSTAMP:20260425T172938
CREATED:20180115T143139Z
LAST-MODIFIED:20180115T143139Z
UID:3206-1519146000-1519164000@www.tangahed.se
SUMMARY:Korpen seriespel
DESCRIPTION:Seriespel 17\,00-22\,00
URL:http://www.tangahed.se/evenemang/korpen-seriespel-5/
LOCATION:Bowlingen
END:VEVENT
BEGIN:VEVENT
DTSTART;VALUE=DATE:20180224
DTEND;VALUE=DATE:20180226
DTSTAMP:20260425T172938
CREATED:20170203T134510Z
LAST-MODIFIED:20180115T151350Z
UID:2792-1519430400-1519603199@www.tangahed.se
SUMMARY:Fit Dog
DESCRIPTION:Föreläsning/kurs Agility
URL:http://www.tangahed.se/evenemang/fit-dog/
LOCATION:Tångahallen
END:VEVENT
BEGIN:VEVENT
DTSTART;TZID=Europe/Stockholm:20180227T170000
DTEND;TZID=Europe/Stockholm:20180227T220000
DTSTAMP:20260425T172938
CREATED:20180115T143450Z
LAST-MODIFIED:20180115T143450Z
UID:3209-1519750800-1519768800@www.tangahed.se
SUMMARY:Korpen seriespel
DESCRIPTION:Seriespel 17\,00-22\,00
URL:http://www.tangahed.se/evenemang/korpen-seriespel-6/
LOCATION:Bowlingen
END:VEVENT
END:VCALENDAR