BEGIN:VCALENDAR
VERSION:2.0
PRODID:-//Tånga Hed - ECPv6.15.20//NONSGML v1.0//EN
CALSCALE:GREGORIAN
METHOD:PUBLISH
X-WR-CALNAME:Tånga Hed
X-ORIGINAL-URL:http://www.tangahed.se
X-WR-CALDESC:Händelser för Tånga Hed
REFRESH-INTERVAL;VALUE=DURATION:PT1H
X-Robots-Tag:noindex
X-PUBLISHED-TTL:PT1H
BEGIN:VTIMEZONE
TZID:Europe/Stockholm
BEGIN:DAYLIGHT
TZOFFSETFROM:+0100
TZOFFSETTO:+0200
TZNAME:CEST
DTSTART:20160327T010000
END:DAYLIGHT
BEGIN:STANDARD
TZOFFSETFROM:+0200
TZOFFSETTO:+0100
TZNAME:CET
DTSTART:20161030T010000
END:STANDARD
BEGIN:DAYLIGHT
TZOFFSETFROM:+0100
TZOFFSETTO:+0200
TZNAME:CEST
DTSTART:20170326T010000
END:DAYLIGHT
BEGIN:STANDARD
TZOFFSETFROM:+0200
TZOFFSETTO:+0100
TZNAME:CET
DTSTART:20171029T010000
END:STANDARD
BEGIN:DAYLIGHT
TZOFFSETFROM:+0100
TZOFFSETTO:+0200
TZNAME:CEST
DTSTART:20180325T010000
END:DAYLIGHT
BEGIN:STANDARD
TZOFFSETFROM:+0200
TZOFFSETTO:+0100
TZNAME:CET
DTSTART:20181028T010000
END:STANDARD
END:VTIMEZONE
BEGIN:VEVENT
DTSTART;VALUE=DATE:20170805
DTEND;VALUE=DATE:20170806
DTSTAMP:20260426T025057
CREATED:20170209T082928Z
LAST-MODIFIED:20170209T082928Z
UID:2880-1501891200-1501977599@www.tangahed.se
SUMMARY:Welsh springer spaniel klubben
DESCRIPTION:Utställning
URL:http://www.tangahed.se/evenemang/welsh-springer-spaniel-klubben/
LOCATION:Talldungen
END:VEVENT
BEGIN:VEVENT
DTSTART;VALUE=DATE:20170811
DTEND;VALUE=DATE:20170812
DTSTAMP:20260426T025057
CREATED:20170209T122619Z
LAST-MODIFIED:20170209T122619Z
UID:2882-1502409600-1502495999@www.tangahed.se
SUMMARY:UCI Womans World tour-lagtempolopp
DESCRIPTION:Lagtempolopp med vändning i herrljunga
URL:http://www.tangahed.se/evenemang/uci-womans-world-tour-lagtempolopp/
END:VEVENT
BEGIN:VEVENT
DTSTART;VALUE=DATE:20170811
DTEND;VALUE=DATE:20170814
DTSTAMP:20260426T025057
CREATED:20160121T132526Z
LAST-MODIFIED:20170209T125334Z
UID:2272-1502409600-1502668799@www.tangahed.se
SUMMARY:Boxer SM
DESCRIPTION:
URL:http://www.tangahed.se/evenemang/boxer-sm/
LOCATION:Tånga Hed
END:VEVENT
BEGIN:VEVENT
DTSTART;VALUE=DATE:20170812
DTEND;VALUE=DATE:20170813
DTSTAMP:20260426T025057
CREATED:20170209T122805Z
LAST-MODIFIED:20170209T122805Z
UID:2884-1502496000-1502582399@www.tangahed.se
SUMMARY:Velofondo-Motionslopp
DESCRIPTION:Cykelfest
URL:http://www.tangahed.se/evenemang/velofondo-motionslopp/
END:VEVENT
BEGIN:VEVENT
DTSTART;VALUE=DATE:20170813
DTEND;VALUE=DATE:20170814
DTSTAMP:20260426T025057
CREATED:20170209T122718Z
LAST-MODIFIED:20170209T122718Z
UID:2883-1502582400-1502668799@www.tangahed.se
SUMMARY:UCI Womans world tour-Linjelopp
DESCRIPTION:
URL:http://www.tangahed.se/evenemang/uci-womans-world-tour-linjelopp/
END:VEVENT
BEGIN:VEVENT
DTSTART;VALUE=DATE:20170815
DTEND;VALUE=DATE:20170816
DTSTAMP:20260426T025057
CREATED:20170814T170607Z
LAST-MODIFIED:20170814T170708Z
UID:3051-1502755200-1502841599@www.tangahed.se
SUMMARY:Receptionen stängd 15/8 pga utbildning. Bad fri entré.
DESCRIPTION:
URL:http://www.tangahed.se/evenemang/receptionen-stangd-158-pga-utbildning/
END:VEVENT
BEGIN:VEVENT
DTSTART;VALUE=DATE:20170819
DTEND;VALUE=DATE:20170820
DTSTAMP:20260426T025057
CREATED:20170209T125059Z
LAST-MODIFIED:20170209T125059Z
UID:2888-1503100800-1503187199@www.tangahed.se
SUMMARY:Älghundklubben
DESCRIPTION:Utställning
URL:http://www.tangahed.se/evenemang/alghundklubben/
LOCATION:Kanonplan
END:VEVENT
BEGIN:VEVENT
DTSTART;VALUE=DATE:20170819
DTEND;VALUE=DATE:20170820
DTSTAMP:20260426T025057
CREATED:20170209T125609Z
LAST-MODIFIED:20170209T125630Z
UID:2889-1503100800-1503187199@www.tangahed.se
SUMMARY:Basset klubben väst
DESCRIPTION:Utställning
URL:http://www.tangahed.se/evenemang/basset-klubben-vast/
LOCATION:Kanonplan
END:VEVENT
BEGIN:VEVENT
DTSTART;VALUE=DATE:20170820
DTEND;VALUE=DATE:20170821
DTSTAMP:20260426T025057
CREATED:20170209T130146Z
LAST-MODIFIED:20170209T130146Z
UID:2890-1503187200-1503273599@www.tangahed.se
SUMMARY:Svenska Petit  Griffon
DESCRIPTION:Utställning
URL:http://www.tangahed.se/evenemang/svenska-petit-griffon/
LOCATION:Kanonplan
END:VEVENT
BEGIN:VEVENT
DTSTART;VALUE=DATE:20170820
DTEND;VALUE=DATE:20170821
DTSTAMP:20260426T025057
CREATED:20170209T133230Z
LAST-MODIFIED:20170209T133230Z
UID:2891-1503187200-1503273599@www.tangahed.se
SUMMARY:Cesky Terrier
DESCRIPTION:Utställning
URL:http://www.tangahed.se/evenemang/cesky-terrier/
LOCATION:Agilityplan
END:VEVENT
BEGIN:VEVENT
DTSTART;VALUE=DATE:20170826
DTEND;VALUE=DATE:20170828
DTSTAMP:20260426T025057
CREATED:20170209T143054Z
LAST-MODIFIED:20170209T143054Z
UID:2895-1503705600-1503878399@www.tangahed.se
SUMMARY:SKOOI Svenska Kooikerklubben
DESCRIPTION:
URL:http://www.tangahed.se/evenemang/skooi-svenska-kooikerklubben/
END:VEVENT
END:VCALENDAR