BEGIN:VCALENDAR
VERSION:2.0
PRODID:-//Tånga Hed - ECPv6.15.20//NONSGML v1.0//EN
CALSCALE:GREGORIAN
METHOD:PUBLISH
X-ORIGINAL-URL:http://www.tangahed.se
X-WR-CALDESC:Händelser för Tånga Hed
REFRESH-INTERVAL;VALUE=DURATION:PT1H
X-Robots-Tag:noindex
X-PUBLISHED-TTL:PT1H
BEGIN:VTIMEZONE
TZID:Europe/Stockholm
BEGIN:DAYLIGHT
TZOFFSETFROM:+0100
TZOFFSETTO:+0200
TZNAME:CEST
DTSTART:20220327T010000
END:DAYLIGHT
BEGIN:STANDARD
TZOFFSETFROM:+0200
TZOFFSETTO:+0100
TZNAME:CET
DTSTART:20221030T010000
END:STANDARD
BEGIN:DAYLIGHT
TZOFFSETFROM:+0100
TZOFFSETTO:+0200
TZNAME:CEST
DTSTART:20230326T010000
END:DAYLIGHT
BEGIN:STANDARD
TZOFFSETFROM:+0200
TZOFFSETTO:+0100
TZNAME:CET
DTSTART:20231029T010000
END:STANDARD
BEGIN:DAYLIGHT
TZOFFSETFROM:+0100
TZOFFSETTO:+0200
TZNAME:CEST
DTSTART:20240331T010000
END:DAYLIGHT
BEGIN:STANDARD
TZOFFSETFROM:+0200
TZOFFSETTO:+0100
TZNAME:CET
DTSTART:20241027T010000
END:STANDARD
END:VTIMEZONE
BEGIN:VEVENT
DTSTART;VALUE=DATE:20230804
DTEND;VALUE=DATE:20230807
DTSTAMP:20260421T165754
CREATED:20230331T080753Z
LAST-MODIFIED:20230331T080753Z
UID:5521-1691107200-1691366399@www.tangahed.se
SUMMARY:Schapendoes utställning
DESCRIPTION:
URL:http://www.tangahed.se/evenemang/schapendoes-utstallning/
END:VEVENT
BEGIN:VEVENT
DTSTART;VALUE=DATE:20230805
DTEND;VALUE=DATE:20230807
DTSTAMP:20260421T165754
CREATED:20230331T094225Z
LAST-MODIFIED:20230331T094225Z
UID:5523-1691193600-1691366399@www.tangahed.se
SUMMARY:Norwichterrier träff
DESCRIPTION:
URL:http://www.tangahed.se/evenemang/norwichterrier-traff/
END:VEVENT
BEGIN:VEVENT
DTSTART;VALUE=DATE:20230812
DTEND;VALUE=DATE:20230814
DTSTAMP:20260421T165754
CREATED:20230526T093427Z
LAST-MODIFIED:20230526T093427Z
UID:5551-1691798400-1691971199@www.tangahed.se
SUMMARY:Boxer SM
DESCRIPTION:
URL:http://www.tangahed.se/evenemang/boxer-sm-3/
END:VEVENT
BEGIN:VEVENT
DTSTART;VALUE=DATE:20230812
DTEND;VALUE=DATE:20230814
DTSTAMP:20260421T165754
CREATED:20230526T093947Z
LAST-MODIFIED:20230526T093947Z
UID:5553-1691798400-1691971199@www.tangahed.se
SUMMARY:Club show Welsh Springer Spaniel
DESCRIPTION:
URL:http://www.tangahed.se/evenemang/club-show-welsh-springer-spaniel/
END:VEVENT
BEGIN:VEVENT
DTSTART;VALUE=DATE:20230820
DTEND;VALUE=DATE:20230821
DTSTAMP:20260421T165754
CREATED:20230526T094240Z
LAST-MODIFIED:20230526T094240Z
UID:5555-1692489600-1692575999@www.tangahed.se
SUMMARY:Västsvenska taxklubben
DESCRIPTION:
URL:http://www.tangahed.se/evenemang/vastsvenska-taxklubben-4/
END:VEVENT
BEGIN:VEVENT
DTSTART;VALUE=DATE:20230903
DTEND;VALUE=DATE:20230904
DTSTAMP:20260421T165754
CREATED:20230526T095101Z
LAST-MODIFIED:20230829T080417Z
UID:5557-1693699200-1693785599@www.tangahed.se
SUMMARY:Bilbingo
DESCRIPTION:
URL:http://www.tangahed.se/evenemang/bilbingo-5/
END:VEVENT
BEGIN:VEVENT
DTSTART;VALUE=DATE:20230907
DTEND;VALUE=DATE:20230911
DTSTAMP:20260421T165754
CREATED:20230526T095420Z
LAST-MODIFIED:20230526T095420Z
UID:5576-1694044800-1694390399@www.tangahed.se
SUMMARY:Swedbox/Englaiz kennelläger
DESCRIPTION:
URL:http://www.tangahed.se/evenemang/swedbox-englaiz-kennellager/
END:VEVENT
BEGIN:VEVENT
DTSTART;VALUE=DATE:20230903
DTEND;VALUE=DATE:20230904
DTSTAMP:20260421T165754
CREATED:20230526T095101Z
LAST-MODIFIED:20230829T080417Z
UID:5557-1693699200-1693785599@www.tangahed.se
SUMMARY:Bilbingo
DESCRIPTION:
URL:http://www.tangahed.se/evenemang/bilbingo-5/
END:VEVENT
BEGIN:VEVENT
DTSTART;VALUE=DATE:20230915
DTEND;VALUE=DATE:20230918
DTSTAMP:20260421T165754
CREATED:20230526T095905Z
LAST-MODIFIED:20230526T095905Z
UID:5578-1694736000-1694995199@www.tangahed.se
SUMMARY:Risen i Väst Höstläger
DESCRIPTION:
URL:http://www.tangahed.se/evenemang/risen-i-vast-hostlager/
END:VEVENT
BEGIN:VEVENT
DTSTART;VALUE=DATE:20230915
DTEND;VALUE=DATE:20230918
DTSTAMP:20260421T165754
CREATED:20230602T090342Z
LAST-MODIFIED:20230602T090342Z
UID:5580-1694736000-1694995199@www.tangahed.se
SUMMARY:Vinthundklubben
DESCRIPTION:
URL:http://www.tangahed.se/evenemang/vinthundklubben-4/
END:VEVENT
BEGIN:VEVENT
DTSTART;VALUE=DATE:20230903
DTEND;VALUE=DATE:20230904
DTSTAMP:20260421T165754
CREATED:20230526T095101Z
LAST-MODIFIED:20230829T080417Z
UID:5557-1693699200-1693785599@www.tangahed.se
SUMMARY:Bilbingo
DESCRIPTION:
URL:http://www.tangahed.se/evenemang/bilbingo-5/
END:VEVENT
BEGIN:VEVENT
DTSTART;VALUE=DATE:20230922
DTEND;VALUE=DATE:20230925
DTSTAMP:20260421T165754
CREATED:20230602T090819Z
LAST-MODIFIED:20230602T090819Z
UID:5582-1695340800-1695599999@www.tangahed.se
SUMMARY:Helandeskolan
DESCRIPTION:
URL:http://www.tangahed.se/evenemang/helandeskolan/
END:VEVENT
BEGIN:VEVENT
DTSTART;VALUE=DATE:20230923
DTEND;VALUE=DATE:20230924
DTSTAMP:20260421T165754
CREATED:20230602T091544Z
LAST-MODIFIED:20230602T091544Z
UID:5584-1695427200-1695513599@www.tangahed.se
SUMMARY:Svenska polarhundklubben
DESCRIPTION:
URL:http://www.tangahed.se/evenemang/svenska-polarhundklubben-2/
END:VEVENT
BEGIN:VEVENT
DTSTART;VALUE=DATE:20230903
DTEND;VALUE=DATE:20230904
DTSTAMP:20260421T165754
CREATED:20230526T095101Z
LAST-MODIFIED:20230829T080417Z
UID:5557-1693699200-1693785599@www.tangahed.se
SUMMARY:Bilbingo
DESCRIPTION:
URL:http://www.tangahed.se/evenemang/bilbingo-5/
END:VEVENT
BEGIN:VEVENT
DTSTART;VALUE=DATE:20230930
DTEND;VALUE=DATE:20231001
DTSTAMP:20260421T165754
CREATED:20230602T091853Z
LAST-MODIFIED:20230602T091853Z
UID:5588-1696032000-1696118399@www.tangahed.se
SUMMARY:Tibetansk spaniel klubben
DESCRIPTION:
URL:http://www.tangahed.se/evenemang/tibetansk-spaniel-klubben/
END:VEVENT
BEGIN:VEVENT
DTSTART;VALUE=DATE:20230930
DTEND;VALUE=DATE:20231002
DTSTAMP:20260421T165754
CREATED:20230602T091715Z
LAST-MODIFIED:20230602T091715Z
UID:5586-1696032000-1696204799@www.tangahed.se
SUMMARY:Västsvenska terrierklubben
DESCRIPTION:
URL:http://www.tangahed.se/evenemang/vastsvenska-terrierklubben-3/
END:VEVENT
BEGIN:VEVENT
DTSTART;VALUE=DATE:20230903
DTEND;VALUE=DATE:20230904
DTSTAMP:20260421T165754
CREATED:20230526T095101Z
LAST-MODIFIED:20230829T080417Z
UID:5557-1693699200-1693785599@www.tangahed.se
SUMMARY:Bilbingo
DESCRIPTION:
URL:http://www.tangahed.se/evenemang/bilbingo-5/
END:VEVENT
BEGIN:VEVENT
DTSTART;VALUE=DATE:20231007
DTEND;VALUE=DATE:20231008
DTSTAMP:20260421T165754
CREATED:20230602T092013Z
LAST-MODIFIED:20230602T092013Z
UID:5590-1696636800-1696723199@www.tangahed.se
SUMMARY:WIBK Barnmarknad
DESCRIPTION:
URL:http://www.tangahed.se/evenemang/wibk-barnmarknad-7/
END:VEVENT
BEGIN:VEVENT
DTSTART;VALUE=DATE:20230903
DTEND;VALUE=DATE:20230904
DTSTAMP:20260421T165754
CREATED:20230526T095101Z
LAST-MODIFIED:20230829T080417Z
UID:5557-1693699200-1693785599@www.tangahed.se
SUMMARY:Bilbingo
DESCRIPTION:
URL:http://www.tangahed.se/evenemang/bilbingo-5/
END:VEVENT
BEGIN:VEVENT
DTSTART;VALUE=DATE:20230903
DTEND;VALUE=DATE:20230904
DTSTAMP:20260421T165754
CREATED:20230526T095101Z
LAST-MODIFIED:20230829T080417Z
UID:5557-1693699200-1693785599@www.tangahed.se
SUMMARY:Bilbingo
DESCRIPTION:
URL:http://www.tangahed.se/evenemang/bilbingo-5/
END:VEVENT
BEGIN:VEVENT
DTSTART;VALUE=DATE:20230903
DTEND;VALUE=DATE:20230904
DTSTAMP:20260421T165754
CREATED:20230526T095101Z
LAST-MODIFIED:20230829T080417Z
UID:5557-1693699200-1693785599@www.tangahed.se
SUMMARY:Bilbingo
DESCRIPTION:
URL:http://www.tangahed.se/evenemang/bilbingo-5/
END:VEVENT
BEGIN:VEVENT
DTSTART;VALUE=DATE:20231027
DTEND;VALUE=DATE:20231030
DTSTAMP:20260421T165754
CREATED:20231023T074333Z
LAST-MODIFIED:20231023T074333Z
UID:5765-1698364800-1698623999@www.tangahed.se
SUMMARY:RC Lastbilar
DESCRIPTION:
URL:http://www.tangahed.se/evenemang/rc-lastbilar-5/
END:VEVENT
BEGIN:VEVENT
DTSTART;VALUE=DATE:20231028
DTEND;VALUE=DATE:20231030
DTSTAMP:20260421T165754
CREATED:20230602T092418Z
LAST-MODIFIED:20230602T092418Z
UID:5592-1698451200-1698623999@www.tangahed.se
SUMMARY:Svenska Yorkshireterriersällskapet
DESCRIPTION:
URL:http://www.tangahed.se/evenemang/svenska-yorkshireterriersallskapet/
END:VEVENT
BEGIN:VEVENT
DTSTART;VALUE=DATE:20230903
DTEND;VALUE=DATE:20230904
DTSTAMP:20260421T165754
CREATED:20230526T095101Z
LAST-MODIFIED:20230829T080417Z
UID:5557-1693699200-1693785599@www.tangahed.se
SUMMARY:Bilbingo
DESCRIPTION:
URL:http://www.tangahed.se/evenemang/bilbingo-5/
END:VEVENT
BEGIN:VEVENT
DTSTART;VALUE=DATE:20231101
DTEND;VALUE=DATE:20231104
DTSTAMP:20260421T165754
CREATED:20230602T092957Z
LAST-MODIFIED:20230602T092957Z
UID:5594-1698796800-1699055999@www.tangahed.se
SUMMARY:Västsvenska stövarklubben
DESCRIPTION:
URL:http://www.tangahed.se/evenemang/vastsvenska-stovarklubben/
END:VEVENT
BEGIN:VEVENT
DTSTART;VALUE=DATE:20231111
DTEND;VALUE=DATE:20231113
DTSTAMP:20260421T165754
CREATED:20230602T093620Z
LAST-MODIFIED:20230602T093620Z
UID:5596-1699660800-1699833599@www.tangahed.se
SUMMARY:Elfsborgskatten
DESCRIPTION:
URL:http://www.tangahed.se/evenemang/elfsborgskatten-2/
END:VEVENT
BEGIN:VEVENT
DTSTART;VALUE=DATE:20231118
DTEND;VALUE=DATE:20231119
DTSTAMP:20260421T165754
CREATED:20230602T093707Z
LAST-MODIFIED:20230602T093707Z
UID:5598-1700265600-1700351999@www.tangahed.se
SUMMARY:LSS-Dagen
DESCRIPTION:
URL:http://www.tangahed.se/evenemang/lss-dagen/
END:VEVENT
BEGIN:VEVENT
DTSTART;VALUE=DATE:20231119
DTEND;VALUE=DATE:20231121
DTSTAMP:20260421T165754
CREATED:20230602T093800Z
LAST-MODIFIED:20230602T093800Z
UID:5600-1700352000-1700524799@www.tangahed.se
SUMMARY:Västsvenska Dreverklubben
DESCRIPTION:
URL:http://www.tangahed.se/evenemang/vastsvenska-dreverklubben/
END:VEVENT
BEGIN:VEVENT
DTSTART;VALUE=DATE:20231126
DTEND;VALUE=DATE:20231128
DTSTAMP:20260421T165754
CREATED:20230602T093950Z
LAST-MODIFIED:20230602T093950Z
UID:5602-1700956800-1701129599@www.tangahed.se
SUMMARY:Västsvenska beagleklubben
DESCRIPTION:
URL:http://www.tangahed.se/evenemang/vastsvenska-beagleklubben/
END:VEVENT
BEGIN:VEVENT
DTSTART;VALUE=DATE:20231201
DTEND;VALUE=DATE:20231203
DTSTAMP:20260421T165754
CREATED:20230602T094034Z
LAST-MODIFIED:20230602T094034Z
UID:5604-1701388800-1701561599@www.tangahed.se
SUMMARY:Boxerklubben VLO utställning
DESCRIPTION:
URL:http://www.tangahed.se/evenemang/boxerklubben-vlo-utstallning/
END:VEVENT
END:VCALENDAR