BEGIN:VCALENDAR
VERSION:2.0
PRODID:-//Tånga Hed - ECPv6.15.20//NONSGML v1.0//EN
CALSCALE:GREGORIAN
METHOD:PUBLISH
X-ORIGINAL-URL:http://www.tangahed.se
X-WR-CALDESC:Händelser för Tånga Hed
REFRESH-INTERVAL;VALUE=DURATION:PT1H
X-Robots-Tag:noindex
X-PUBLISHED-TTL:PT1H
BEGIN:VTIMEZONE
TZID:Europe/Stockholm
BEGIN:DAYLIGHT
TZOFFSETFROM:+0100
TZOFFSETTO:+0200
TZNAME:CEST
DTSTART:20220327T010000
END:DAYLIGHT
BEGIN:STANDARD
TZOFFSETFROM:+0200
TZOFFSETTO:+0100
TZNAME:CET
DTSTART:20221030T010000
END:STANDARD
BEGIN:DAYLIGHT
TZOFFSETFROM:+0100
TZOFFSETTO:+0200
TZNAME:CEST
DTSTART:20230326T010000
END:DAYLIGHT
BEGIN:STANDARD
TZOFFSETFROM:+0200
TZOFFSETTO:+0100
TZNAME:CET
DTSTART:20231029T010000
END:STANDARD
BEGIN:DAYLIGHT
TZOFFSETFROM:+0100
TZOFFSETTO:+0200
TZNAME:CEST
DTSTART:20240331T010000
END:DAYLIGHT
BEGIN:STANDARD
TZOFFSETFROM:+0200
TZOFFSETTO:+0100
TZNAME:CET
DTSTART:20241027T010000
END:STANDARD
END:VTIMEZONE
BEGIN:VEVENT
DTSTART;VALUE=DATE:20230401
DTEND;VALUE=DATE:20230402
DTSTAMP:20260421T232908
CREATED:20230303T103310Z
LAST-MODIFIED:20230303T103310Z
UID:5445-1680307200-1680393599@www.tangahed.se
SUMMARY:WIBK Barnmarknad
DESCRIPTION:
URL:http://www.tangahed.se/evenemang/wibk-barnmarknad-6/
END:VEVENT
BEGIN:VEVENT
DTSTART;VALUE=DATE:20230406
DTEND;VALUE=DATE:20230407
DTSTAMP:20260421T232908
CREATED:20230303T102006Z
LAST-MODIFIED:20230303T102952Z
UID:5440-1680739200-1680825599@www.tangahed.se
SUMMARY:Skärtorsdagsfesten
DESCRIPTION:
URL:http://www.tangahed.se/evenemang/wibk-barnmarknad-5/
END:VEVENT
BEGIN:VEVENT
DTSTART;TZID=Europe/Stockholm:20230329T190000
DTEND;TZID=Europe/Stockholm:20230329T203000
DTSTAMP:20260421T232908
CREATED:20230324T075005Z
LAST-MODIFIED:20230324T075005Z
UID:5503-1680116400-1680121800@www.tangahed.se
SUMMARY:Självförsvar Intensiv - 5 veckors kurs
DESCRIPTION:För mer information klicka på länken nedan: \nhttps://fb.me/e/15YL4zSzm \n 
URL:http://www.tangahed.se/evenemang/sjalvforsvar-intensiv-5-veckors-kurs/
END:VEVENT
BEGIN:VEVENT
DTSTART;TZID=Europe/Stockholm:20230329T190000
DTEND;TZID=Europe/Stockholm:20230329T203000
DTSTAMP:20260421T232908
CREATED:20230324T075005Z
LAST-MODIFIED:20230324T075005Z
UID:5503-1680116400-1680121800@www.tangahed.se
SUMMARY:Självförsvar Intensiv - 5 veckors kurs
DESCRIPTION:För mer information klicka på länken nedan: \nhttps://fb.me/e/15YL4zSzm \n 
URL:http://www.tangahed.se/evenemang/sjalvforsvar-intensiv-5-veckors-kurs/
END:VEVENT
BEGIN:VEVENT
DTSTART;VALUE=DATE:20230422
DTEND;VALUE=DATE:20230423
DTSTAMP:20260421T232908
CREATED:20230303T103704Z
LAST-MODIFIED:20230303T103704Z
UID:5448-1682121600-1682207999@www.tangahed.se
SUMMARY:Brännebacka brukshundsklubb utställning
DESCRIPTION:
URL:http://www.tangahed.se/evenemang/brannebacka-brukshundsklubb-utstallning/
END:VEVENT
BEGIN:VEVENT
DTSTART;TZID=Europe/Stockholm:20230329T190000
DTEND;TZID=Europe/Stockholm:20230329T203000
DTSTAMP:20260421T232908
CREATED:20230324T075005Z
LAST-MODIFIED:20230324T075005Z
UID:5503-1680116400-1680121800@www.tangahed.se
SUMMARY:Självförsvar Intensiv - 5 veckors kurs
DESCRIPTION:För mer information klicka på länken nedan: \nhttps://fb.me/e/15YL4zSzm \n 
URL:http://www.tangahed.se/evenemang/sjalvforsvar-intensiv-5-veckors-kurs/
END:VEVENT
BEGIN:VEVENT
DTSTART;VALUE=DATE:20230430
DTEND;VALUE=DATE:20230501
DTSTAMP:20260421T232908
CREATED:20230303T104401Z
LAST-MODIFIED:20230303T104401Z
UID:5451-1682812800-1682899199@www.tangahed.se
SUMMARY:Tibetanska terriersällskapet utställning
DESCRIPTION:
URL:http://www.tangahed.se/evenemang/tibetanska-terriersallskapet-utstallning/
END:VEVENT
BEGIN:VEVENT
DTSTART;TZID=Europe/Stockholm:20230329T190000
DTEND;TZID=Europe/Stockholm:20230329T203000
DTSTAMP:20260421T232908
CREATED:20230324T075005Z
LAST-MODIFIED:20230324T075005Z
UID:5503-1680116400-1680121800@www.tangahed.se
SUMMARY:Självförsvar Intensiv - 5 veckors kurs
DESCRIPTION:För mer information klicka på länken nedan: \nhttps://fb.me/e/15YL4zSzm \n 
URL:http://www.tangahed.se/evenemang/sjalvforsvar-intensiv-5-veckors-kurs/
END:VEVENT
BEGIN:VEVENT
DTSTART;VALUE=DATE:20230505
DTEND;VALUE=DATE:20230508
DTSTAMP:20260421T232908
CREATED:20230317T075351Z
LAST-MODIFIED:20230317T075351Z
UID:5457-1683244800-1683503999@www.tangahed.se
SUMMARY:Dandie Dinmont träff
DESCRIPTION:
URL:http://www.tangahed.se/evenemang/dandie-dinmont-traff/
END:VEVENT
BEGIN:VEVENT
DTSTART;VALUE=DATE:20230507
DTEND;VALUE=DATE:20230508
DTSTAMP:20260421T232908
CREATED:20230317T075537Z
LAST-MODIFIED:20230317T075537Z
UID:5459-1683417600-1683503999@www.tangahed.se
SUMMARY:Västsvenska Terrierklubben Utställning
DESCRIPTION:
URL:http://www.tangahed.se/evenemang/vastsvenska-terrierklubben-utstallning-7/
END:VEVENT
BEGIN:VEVENT
DTSTART;VALUE=DATE:20230514
DTEND;VALUE=DATE:20230515
DTSTAMP:20260421T232908
CREATED:20230512T094227Z
LAST-MODIFIED:20230512T094227Z
UID:5544-1684022400-1684108799@www.tangahed.se
SUMMARY:ADB Klubben Utställning
DESCRIPTION:
URL:http://www.tangahed.se/evenemang/adb-klubben-utstallning/
END:VEVENT
BEGIN:VEVENT
DTSTART;TZID=Europe/Stockholm:20230516T180000
DTEND;TZID=Europe/Stockholm:20230516T210000
DTSTAMP:20260421T232908
CREATED:20230317T083420Z
LAST-MODIFIED:20230320T141352Z
UID:5465-1684260000-1684270800@www.tangahed.se
SUMMARY:Spårteknik föreläsning med Helena Lyckoskog
DESCRIPTION:Den 16 maj kommer Helena Lyckoskog – korad till årets eftersöksjägare 2023 och håller en inspirerande föreläsning i ämnet spårteknik hos oss på Tånga! \n  \nHelena är viltspårdomare och eftersöksjägare och utbildar inom båda fälten. Hon brinner för att skapa förståelse för hur hundar fungerar. \nVarje år dömer och tränar hon över tusen olika hundar i viltspår och håller föreläsningar och kurser över hela Norden. \nEn av hennes största drivkrafter är att ge hundförare den kunskap som behövs för ett mer lyckat resultat i spåret. \n  \nHon har skrivit böckerna Viltspår & Eftersök samt Med passion för det vilda. \n  \nInnehåll \n\nSpårläggning\nFöra hund i spår\nUtrustning\nLäsa hund\nÖvningar som för Dig vidare\n\n  \nBöcker\, spårlinor och andra tillbehör finns att köpa. \nUnder kvällen bjuder vi på en viltinspirerad fika. \nKostnad 350:- \nAnmälan sker till info@tangahed.se \nObs! Meddela eventuella allergier vid anmälan.
URL:http://www.tangahed.se/evenemang/sparteknik-forelasning-med-helena-lyckeskog/
END:VEVENT
BEGIN:VEVENT
DTSTART;VALUE=DATE:20230520
DTEND;VALUE=DATE:20230522
DTSTAMP:20260421T232908
CREATED:20230317T083236Z
LAST-MODIFIED:20230317T083236Z
UID:5463-1684540800-1684713599@www.tangahed.se
SUMMARY:Spinneriet kattutställning
DESCRIPTION:
URL:http://www.tangahed.se/evenemang/spinneriet-kattutstallning/
END:VEVENT
BEGIN:VEVENT
DTSTART;VALUE=DATE:20230526
DTEND;VALUE=DATE:20230529
DTSTAMP:20260421T232908
CREATED:20230317T090625Z
LAST-MODIFIED:20230317T090625Z
UID:5471-1685059200-1685318399@www.tangahed.se
SUMMARY:Hymer husbilsklubb
DESCRIPTION:
URL:http://www.tangahed.se/evenemang/hymer-husbilsklubb/
END:VEVENT
BEGIN:VEVENT
DTSTART;VALUE=DATE:20230527
DTEND;VALUE=DATE:20230528
DTSTAMP:20260421T232908
CREATED:20230317T091706Z
LAST-MODIFIED:20230317T091706Z
UID:5473-1685145600-1685231999@www.tangahed.se
SUMMARY:Släthårig foxterrier utställning
DESCRIPTION:
URL:http://www.tangahed.se/evenemang/slatharig-foxterrier-utstallning-3/
END:VEVENT
BEGIN:VEVENT
DTSTART;VALUE=DATE:20230527
DTEND;VALUE=DATE:20230529
DTSTAMP:20260421T232908
CREATED:20230317T090252Z
LAST-MODIFIED:20230317T090252Z
UID:5469-1685145600-1685318399@www.tangahed.se
SUMMARY:RC lastbilar
DESCRIPTION:
URL:http://www.tangahed.se/evenemang/rc-lastbilar-4/
END:VEVENT
BEGIN:VEVENT
DTSTART;VALUE=DATE:20230601
DTEND;VALUE=DATE:20230605
DTSTAMP:20260421T232908
CREATED:20230317T100610Z
LAST-MODIFIED:20230317T100610Z
UID:5475-1685577600-1685923199@www.tangahed.se
SUMMARY:Goldwing träff
DESCRIPTION:
URL:http://www.tangahed.se/evenemang/goldwing-traff/
END:VEVENT
BEGIN:VEVENT
DTSTART;VALUE=DATE:20230604
DTEND;VALUE=DATE:20230606
DTSTAMP:20260421T232908
CREATED:20230526T092930Z
LAST-MODIFIED:20230526T092930Z
UID:5547-1685836800-1686009599@www.tangahed.se
SUMMARY:Risen i Väst
DESCRIPTION:
URL:http://www.tangahed.se/evenemang/risen-i-vast/
END:VEVENT
BEGIN:VEVENT
DTSTART;VALUE=DATE:20230609
DTEND;VALUE=DATE:20230611
DTSTAMP:20260421T232908
CREATED:20230317T100847Z
LAST-MODIFIED:20230317T100847Z
UID:5477-1686268800-1686441599@www.tangahed.se
SUMMARY:nostalgifestivalen
DESCRIPTION:
URL:http://www.tangahed.se/evenemang/nostalgifestivalen-2/
END:VEVENT
BEGIN:VEVENT
DTSTART;VALUE=DATE:20230612
DTEND;VALUE=DATE:20230617
DTSTAMP:20260421T232908
CREATED:20230526T093245Z
LAST-MODIFIED:20230526T093245Z
UID:5549-1686528000-1686959999@www.tangahed.se
SUMMARY:Simskola
DESCRIPTION:Poolen är stängd för allmänheten på förmiddagen och öppnar igen 13:00
URL:http://www.tangahed.se/evenemang/simskola/
END:VEVENT
BEGIN:VEVENT
DTSTART;VALUE=DATE:20230624
DTEND;VALUE=DATE:20230625
DTSTAMP:20260421T232908
CREATED:20230317T101630Z
LAST-MODIFIED:20230317T101630Z
UID:5480-1687564800-1687651199@www.tangahed.se
SUMMARY:Vinthund utställning
DESCRIPTION:
URL:http://www.tangahed.se/evenemang/vinthund-utstallning/
END:VEVENT
BEGIN:VEVENT
DTSTART;VALUE=DATE:20230629
DTEND;VALUE=DATE:20230703
DTSTAMP:20260421T232908
CREATED:20230317T102212Z
LAST-MODIFIED:20230317T102212Z
UID:5482-1687996800-1688342399@www.tangahed.se
SUMMARY:Vulcan Riksträff
DESCRIPTION:
URL:http://www.tangahed.se/evenemang/vulcan-rikstraff/
END:VEVENT
BEGIN:VEVENT
DTSTART;VALUE=DATE:20230701
DTEND;VALUE=DATE:20230702
DTSTAMP:20260421T232908
CREATED:20230317T102623Z
LAST-MODIFIED:20230317T102623Z
UID:5484-1688169600-1688255999@www.tangahed.se
SUMMARY:Shih Tzu utställning
DESCRIPTION:
URL:http://www.tangahed.se/evenemang/shih-tzu-utstallning-2/
END:VEVENT
BEGIN:VEVENT
DTSTART;VALUE=DATE:20230707
DTEND;VALUE=DATE:20230710
DTSTAMP:20260421T232908
CREATED:20230317T102934Z
LAST-MODIFIED:20230619T111902Z
UID:5486-1688688000-1688947199@www.tangahed.se
SUMMARY:Gothenburg Truck Meet
DESCRIPTION:
URL:http://www.tangahed.se/evenemang/gothenburg-truck-meet/
END:VEVENT
BEGIN:VEVENT
DTSTART;VALUE=DATE:20230715
DTEND;VALUE=DATE:20230717
DTSTAMP:20260421T232908
CREATED:20230317T103129Z
LAST-MODIFIED:20230317T103129Z
UID:5488-1689379200-1689551999@www.tangahed.se
SUMMARY:Dalmatiner utställning
DESCRIPTION:
URL:http://www.tangahed.se/evenemang/dalmatiner-utstallning/
END:VEVENT
BEGIN:VEVENT
DTSTART;VALUE=DATE:20230716
DTEND;VALUE=DATE:20230717
DTSTAMP:20260421T232908
CREATED:20230317T103612Z
LAST-MODIFIED:20230317T103612Z
UID:5490-1689465600-1689551999@www.tangahed.se
SUMMARY:svenska Bassethound sällskapet utställning
DESCRIPTION:
URL:http://www.tangahed.se/evenemang/svenska-bassethound-sallskapet-utstallning/
END:VEVENT
BEGIN:VEVENT
DTSTART;VALUE=DATE:20230716
DTEND;VALUE=DATE:20230722
DTSTAMP:20260421T232908
CREATED:20230317T104429Z
LAST-MODIFIED:20230317T104429Z
UID:5492-1689465600-1689983999@www.tangahed.se
SUMMARY:Boxerläger
DESCRIPTION:
URL:http://www.tangahed.se/evenemang/boxerlager-2/
END:VEVENT
BEGIN:VEVENT
DTSTART;VALUE=DATE:20230725
DTEND;VALUE=DATE:20230727
DTSTAMP:20260421T232908
CREATED:20230317T105708Z
LAST-MODIFIED:20230619T113700Z
UID:5494-1690243200-1690415999@www.tangahed.se
SUMMARY:Pudel Nationalen
DESCRIPTION:
URL:http://www.tangahed.se/evenemang/pudel-nationalen/
END:VEVENT
BEGIN:VEVENT
DTSTART;VALUE=DATE:20230728
DTEND;VALUE=DATE:20230731
DTSTAMP:20260421T232908
CREATED:20230317T105831Z
LAST-MODIFIED:20230619T115717Z
UID:5496-1690502400-1690761599@www.tangahed.se
SUMMARY:SSM
DESCRIPTION:
URL:http://www.tangahed.se/evenemang/ssm-utstallning/
END:VEVENT
BEGIN:VEVENT
DTSTART;VALUE=DATE:20230729
DTEND;VALUE=DATE:20230731
DTSTAMP:20260421T232908
CREATED:20230317T110148Z
LAST-MODIFIED:20230317T110148Z
UID:5498-1690588800-1690761599@www.tangahed.se
SUMMARY:Vita Schäferhundklubben utställning
DESCRIPTION:
URL:http://www.tangahed.se/evenemang/vita-schaferhundklubben-utstallning/
END:VEVENT
END:VCALENDAR