BEGIN:VCALENDAR
VERSION:2.0
PRODID:-//Tånga Hed - ECPv6.15.20//NONSGML v1.0//EN
CALSCALE:GREGORIAN
METHOD:PUBLISH
X-ORIGINAL-URL:http://www.tangahed.se
X-WR-CALDESC:Händelser för Tånga Hed
REFRESH-INTERVAL;VALUE=DURATION:PT1H
X-Robots-Tag:noindex
X-PUBLISHED-TTL:PT1H
BEGIN:VTIMEZONE
TZID:Europe/Stockholm
BEGIN:DAYLIGHT
TZOFFSETFROM:+0100
TZOFFSETTO:+0200
TZNAME:CEST
DTSTART:20180325T010000
END:DAYLIGHT
BEGIN:STANDARD
TZOFFSETFROM:+0200
TZOFFSETTO:+0100
TZNAME:CET
DTSTART:20181028T010000
END:STANDARD
BEGIN:DAYLIGHT
TZOFFSETFROM:+0100
TZOFFSETTO:+0200
TZNAME:CEST
DTSTART:20190331T010000
END:DAYLIGHT
BEGIN:STANDARD
TZOFFSETFROM:+0200
TZOFFSETTO:+0100
TZNAME:CET
DTSTART:20191027T010000
END:STANDARD
BEGIN:DAYLIGHT
TZOFFSETFROM:+0100
TZOFFSETTO:+0200
TZNAME:CEST
DTSTART:20200329T010000
END:DAYLIGHT
BEGIN:STANDARD
TZOFFSETFROM:+0200
TZOFFSETTO:+0100
TZNAME:CET
DTSTART:20201025T010000
END:STANDARD
END:VTIMEZONE
BEGIN:VEVENT
DTSTART;VALUE=DATE:20190802
DTEND;VALUE=DATE:20190805
DTSTAMP:20260424T153543
CREATED:20190115T112816Z
LAST-MODIFIED:20190801T135526Z
UID:4751-1564704000-1564963199@www.tangahed.se
SUMMARY:Svenska Schappendoesklubben Utställning
DESCRIPTION:
URL:http://www.tangahed.se/evenemang/svenska-schappendoesklubben-utstallning/
END:VEVENT
BEGIN:VEVENT
DTSTART;VALUE=DATE:20190803
DTEND;VALUE=DATE:20190805
DTSTAMP:20260424T153543
CREATED:20190115T115704Z
LAST-MODIFIED:20190801T135605Z
UID:4753-1564790400-1564963199@www.tangahed.se
SUMMARY:Svenska Norwichterrierklubben Utställning
DESCRIPTION:
URL:http://www.tangahed.se/evenemang/svenska-norwichterrierklubben-utstallning/
LOCATION:Talldungen
END:VEVENT
BEGIN:VEVENT
DTSTART;VALUE=DATE:20190809
DTEND;VALUE=DATE:20190812
DTSTAMP:20260424T153543
CREATED:20190115T120116Z
LAST-MODIFIED:20190115T120116Z
UID:4755-1565308800-1565567999@www.tangahed.se
SUMMARY:Svenska Boxerklubben SM 2019
DESCRIPTION:
URL:http://www.tangahed.se/evenemang/svenska-boxerklubben-sm-2019/
LOCATION:Tånga Hed
END:VEVENT
BEGIN:VEVENT
DTSTART;VALUE=DATE:20190815
DTEND;VALUE=DATE:20190820
DTSTAMP:20260424T153543
CREATED:20190314T111230Z
LAST-MODIFIED:20190314T111230Z
UID:4820-1565827200-1566259199@www.tangahed.se
SUMMARY:VCK
DESCRIPTION:
URL:http://www.tangahed.se/evenemang/vck/
END:VEVENT
BEGIN:VEVENT
DTSTART;VALUE=DATE:20190817
DTEND;VALUE=DATE:20190818
DTSTAMP:20260424T153543
CREATED:20190115T121101Z
LAST-MODIFIED:20190812T113301Z
UID:4760-1566000000-1566086399@www.tangahed.se
SUMMARY:Västsvenska Taxklubben/Utställning
DESCRIPTION:
URL:http://www.tangahed.se/evenemang/vastsvenska-taxklubben-utstallning/
LOCATION:Kanonplan
END:VEVENT
BEGIN:VEVENT
DTSTART;VALUE=DATE:20190817
DTEND;VALUE=DATE:20190819
DTSTAMP:20260424T153543
CREATED:20190817T084655Z
LAST-MODIFIED:20190817T084655Z
UID:4907-1566000000-1566172799@www.tangahed.se
SUMMARY:Poolen stängd idag 17/8 och 18/8 pga dåligt väder\, vänliga hälsningar personalen
DESCRIPTION:
URL:http://www.tangahed.se/evenemang/poolen-stangd-idag-17-8-och-18-8-pga-daligt-vader-vanliga-halsningar-personalen/
END:VEVENT
BEGIN:VEVENT
DTSTART;VALUE=DATE:20190818
DTEND;VALUE=DATE:20190819
DTSTAMP:20260424T153543
CREATED:20190314T104659Z
LAST-MODIFIED:20190314T104659Z
UID:4818-1566086400-1566172799@www.tangahed.se
SUMMARY:Västsvenska älghundklubben utställning
DESCRIPTION:
URL:http://www.tangahed.se/evenemang/vastsvenska-alghundklubben-utstallning-2/
LOCATION:Kanonplan
END:VEVENT
BEGIN:VEVENT
DTSTART;VALUE=DATE:20190818
DTEND;VALUE=DATE:20190819
DTSTAMP:20260424T153543
CREATED:20190812T113834Z
LAST-MODIFIED:20190812T113834Z
UID:4892-1566086400-1566172799@www.tangahed.se
SUMMARY:Svenska Petit Basset Griffon
DESCRIPTION:Officiell utställning på Hemvärnsplan \n\n\n\n\n\n\n\nDomare: Anne-Cathryn Almstedt \n\nVarmt välkomna!
URL:http://www.tangahed.se/evenemang/svenska-petit-basset-griffon/
LOCATION:Hemvärnsplan
END:VEVENT
BEGIN:VEVENT
DTSTART;VALUE=DATE:20190822
DTEND;VALUE=DATE:20190826
DTSTAMP:20260424T153543
CREATED:20190115T135514Z
LAST-MODIFIED:20190115T135514Z
UID:4767-1566432000-1566777599@www.tangahed.se
SUMMARY:PR Husbilar Årsträff
DESCRIPTION:
URL:http://www.tangahed.se/evenemang/pr-husbilar-arstraff/
LOCATION:Tånga Hed
END:VEVENT
BEGIN:VEVENT
DTSTART;VALUE=DATE:20190823
DTEND;VALUE=DATE:20190825
DTSTAMP:20260424T153543
CREATED:20190115T121836Z
LAST-MODIFIED:20190115T121836Z
UID:4762-1566518400-1566691199@www.tangahed.se
SUMMARY:SBK Västra
DESCRIPTION:
URL:http://www.tangahed.se/evenemang/sbk-vastra/
LOCATION:Tånga Hed
END:VEVENT
BEGIN:VEVENT
DTSTART;VALUE=DATE:20190831
DTEND;VALUE=DATE:20190901
DTSTAMP:20260424T153543
CREATED:20190115T122501Z
LAST-MODIFIED:20190115T122501Z
UID:4764-1567209600-1567295999@www.tangahed.se
SUMMARY:Svenska Briardklubben
DESCRIPTION:”Bäst I Väst” \n\n\n\n\n\n\n\n\n\n\n\nEn svensk briard- och picardspecialutställning i Väst!
URL:http://www.tangahed.se/evenemang/svenska-briardklubben-3/
LOCATION:Talldungen
END:VEVENT
BEGIN:VEVENT
DTSTART;VALUE=DATE:20190831
DTEND;VALUE=DATE:20190901
DTSTAMP:20260424T153543
CREATED:20190115T135854Z
LAST-MODIFIED:20190115T135854Z
UID:4769-1567209600-1567295999@www.tangahed.se
SUMMARY:Radioamatörträff
DESCRIPTION:
URL:http://www.tangahed.se/evenemang/radioamatortraff-2/
LOCATION:Matsalen
END:VEVENT
BEGIN:VEVENT
DTSTART;TZID=Europe/Stockholm:20190901T143000
DTEND;TZID=Europe/Stockholm:20190901T174500
DTSTAMP:20260424T153543
CREATED:20181127T140859Z
LAST-MODIFIED:20181127T140859Z
UID:4517-1567348200-1567359900@www.tangahed.se
SUMMARY:Bilbingo
DESCRIPTION:Bilbingo på ”Bingoplan” utanför matsalen på Tånga. \nFikaservering. \nVälkomna!
URL:http://www.tangahed.se/evenemang/bilbingo-4/
LOCATION:Bingoplan
END:VEVENT
BEGIN:VEVENT
DTSTART;VALUE=DATE:20190905
DTEND;VALUE=DATE:20190910
DTSTAMP:20260424T153543
CREATED:20190314T114901Z
LAST-MODIFIED:20190314T114901Z
UID:4822-1567641600-1568073599@www.tangahed.se
SUMMARY:Kennel ENGELAIZ
DESCRIPTION:
URL:http://www.tangahed.se/evenemang/kennel-engelaiz/
END:VEVENT
BEGIN:VEVENT
DTSTART;VALUE=DATE:20190907
DTEND;VALUE=DATE:20190908
DTSTAMP:20260424T153543
CREATED:20190115T140243Z
LAST-MODIFIED:20190115T140243Z
UID:4771-1567814400-1567900799@www.tangahed.se
SUMMARY:Svenska Polarhundklubben
DESCRIPTION:
URL:http://www.tangahed.se/evenemang/svenska-polarhundklubben/
END:VEVENT
BEGIN:VEVENT
DTSTART;TZID=Europe/Stockholm:20190901T143000
DTEND;TZID=Europe/Stockholm:20190901T174500
DTSTAMP:20260424T153543
CREATED:20181127T140859Z
LAST-MODIFIED:20181127T140859Z
UID:4517-1567348200-1567359900@www.tangahed.se
SUMMARY:Bilbingo
DESCRIPTION:Bilbingo på ”Bingoplan” utanför matsalen på Tånga. \nFikaservering. \nVälkomna!
URL:http://www.tangahed.se/evenemang/bilbingo-4/
LOCATION:Bingoplan
END:VEVENT
BEGIN:VEVENT
DTSTART;TZID=Europe/Stockholm:20190901T143000
DTEND;TZID=Europe/Stockholm:20190901T174500
DTSTAMP:20260424T153543
CREATED:20181127T140859Z
LAST-MODIFIED:20181127T140859Z
UID:4517-1567348200-1567359900@www.tangahed.se
SUMMARY:Bilbingo
DESCRIPTION:Bilbingo på ”Bingoplan” utanför matsalen på Tånga. \nFikaservering. \nVälkomna!
URL:http://www.tangahed.se/evenemang/bilbingo-4/
LOCATION:Bingoplan
END:VEVENT
BEGIN:VEVENT
DTSTART;VALUE=DATE:20190919
DTEND;VALUE=DATE:20190922
DTSTAMP:20260424T153543
CREATED:20190115T142021Z
LAST-MODIFIED:20190902T133938Z
UID:4773-1568851200-1569110399@www.tangahed.se
SUMMARY:Riesen i Väst
DESCRIPTION:
URL:http://www.tangahed.se/evenemang/riesen-i-vast-hostlager-3/
LOCATION:Tånga Hed
END:VEVENT
BEGIN:VEVENT
DTSTART;TZID=Europe/Stockholm:20190901T143000
DTEND;TZID=Europe/Stockholm:20190901T174500
DTSTAMP:20260424T153543
CREATED:20181127T140859Z
LAST-MODIFIED:20181127T140859Z
UID:4517-1567348200-1567359900@www.tangahed.se
SUMMARY:Bilbingo
DESCRIPTION:Bilbingo på ”Bingoplan” utanför matsalen på Tånga. \nFikaservering. \nVälkomna!
URL:http://www.tangahed.se/evenemang/bilbingo-4/
LOCATION:Bingoplan
END:VEVENT
BEGIN:VEVENT
DTSTART;VALUE=DATE:20190927
DTEND;VALUE=DATE:20191001
DTSTAMP:20260424T153543
CREATED:20190314T115654Z
LAST-MODIFIED:20190314T115654Z
UID:4825-1569542400-1569887999@www.tangahed.se
SUMMARY:VLO
DESCRIPTION:
URL:http://www.tangahed.se/evenemang/vlo/
END:VEVENT
BEGIN:VEVENT
DTSTART;TZID=Europe/Stockholm:20190901T143000
DTEND;TZID=Europe/Stockholm:20190901T174500
DTSTAMP:20260424T153543
CREATED:20181127T140859Z
LAST-MODIFIED:20181127T140859Z
UID:4517-1567348200-1567359900@www.tangahed.se
SUMMARY:Bilbingo
DESCRIPTION:Bilbingo på ”Bingoplan” utanför matsalen på Tånga. \nFikaservering. \nVälkomna!
URL:http://www.tangahed.se/evenemang/bilbingo-4/
LOCATION:Bingoplan
END:VEVENT
BEGIN:VEVENT
DTSTART;VALUE=DATE:20191005
DTEND;VALUE=DATE:20191007
DTSTAMP:20260424T153543
CREATED:20190115T142951Z
LAST-MODIFIED:20190411T072901Z
UID:4778-1570233600-1570406399@www.tangahed.se
SUMMARY:Västsvenska Terrierklubben/Utställning
DESCRIPTION:
URL:http://www.tangahed.se/evenemang/vastsvenska-terrierklubben-utstallning-6/
LOCATION:Tångahallen
CATEGORIES:Tångahallen
END:VEVENT
BEGIN:VEVENT
DTSTART;TZID=Europe/Stockholm:20190901T143000
DTEND;TZID=Europe/Stockholm:20190901T174500
DTSTAMP:20260424T153543
CREATED:20181127T140859Z
LAST-MODIFIED:20181127T140859Z
UID:4517-1567348200-1567359900@www.tangahed.se
SUMMARY:Bilbingo
DESCRIPTION:Bilbingo på ”Bingoplan” utanför matsalen på Tånga. \nFikaservering. \nVälkomna!
URL:http://www.tangahed.se/evenemang/bilbingo-4/
LOCATION:Bingoplan
END:VEVENT
BEGIN:VEVENT
DTSTART;VALUE=DATE:20191011
DTEND;VALUE=DATE:20191014
DTSTAMP:20260424T153543
CREATED:20190314T123747Z
LAST-MODIFIED:20190314T123747Z
UID:4827-1570752000-1571011199@www.tangahed.se
SUMMARY:Ulricehamns Brukshundklubb
DESCRIPTION:
URL:http://www.tangahed.se/evenemang/ulricehamns-brukshundklubb/
END:VEVENT
BEGIN:VEVENT
DTSTART;TZID=Europe/Stockholm:20190901T143000
DTEND;TZID=Europe/Stockholm:20190901T174500
DTSTAMP:20260424T153543
CREATED:20181127T140859Z
LAST-MODIFIED:20181127T140859Z
UID:4517-1567348200-1567359900@www.tangahed.se
SUMMARY:Bilbingo
DESCRIPTION:Bilbingo på ”Bingoplan” utanför matsalen på Tånga. \nFikaservering. \nVälkomna!
URL:http://www.tangahed.se/evenemang/bilbingo-4/
LOCATION:Bingoplan
END:VEVENT
BEGIN:VEVENT
DTSTART;TZID=Europe/Stockholm:20190901T143000
DTEND;TZID=Europe/Stockholm:20190901T174500
DTSTAMP:20260424T153543
CREATED:20181127T140859Z
LAST-MODIFIED:20181127T140859Z
UID:4517-1567348200-1567359900@www.tangahed.se
SUMMARY:Bilbingo
DESCRIPTION:Bilbingo på ”Bingoplan” utanför matsalen på Tånga. \nFikaservering. \nVälkomna!
URL:http://www.tangahed.se/evenemang/bilbingo-4/
LOCATION:Bingoplan
END:VEVENT
BEGIN:VEVENT
DTSTART;VALUE=DATE:20191026
DTEND;VALUE=DATE:20191027
DTSTAMP:20260424T153543
CREATED:20190115T145855Z
LAST-MODIFIED:20190115T145855Z
UID:4783-1572048000-1572134399@www.tangahed.se
SUMMARY:Svenska yorkshireterrierklubben/Utställning
DESCRIPTION:
URL:http://www.tangahed.se/evenemang/svenska-yorkshireterrierklubben-utstallning/
LOCATION:Matsalen\, Tånga Hed\, Sverige
END:VEVENT
BEGIN:VEVENT
DTSTART;TZID=Europe/Stockholm:20190901T143000
DTEND;TZID=Europe/Stockholm:20190901T174500
DTSTAMP:20260424T153543
CREATED:20181127T140859Z
LAST-MODIFIED:20181127T140859Z
UID:4517-1567348200-1567359900@www.tangahed.se
SUMMARY:Bilbingo
DESCRIPTION:Bilbingo på ”Bingoplan” utanför matsalen på Tånga. \nFikaservering. \nVälkomna!
URL:http://www.tangahed.se/evenemang/bilbingo-4/
LOCATION:Bingoplan
END:VEVENT
BEGIN:VEVENT
DTSTART;TZID=Europe/Stockholm:20191027T143000
DTEND;TZID=Europe/Stockholm:20191027T174500
DTSTAMP:20260424T153543
CREATED:20181127T140859Z
LAST-MODIFIED:20230829T080505Z
UID:4526-1572186600-1572198300@www.tangahed.se
SUMMARY:Bilbingo
DESCRIPTION:Bilbingo på ”Bingoplan” utanför matsalen på Tånga. \nFikaservering. \nVälkomna!
URL:http://www.tangahed.se/evenemang/bilbingo-4-2019-10-27/
LOCATION:Bingoplan
END:VEVENT
BEGIN:VEVENT
DTSTART;VALUE=DATE:20191101
DTEND;VALUE=DATE:20191103
DTSTAMP:20260424T153543
CREATED:20190115T150617Z
LAST-MODIFIED:20190115T150617Z
UID:4785-1572566400-1572739199@www.tangahed.se
SUMMARY:Fotofestival i Vårgårda Centrum
DESCRIPTION:Fotofestivalen i Vårgårda.\nUtställningen kommer hållas på Kulturen och sporthallen i Vårgårda medan mingel samt middag kommer hållas på Tånga.\nLäs mer på Vårgårda fotoklubbs naturfotofestival \nboka ditt boende på Tånga Hed! \nVarmt välkomna!
URL:http://www.tangahed.se/evenemang/fotofestival-i-vargarda-centrum-2/
END:VEVENT
END:VCALENDAR