BEGIN:VCALENDAR
VERSION:2.0
PRODID:-//Tånga Hed - ECPv6.15.20//NONSGML v1.0//EN
CALSCALE:GREGORIAN
METHOD:PUBLISH
X-ORIGINAL-URL:http://www.tangahed.se
X-WR-CALDESC:Händelser för Tånga Hed
REFRESH-INTERVAL;VALUE=DURATION:PT1H
X-Robots-Tag:noindex
X-PUBLISHED-TTL:PT1H
BEGIN:VTIMEZONE
TZID:Europe/Stockholm
BEGIN:DAYLIGHT
TZOFFSETFROM:+0100
TZOFFSETTO:+0200
TZNAME:CEST
DTSTART:20170326T010000
END:DAYLIGHT
BEGIN:STANDARD
TZOFFSETFROM:+0200
TZOFFSETTO:+0100
TZNAME:CET
DTSTART:20171029T010000
END:STANDARD
BEGIN:DAYLIGHT
TZOFFSETFROM:+0100
TZOFFSETTO:+0200
TZNAME:CEST
DTSTART:20180325T010000
END:DAYLIGHT
BEGIN:STANDARD
TZOFFSETFROM:+0200
TZOFFSETTO:+0100
TZNAME:CET
DTSTART:20181028T010000
END:STANDARD
BEGIN:DAYLIGHT
TZOFFSETFROM:+0100
TZOFFSETTO:+0200
TZNAME:CEST
DTSTART:20190331T010000
END:DAYLIGHT
BEGIN:STANDARD
TZOFFSETFROM:+0200
TZOFFSETTO:+0100
TZNAME:CET
DTSTART:20191027T010000
END:STANDARD
END:VTIMEZONE
BEGIN:VEVENT
DTSTART;VALUE=DATE:20180601
DTEND;VALUE=DATE:20180604
DTSTAMP:20260425T125828
CREATED:20170208T130547Z
LAST-MODIFIED:20180122T130511Z
UID:2860-1527811200-1528070399@www.tangahed.se
SUMMARY:GTM Gothenburg Truck Meet
DESCRIPTION:
URL:http://www.tangahed.se/evenemang/gtm-gothenburg-truck-meet/
LOCATION:Tånga Hed
END:VEVENT
BEGIN:VEVENT
DTSTART;TZID=Europe/Stockholm:20180601T100000
DTEND;TZID=Europe/Stockholm:20180601T160000
DTSTAMP:20260425T125828
CREATED:20180531T082742Z
LAST-MODIFIED:20180531T082742Z
UID:3642-1527847200-1527868800@www.tangahed.se
SUMMARY:Smystart på poolen
DESCRIPTION:Nu äntligen:)\nVi har jobbat hårt för att få färdigt vår härliga pool så fort som möjligt när värmen kom.\nNu är den klar och vi bjuder på GRATIS bad torsdag-fredag 10\,00-16\,00 v 22 (lördag-söndag stängt)\nsamt GRATIS bad måndag-onsdag v 23 (OBS! lördag-söndag stängt)\nVarmt Välkomna!
URL:http://www.tangahed.se/evenemang/smystart-pa-poolen/
END:VEVENT
BEGIN:VEVENT
DTSTART;TZID=Europe/Stockholm:20180606T100000
DTEND;TZID=Europe/Stockholm:20180606T130000
DTSTAMP:20260425T125828
CREATED:20180209T141018Z
LAST-MODIFIED:20180531T083136Z
UID:3545-1528279200-1528290000@www.tangahed.se
SUMMARY:Nationaldags firande
DESCRIPTION:Varmt välkomna att fira Sveriges Nationaldag med oss kl 11\,00-13\,00
URL:http://www.tangahed.se/evenemang/nationaldags-firande/
END:VEVENT
BEGIN:VEVENT
DTSTART;VALUE=DATE:20180609
DTEND;VALUE=DATE:20180610
DTSTAMP:20260425T125828
CREATED:20170208T130648Z
LAST-MODIFIED:20180122T130851Z
UID:2861-1528502400-1528588799@www.tangahed.se
SUMMARY:Nostalgifestivalen
DESCRIPTION:
URL:http://www.tangahed.se/evenemang/nostalgifestivalen/
LOCATION:Tånga Hed
END:VEVENT
BEGIN:VEVENT
DTSTART;VALUE=DATE:20180616
DTEND;VALUE=DATE:20180618
DTSTAMP:20260425T125828
CREATED:20170208T133451Z
LAST-MODIFIED:20180122T131858Z
UID:2864-1529107200-1529279999@www.tangahed.se
SUMMARY:Vinthundklubben
DESCRIPTION:
URL:http://www.tangahed.se/evenemang/vinthundklubben/
LOCATION:Kanonplan
END:VEVENT
BEGIN:VEVENT
DTSTART;TZID=Europe/Stockholm:20180621T100000
DTEND;TZID=Europe/Stockholm:20180621T190000
DTSTAMP:20260425T125828
CREATED:20180620T111819Z
LAST-MODIFIED:20180620T111819Z
UID:4347-1529575200-1529607600@www.tangahed.se
SUMMARY:Gratis midsommarpool
DESCRIPTION:
URL:http://www.tangahed.se/evenemang/gratis-midsommarpool-4/
END:VEVENT
BEGIN:VEVENT
DTSTART;VALUE=DATE:20180622
DTEND;VALUE=DATE:20180625
DTSTAMP:20260425T125828
CREATED:20170208T134723Z
LAST-MODIFIED:20180122T140854Z
UID:2865-1529625600-1529884799@www.tangahed.se
SUMMARY:Bruksläger Varberg
DESCRIPTION:
URL:http://www.tangahed.se/evenemang/brukslager-varberg/
LOCATION:Talldungen
END:VEVENT
BEGIN:VEVENT
DTSTART;TZID=Europe/Stockholm:20180625T080000
DTEND;TZID=Europe/Stockholm:20180625T130000
DTSTAMP:20260425T125828
CREATED:20180619T171403Z
LAST-MODIFIED:20180619T173126Z
UID:4329-1529913600-1529931600@www.tangahed.se
SUMMARY:Sommarsimskola 8-13\,00
DESCRIPTION:Öppet för allmänheten från 13\,00 \nVälkomna!
URL:http://www.tangahed.se/evenemang/sommarsimskola-8-1300/
END:VEVENT
BEGIN:VEVENT
DTSTART;TZID=Europe/Stockholm:20180626T080000
DTEND;TZID=Europe/Stockholm:20180626T130000
DTSTAMP:20260425T125828
CREATED:20180619T172825Z
LAST-MODIFIED:20180619T172825Z
UID:4331-1530000000-1530018000@www.tangahed.se
SUMMARY:Sommarsimskola 8-13\,00
DESCRIPTION:Öppet för allmänheten från 13\,00 \nVälkomna!
URL:http://www.tangahed.se/evenemang/sommarsimskola-8-1300-2/
END:VEVENT
BEGIN:VEVENT
DTSTART;TZID=Europe/Stockholm:20180627T080000
DTEND;TZID=Europe/Stockholm:20180627T130000
DTSTAMP:20260425T125828
CREATED:20180619T173006Z
LAST-MODIFIED:20180619T173006Z
UID:4333-1530086400-1530104400@www.tangahed.se
SUMMARY:Sommarsimskola 8-13\,00
DESCRIPTION:Öppet för allmänheten från 13\,00 \nVälkomna!
URL:http://www.tangahed.se/evenemang/sommarsimskola-8-1300-3/
END:VEVENT
BEGIN:VEVENT
DTSTART;TZID=Europe/Stockholm:20180628T080000
DTEND;TZID=Europe/Stockholm:20180628T130000
DTSTAMP:20260425T125828
CREATED:20180619T173234Z
LAST-MODIFIED:20180619T173234Z
UID:4336-1530172800-1530190800@www.tangahed.se
SUMMARY:Sommarsimskola 8-13\,00
DESCRIPTION:Öppet för allmänheten från 13\,00 \nVälkomna!
URL:http://www.tangahed.se/evenemang/sommarsimskola-8-1300-4/
END:VEVENT
BEGIN:VEVENT
DTSTART;VALUE=DATE:20180629
DTEND;VALUE=DATE:20180702
DTSTAMP:20260425T125828
CREATED:20170209T074144Z
LAST-MODIFIED:20180122T141500Z
UID:2873-1530230400-1530489599@www.tangahed.se
SUMMARY:Amerikansk bulldog
DESCRIPTION:Utställning
URL:http://www.tangahed.se/evenemang/amerikansk-bulldog-2/
LOCATION:Kanonplan
END:VEVENT
BEGIN:VEVENT
DTSTART;TZID=Europe/Stockholm:20180629T080000
DTEND;TZID=Europe/Stockholm:20180629T130000
DTSTAMP:20260425T125828
CREATED:20180619T173324Z
LAST-MODIFIED:20180619T173324Z
UID:4338-1530259200-1530277200@www.tangahed.se
SUMMARY:Sommarsimskola 8-13\,00
DESCRIPTION:Öppet för allmänheten från 13\,00 \nVälkomna!
URL:http://www.tangahed.se/evenemang/sommarsimskola-8-1300-5/
END:VEVENT
BEGIN:VEVENT
DTSTART;VALUE=DATE:20180630
DTEND;VALUE=DATE:20180701
DTSTAMP:20260425T125828
CREATED:20180122T142316Z
LAST-MODIFIED:20180122T142505Z
UID:3271-1530316800-1530403199@www.tangahed.se
SUMMARY:Specialklubben för Shih Tzu
DESCRIPTION:Utställning
URL:http://www.tangahed.se/evenemang/specialklubben-for-shih-tzu/
LOCATION:Talldungen
END:VEVENT
BEGIN:VEVENT
DTSTART;VALUE=DATE:20180707
DTEND;VALUE=DATE:20180708
DTSTAMP:20260425T125828
CREATED:20180705T163746Z
LAST-MODIFIED:20180705T163746Z
UID:4384-1530921600-1531007999@www.tangahed.se
SUMMARY:Fotbollsfest-Storbildstv
DESCRIPTION:
URL:http://www.tangahed.se/evenemang/fotbollsfest-storbildstv/
LOCATION:Tångahallen
END:VEVENT
BEGIN:VEVENT
DTSTART;VALUE=DATE:20180707
DTEND;VALUE=DATE:20180709
DTSTAMP:20260425T125828
CREATED:20150129T125838Z
LAST-MODIFIED:20180131T115528Z
UID:1592-1530921600-1531094399@www.tangahed.se
SUMMARY:Svenska Kromfohrländerklubben - Utställning
DESCRIPTION:Utställning och årsmöte (mässen)
URL:http://www.tangahed.se/evenemang/svenska-kromfohrlanderklubben-utstallning/
LOCATION:Talldungen
END:VEVENT
BEGIN:VEVENT
DTSTART;VALUE=DATE:20180707
DTEND;VALUE=DATE:20180709
DTSTAMP:20260425T125828
CREATED:20170208T150037Z
LAST-MODIFIED:20180131T114949Z
UID:2872-1530921600-1531094399@www.tangahed.se
SUMMARY:Vita Schäferhundklubben
DESCRIPTION:Utställning
URL:http://www.tangahed.se/evenemang/vita-schaferhundsklubben-3/
LOCATION:Kanonplan
END:VEVENT
BEGIN:VEVENT
DTSTART;VALUE=DATE:20180712
DTEND;VALUE=DATE:20180713
DTSTAMP:20260425T125828
CREATED:20180122T143508Z
LAST-MODIFIED:20180122T143508Z
UID:3272-1531353600-1531439999@www.tangahed.se
SUMMARY:Specialklubben för Bearded collie
DESCRIPTION:Utställning
URL:http://www.tangahed.se/evenemang/specialklubben-for-bearded-collie/
LOCATION:Kanonplan
END:VEVENT
BEGIN:VEVENT
DTSTART;VALUE=DATE:20180714
DTEND;VALUE=DATE:20180715
DTSTAMP:20260425T125828
CREATED:20180122T143612Z
LAST-MODIFIED:20180122T143612Z
UID:3273-1531526400-1531612799@www.tangahed.se
SUMMARY:Specialklubben för Bearded collie
DESCRIPTION:Utställning
URL:http://www.tangahed.se/evenemang/specialklubben-for-bearded-collie-2/
LOCATION:Kanonplan
END:VEVENT
BEGIN:VEVENT
DTSTART;VALUE=DATE:20180714
DTEND;VALUE=DATE:20180716
DTSTAMP:20260425T125828
CREATED:20170209T075441Z
LAST-MODIFIED:20180122T143859Z
UID:2874-1531526400-1531699199@www.tangahed.se
SUMMARY:Svenska Dalmatiner-sällskapet
DESCRIPTION:Utställning
URL:http://www.tangahed.se/evenemang/svenska-dalmatiner-sallskapet/
LOCATION:Talldungen
END:VEVENT
BEGIN:VEVENT
DTSTART;VALUE=DATE:20180714
DTEND;VALUE=DATE:20180716
DTSTAMP:20260425T125828
CREATED:20180122T144615Z
LAST-MODIFIED:20180122T144615Z
UID:3274-1531526400-1531699199@www.tangahed.se
SUMMARY:Basset Hound
DESCRIPTION:Utställning
URL:http://www.tangahed.se/evenemang/basset-hound/
LOCATION:Bingoplan
END:VEVENT
BEGIN:VEVENT
DTSTART;TZID=Europe/Stockholm:20180715T080000
DTEND;TZID=Europe/Stockholm:20180721T170000
DTSTAMP:20260425T125828
CREATED:20170707T105925Z
LAST-MODIFIED:20180131T120056Z
UID:3048-1531641600-1532192400@www.tangahed.se
SUMMARY:Boxerläger 2018
DESCRIPTION:
URL:http://www.tangahed.se/evenemang/boxerlager-2017/
END:VEVENT
BEGIN:VEVENT
DTSTART;VALUE=DATE:20180724
DTEND;VALUE=DATE:20180812
DTSTAMP:20260425T125828
CREATED:20180724T101159Z
LAST-MODIFIED:20180725T165537Z
UID:4395-1532390400-1534031999@www.tangahed.se
SUMMARY:TOTALT Grill-och eldningsförbud
DESCRIPTION:Totalt grill- och eldningsförbud i hela länet \nDet råder totalt grill- och eldningsförbud i hela Västra Götalands län från och med kl 16.00 idag\, den 25 juli. Det har Länsstyrelsen i Västra Götaland beslutat. Förbudet gäller alla typer av grillar och bränslen på alla platser. Förbudet gäller alltså även grillning i egen trädgård. \nTänk också på att vara försiktig med övriga saker som kan utgöra en brandrisk\, t.ex cigarettfimpar\, verktyg mm. \n  \nTack för din visade hänsyn! \nPS för mer information besök gärna www.avrf.se \nVänliga hälsningar \nPersonalen på Tånga Hed
URL:http://www.tangahed.se/evenemang/grill-och-eldningsforbud/
END:VEVENT
BEGIN:VEVENT
DTSTART;VALUE=DATE:20180726
DTEND;VALUE=DATE:20180730
DTSTAMP:20260425T125828
CREATED:20160121T131921Z
LAST-MODIFIED:20230829T081116Z
UID:2268-1532563200-1532908799@www.tangahed.se
SUMMARY:Schäferhund SM
DESCRIPTION:
URL:http://www.tangahed.se/evenemang/schaferhund-sm/
LOCATION:Tånga Hed IP
END:VEVENT
BEGIN:VEVENT
DTSTART;VALUE=DATE:20180726
DTEND;VALUE=DATE:20180730
DTSTAMP:20260425T125828
CREATED:20160121T131921Z
LAST-MODIFIED:20230829T081116Z
UID:2268-1532563200-1532908799@www.tangahed.se
SUMMARY:Schäferhund SM
DESCRIPTION:
URL:http://www.tangahed.se/evenemang/schaferhund-sm/
LOCATION:Tånga Hed IP
END:VEVENT
BEGIN:VEVENT
DTSTART;VALUE=DATE:20180726
DTEND;VALUE=DATE:20180730
DTSTAMP:20260425T125828
CREATED:20160121T131921Z
LAST-MODIFIED:20230829T081116Z
UID:2268-1532563200-1532908799@www.tangahed.se
SUMMARY:Schäferhund SM
DESCRIPTION:
URL:http://www.tangahed.se/evenemang/schaferhund-sm/
LOCATION:Tånga Hed IP
END:VEVENT
BEGIN:VEVENT
DTSTART;VALUE=DATE:20180726
DTEND;VALUE=DATE:20180730
DTSTAMP:20260425T125828
CREATED:20160121T131921Z
LAST-MODIFIED:20230829T081116Z
UID:2268-1532563200-1532908799@www.tangahed.se
SUMMARY:Schäferhund SM
DESCRIPTION:
URL:http://www.tangahed.se/evenemang/schaferhund-sm/
LOCATION:Tånga Hed IP
END:VEVENT
BEGIN:VEVENT
DTSTART;VALUE=DATE:20180803
DTEND;VALUE=DATE:20180806
DTSTAMP:20260425T125828
CREATED:20160121T132427Z
LAST-MODIFIED:20180724T093719Z
UID:2271-1533254400-1533513599@www.tangahed.se
SUMMARY:Svenska Schappendoes Klubben rasspecial
DESCRIPTION:2018 European Schapendoes show \nCaféet är öppet 10\,00-16\,00 med lunchservering 12\,00-14\,00 \nVarmt Välkomna!
URL:http://www.tangahed.se/evenemang/schapendoes-klubben/
LOCATION:Kanonplan
END:VEVENT
BEGIN:VEVENT
DTSTART;VALUE=DATE:20180803
DTEND;VALUE=DATE:20180806
DTSTAMP:20260425T125828
CREATED:20180205T144004Z
LAST-MODIFIED:20180724T093917Z
UID:3489-1533254400-1533513599@www.tangahed.se
SUMMARY:Rasklubben för Dansk-Svensk gårdshund
DESCRIPTION:Rasspecial 2018 \nCaféet är öppet 10\,00-16\,00 med lunchservering 12\,00-14\,00 \nVarmt Välkomna!
URL:http://www.tangahed.se/evenemang/rasklubben-for-dansk-svensk-gardshund/
LOCATION:Talldungen
END:VEVENT
BEGIN:VEVENT
DTSTART;VALUE=DATE:20180806
DTEND;VALUE=DATE:20180827
DTSTAMP:20260425T125828
CREATED:20140507T085826Z
LAST-MODIFIED:20180205T144453Z
UID:867-1533513600-1535327999@www.tangahed.se
SUMMARY:Vårgårda Möte
DESCRIPTION:Vårgårda Möte. Partiledarutfrågningar i Tångahallen inför riksdagsvalet 2018.
URL:http://www.tangahed.se/evenemang/vargarda-mote/
END:VEVENT
END:VCALENDAR