BEGIN:VCALENDAR
VERSION:2.0
PRODID:-//Tånga Hed - ECPv6.15.20//NONSGML v1.0//EN
CALSCALE:GREGORIAN
METHOD:PUBLISH
X-ORIGINAL-URL:http://www.tangahed.se
X-WR-CALDESC:Händelser för Tånga Hed
REFRESH-INTERVAL;VALUE=DURATION:PT1H
X-Robots-Tag:noindex
X-PUBLISHED-TTL:PT1H
BEGIN:VTIMEZONE
TZID:Europe/Stockholm
BEGIN:DAYLIGHT
TZOFFSETFROM:+0100
TZOFFSETTO:+0200
TZNAME:CEST
DTSTART:20170326T010000
END:DAYLIGHT
BEGIN:STANDARD
TZOFFSETFROM:+0200
TZOFFSETTO:+0100
TZNAME:CET
DTSTART:20171029T010000
END:STANDARD
BEGIN:DAYLIGHT
TZOFFSETFROM:+0100
TZOFFSETTO:+0200
TZNAME:CEST
DTSTART:20180325T010000
END:DAYLIGHT
BEGIN:STANDARD
TZOFFSETFROM:+0200
TZOFFSETTO:+0100
TZNAME:CET
DTSTART:20181028T010000
END:STANDARD
BEGIN:DAYLIGHT
TZOFFSETFROM:+0100
TZOFFSETTO:+0200
TZNAME:CEST
DTSTART:20190331T010000
END:DAYLIGHT
BEGIN:STANDARD
TZOFFSETFROM:+0200
TZOFFSETTO:+0100
TZNAME:CET
DTSTART:20191027T010000
END:STANDARD
END:VTIMEZONE
BEGIN:VEVENT
DTSTART;TZID=Europe/Stockholm:20180402T170000
DTEND;TZID=Europe/Stockholm:20180402T210000
DTSTAMP:20260425T160334
CREATED:20170206T133343Z
LAST-MODIFIED:20180115T131256Z
UID:2354-1522688400-1522702800@www.tangahed.se
SUMMARY:Korpbowling träning
DESCRIPTION:
URL:http://www.tangahed.se/evenemang/korpbowling-traning/
LOCATION:Bowlingen
END:VEVENT
BEGIN:VEVENT
DTSTART;TZID=Europe/Stockholm:20180403T170000
DTEND;TZID=Europe/Stockholm:20180403T220000
DTSTAMP:20260425T160334
CREATED:20180115T150138Z
LAST-MODIFIED:20180115T150230Z
UID:3217-1522774800-1522792800@www.tangahed.se
SUMMARY:Korpen seriespel
DESCRIPTION:Korpen Seriespel 17-22
URL:http://www.tangahed.se/evenemang/korpen-seriespel-9/
LOCATION:Bowlingen
END:VEVENT
BEGIN:VEVENT
DTSTART;VALUE=DATE:20180406
DTEND;VALUE=DATE:20180409
DTSTAMP:20260425T160334
CREATED:20180205T134537Z
LAST-MODIFIED:20180205T134537Z
UID:3294-1522972800-1523231999@www.tangahed.se
SUMMARY:Tölö IF P04 Träningsläger
DESCRIPTION:
URL:http://www.tangahed.se/evenemang/tolo-if-p04-traningslager/
END:VEVENT
BEGIN:VEVENT
DTSTART;VALUE=DATE:20180406
DTEND;VALUE=DATE:20180409
DTSTAMP:20260425T160334
CREATED:20180205T134622Z
LAST-MODIFIED:20180205T134622Z
UID:3296-1522972800-1523231999@www.tangahed.se
SUMMARY:Jula BK Dam Träningsläger
DESCRIPTION:
URL:http://www.tangahed.se/evenemang/jula-bk-dam-traningslager/
END:VEVENT
BEGIN:VEVENT
DTSTART;VALUE=DATE:20180413
DTEND;VALUE=DATE:20180416
DTSTAMP:20260425T160334
CREATED:20170206T143750Z
LAST-MODIFIED:20180116T083431Z
UID:2840-1523577600-1523836799@www.tangahed.se
SUMMARY:Potatis cupen
DESCRIPTION:Alingsås Handbollsklubb AHK
URL:http://www.tangahed.se/evenemang/potatis-cupen/
END:VEVENT
BEGIN:VEVENT
DTSTART;VALUE=DATE:20180414
DTEND;VALUE=DATE:20180415
DTSTAMP:20260425T160334
CREATED:20180116T090114Z
LAST-MODIFIED:20180116T090114Z
UID:3237-1523664000-1523750399@www.tangahed.se
SUMMARY:Svenska kaninavelsföreningars riksförening
DESCRIPTION:
URL:http://www.tangahed.se/evenemang/svenska-kaninavelsforeningars-riksforening/
END:VEVENT
BEGIN:VEVENT
DTSTART;TZID=Europe/Stockholm:20180414T120000
DTEND;TZID=Europe/Stockholm:20180414T200000
DTSTAMP:20260425T160334
CREATED:20180115T150400Z
LAST-MODIFIED:20180115T150504Z
UID:3218-1523707200-1523736000@www.tangahed.se
SUMMARY:Korpen rankingfinal
DESCRIPTION:Korpen rankingfinal 12\,00-20\,00
URL:http://www.tangahed.se/evenemang/korpen-slutspel/
LOCATION:Bowlingen
END:VEVENT
BEGIN:VEVENT
DTSTART;TZID=Europe/Stockholm:20180415T143000
DTEND;TZID=Europe/Stockholm:20180415T174500
DTSTAMP:20260425T160334
CREATED:20160121T135034Z
LAST-MODIFIED:20180411T102822Z
UID:3229-1523802600-1523814300@www.tangahed.se
SUMMARY:Bilbingo
DESCRIPTION:Bilbingo på ”Bingoplan” utanför matasalen på Tånga. Välkomna!
URL:http://www.tangahed.se/evenemang/bilbingo-4-2018-04-08/
LOCATION:Bingoplan
END:VEVENT
BEGIN:VEVENT
DTSTART;VALUE=DATE:20180420
DTEND;VALUE=DATE:20180423
DTSTAMP:20260425T160334
CREATED:20180205T134826Z
LAST-MODIFIED:20180205T134826Z
UID:3298-1524182400-1524441599@www.tangahed.se
SUMMARY:Grums Hockeyläger
DESCRIPTION:
URL:http://www.tangahed.se/evenemang/grums-hockeylager/
END:VEVENT
BEGIN:VEVENT
DTSTART;VALUE=DATE:20180421
DTEND;VALUE=DATE:20180423
DTSTAMP:20260425T160334
CREATED:20180116T091916Z
LAST-MODIFIED:20180116T091946Z
UID:3238-1524268800-1524441599@www.tangahed.se
SUMMARY:Svenska Collieklubben Väst Läger
DESCRIPTION:vardagslydnad\, rallylydnad\, brukslydnad\, tävlingslydnad\, nose work och agilitygrupper. Allt från nybörjare till elit satsande!
URL:http://www.tangahed.se/evenemang/svenska-collieklubben-vast-lager/
END:VEVENT
BEGIN:VEVENT
DTSTART;TZID=Europe/Stockholm:20180422T143000
DTEND;TZID=Europe/Stockholm:20180422T174500
DTSTAMP:20260425T160334
CREATED:20160121T135034Z
LAST-MODIFIED:20180411T102741Z
UID:3231-1524407400-1524419100@www.tangahed.se
SUMMARY:Bilbingo
DESCRIPTION:Bilbingo på ”Bingoplan” utanför matasalen på Tånga. Välkomna!
URL:http://www.tangahed.se/evenemang/bilbingo-4-2018-04-08-2018-04-22/
LOCATION:Bingoplan
END:VEVENT
BEGIN:VEVENT
DTSTART;VALUE=DATE:20180426
DTEND;VALUE=DATE:20180502
DTSTAMP:20260425T160334
CREATED:20160120T151952Z
LAST-MODIFIED:20180116T092550Z
UID:2232-1524700800-1525219199@www.tangahed.se
SUMMARY:Riesen i väst Vårläger
DESCRIPTION:
URL:http://www.tangahed.se/evenemang/riesen-i-vast-varlager-3/
END:VEVENT
BEGIN:VEVENT
DTSTART;VALUE=DATE:20180427
DTEND;VALUE=DATE:20180501
DTSTAMP:20260425T160334
CREATED:20160121T143635Z
LAST-MODIFIED:20180116T092340Z
UID:2314-1524787200-1525132799@www.tangahed.se
SUMMARY:Countryhack LAN i Tångahallen
DESCRIPTION:
URL:http://www.tangahed.se/evenemang/countryhack-lan-i-tangahallen/
LOCATION:Tångahallen
END:VEVENT
BEGIN:VEVENT
DTSTART;TZID=Europe/Stockholm:20180429T143000
DTEND;TZID=Europe/Stockholm:20180429T174500
DTSTAMP:20260425T160334
CREATED:20160121T135034Z
LAST-MODIFIED:20180411T102700Z
UID:3232-1525012200-1525023900@www.tangahed.se
SUMMARY:Bilbingo
DESCRIPTION:Bilbingo på ”Bingoplan” utanför matasalen på Tånga. Välkomna!
URL:http://www.tangahed.se/evenemang/bilbingo-4-2018-04-08-2018-04-29/
LOCATION:Bingoplan
END:VEVENT
BEGIN:VEVENT
DTSTART;VALUE=DATE:20180504
DTEND;VALUE=DATE:20180507
DTSTAMP:20260425T160334
CREATED:20141217T212550Z
LAST-MODIFIED:20180116T093437Z
UID:1518-1525392000-1525651199@www.tangahed.se
SUMMARY:Club Berger de Pyreneés\, Rasträff 2018
DESCRIPTION:
URL:http://www.tangahed.se/evenemang/club-berger-de-pyrenees-utstallning/
END:VEVENT
BEGIN:VEVENT
DTSTART;TZID=Europe/Stockholm:20180506T143000
DTEND;TZID=Europe/Stockholm:20180506T174500
DTSTAMP:20260425T160334
CREATED:20160121T135034Z
LAST-MODIFIED:20180411T102606Z
UID:3233-1525617000-1525628700@www.tangahed.se
SUMMARY:Bilbingo
DESCRIPTION:Bilbingo på ”Bingoplan” utanför matasalen på Tånga. Välkomna!
URL:http://www.tangahed.se/evenemang/bilbingo-4-2018-04-08-2018-05-06/
LOCATION:Bingoplan
END:VEVENT
BEGIN:VEVENT
DTSTART;VALUE=DATE:20180510
DTEND;VALUE=DATE:20180511
DTSTAMP:20260425T160334
CREATED:20141217T212811Z
LAST-MODIFIED:20230829T080952Z
UID:1520-1525910400-1525996799@www.tangahed.se
SUMMARY:Svenska specialklubben för Tibetanska raser\, utställning
DESCRIPTION:
URL:http://www.tangahed.se/evenemang/svenska-specialklubben-for-tibetanska-raser-utstallning/
LOCATION:Kanonplan
END:VEVENT
BEGIN:VEVENT
DTSTART;VALUE=DATE:20180510
DTEND;VALUE=DATE:20180511
DTSTAMP:20260425T160334
CREATED:20160121T074507Z
LAST-MODIFIED:20180116T094223Z
UID:2239-1525910400-1525996799@www.tangahed.se
SUMMARY:Specialklubben för Västgöta Spets Utställning
DESCRIPTION:
URL:http://www.tangahed.se/evenemang/specialklubben-for-vastgota-spets-utstallning/
LOCATION:Talldungen
END:VEVENT
BEGIN:VEVENT
DTSTART;VALUE=DATE:20180511
DTEND;VALUE=DATE:20180512
DTSTAMP:20260425T160334
CREATED:20180427T115842Z
LAST-MODIFIED:20180427T115842Z
UID:3629-1525996800-1526083199@www.tangahed.se
SUMMARY:Svenska specialklubben för Tibetanska raser\, utställning
DESCRIPTION:
URL:http://www.tangahed.se/evenemang/svenska-specialklubben-for-tibetanska-raser-utstallning-2/
LOCATION:Kanonplan
END:VEVENT
BEGIN:VEVENT
DTSTART;VALUE=DATE:20180512
DTEND;VALUE=DATE:20180513
DTSTAMP:20260425T160334
CREATED:20160121T075235Z
LAST-MODIFIED:20230829T081023Z
UID:2243-1526083200-1526169599@www.tangahed.se
SUMMARY:Dandy Dinmont Terrierutställning
DESCRIPTION:Talldungen
URL:http://www.tangahed.se/evenemang/dandy-dinmont-terrierutstallning/
LOCATION:Talldungen
END:VEVENT
BEGIN:VEVENT
DTSTART;VALUE=DATE:20180512
DTEND;VALUE=DATE:20180513
DTSTAMP:20260425T160334
CREATED:20180116T145350Z
LAST-MODIFIED:20230829T081050Z
UID:3244-1526083200-1526169599@www.tangahed.se
SUMMARY:Bullterrier Utställning
DESCRIPTION:Hemvärnsplan
URL:http://www.tangahed.se/evenemang/bullterrier-utstallning/
LOCATION:Hemvärnsplan
END:VEVENT
BEGIN:VEVENT
DTSTART;TZID=Europe/Stockholm:20180513T143000
DTEND;TZID=Europe/Stockholm:20180513T174500
DTSTAMP:20260425T160334
CREATED:20160121T135034Z
LAST-MODIFIED:20180411T102437Z
UID:3234-1526221800-1526233500@www.tangahed.se
SUMMARY:Bilbingo
DESCRIPTION:Bilbingo på ”Bingoplan” utanför matasalen på Tånga. Välkomna!
URL:http://www.tangahed.se/evenemang/bilbingo-4-2018-04-08-2018-05-13/
LOCATION:Bingoplan
END:VEVENT
BEGIN:VEVENT
DTSTART;VALUE=DATE:20180516
DTEND;VALUE=DATE:20180518
DTSTAMP:20260425T160334
CREATED:20170208T121440Z
LAST-MODIFIED:20180118T124320Z
UID:2854-1526428800-1526601599@www.tangahed.se
SUMMARY:Villeroy&Boch
DESCRIPTION:Kundträff
URL:http://www.tangahed.se/evenemang/villeroyboch/
END:VEVENT
BEGIN:VEVENT
DTSTART;VALUE=DATE:20180519
DTEND;VALUE=DATE:20180521
DTSTAMP:20260425T160334
CREATED:20180118T124748Z
LAST-MODIFIED:20180118T124748Z
UID:3254-1526688000-1526860799@www.tangahed.se
SUMMARY:Kattklubben Spinneriet
DESCRIPTION:Kattutställning
URL:http://www.tangahed.se/evenemang/kattklubben-spinneriet/
LOCATION:Tångahallen
END:VEVENT
BEGIN:VEVENT
DTSTART;TZID=Europe/Stockholm:20180520T143000
DTEND;TZID=Europe/Stockholm:20180520T174500
DTSTAMP:20260425T160334
CREATED:20160121T135034Z
LAST-MODIFIED:20180411T102029Z
UID:3235-1526826600-1526838300@www.tangahed.se
SUMMARY:Bilbingo
DESCRIPTION:Bilbingo på ”Bingoplan” utanför matasalen på Tånga. Välkomna!
URL:http://www.tangahed.se/evenemang/bilbingo-4-2018-04-08-2018-05-20/
LOCATION:Bingoplan
END:VEVENT
BEGIN:VEVENT
DTSTART;VALUE=DATE:20180525
DTEND;VALUE=DATE:20180527
DTSTAMP:20260425T160334
CREATED:20160121T080142Z
LAST-MODIFIED:20180122T115605Z
UID:2251-1527206400-1527379199@www.tangahed.se
SUMMARY:Tånga Rallyt (veteranmotorcyklar)
DESCRIPTION:
URL:http://www.tangahed.se/evenemang/tanga-rallyt-veteranmotorcyklar/
END:VEVENT
BEGIN:VEVENT
DTSTART;VALUE=DATE:20180525
DTEND;VALUE=DATE:20180528
DTSTAMP:20260425T160334
CREATED:20170208T125143Z
LAST-MODIFIED:20180119T072318Z
UID:2858-1527206400-1527465599@www.tangahed.se
SUMMARY:RC Lastbilar (mini lastbilar)
DESCRIPTION:
URL:http://www.tangahed.se/evenemang/rc-lastbilar-mini-lastbilar/
LOCATION:Tångahallen
END:VEVENT
BEGIN:VEVENT
DTSTART;VALUE=DATE:20180526
DTEND;VALUE=DATE:20180527
DTSTAMP:20260425T160334
CREATED:20160211T085926Z
LAST-MODIFIED:20180122T131602Z
UID:2334-1527292800-1527379199@www.tangahed.se
SUMMARY:Släthårig Foxterrier Utställning
DESCRIPTION:
URL:http://www.tangahed.se/evenemang/slatharig-foxterrier-utstallning-2/
LOCATION:Kanonplan
END:VEVENT
BEGIN:VEVENT
DTSTART;TZID=Europe/Stockholm:20180527T143000
DTEND;TZID=Europe/Stockholm:20180527T174500
DTSTAMP:20260425T160334
CREATED:20160121T135034Z
LAST-MODIFIED:20180411T101835Z
UID:3236-1527431400-1527443100@www.tangahed.se
SUMMARY:Bilbingo
DESCRIPTION:Bilbingo på ”Bingoplan” utanför matasalen på Tånga. Välkomna!
URL:http://www.tangahed.se/evenemang/bilbingo-4-2018-04-08-2018-05-27/
LOCATION:Bingoplan
END:VEVENT
BEGIN:VEVENT
DTSTART;TZID=Europe/Stockholm:20180531T100000
DTEND;TZID=Europe/Stockholm:20180531T160000
DTSTAMP:20260425T160334
CREATED:20180531T082127Z
LAST-MODIFIED:20180531T082226Z
UID:3639-1527760800-1527782400@www.tangahed.se
SUMMARY:Smygstart på poolen
DESCRIPTION:Nu äntligen:)\nVi har jobbat hårt för att få färdigt vår härliga pool så fort som möjligt när värmen kom.\nNu är den klar och vi bjuder på GRATIS bad torsdag-fredag 10\,00-16\,00 v 22 (lördag-söndag stängt)\nsamt GRATIS bad måndag-onsdag v 23 (OBS! lördag-söndag stängt)\nVarmt Välkomna!
URL:http://www.tangahed.se/evenemang/smygstart-pa-poolen/
END:VEVENT
END:VCALENDAR