BEGIN:VCALENDAR
VERSION:2.0
PRODID:-//Tånga Hed - ECPv6.15.20//NONSGML v1.0//EN
CALSCALE:GREGORIAN
METHOD:PUBLISH
X-WR-CALNAME:Tånga Hed
X-ORIGINAL-URL:http://www.tangahed.se
X-WR-CALDESC:Händelser för Tånga Hed
REFRESH-INTERVAL;VALUE=DURATION:PT1H
X-Robots-Tag:noindex
X-PUBLISHED-TTL:PT1H
BEGIN:VTIMEZONE
TZID:Europe/Stockholm
BEGIN:DAYLIGHT
TZOFFSETFROM:+0100
TZOFFSETTO:+0200
TZNAME:CEST
DTSTART:20190331T010000
END:DAYLIGHT
BEGIN:STANDARD
TZOFFSETFROM:+0200
TZOFFSETTO:+0100
TZNAME:CET
DTSTART:20191027T010000
END:STANDARD
BEGIN:DAYLIGHT
TZOFFSETFROM:+0100
TZOFFSETTO:+0200
TZNAME:CEST
DTSTART:20200329T010000
END:DAYLIGHT
BEGIN:STANDARD
TZOFFSETFROM:+0200
TZOFFSETTO:+0100
TZNAME:CET
DTSTART:20201025T010000
END:STANDARD
BEGIN:DAYLIGHT
TZOFFSETFROM:+0100
TZOFFSETTO:+0200
TZNAME:CEST
DTSTART:20210328T010000
END:DAYLIGHT
BEGIN:STANDARD
TZOFFSETFROM:+0200
TZOFFSETTO:+0100
TZNAME:CET
DTSTART:20211031T010000
END:STANDARD
BEGIN:DAYLIGHT
TZOFFSETFROM:+0100
TZOFFSETTO:+0200
TZNAME:CEST
DTSTART:20220327T010000
END:DAYLIGHT
BEGIN:STANDARD
TZOFFSETFROM:+0200
TZOFFSETTO:+0100
TZNAME:CET
DTSTART:20221030T010000
END:STANDARD
BEGIN:DAYLIGHT
TZOFFSETFROM:+0100
TZOFFSETTO:+0200
TZNAME:CEST
DTSTART:20230326T010000
END:DAYLIGHT
BEGIN:STANDARD
TZOFFSETFROM:+0200
TZOFFSETTO:+0100
TZNAME:CET
DTSTART:20231029T010000
END:STANDARD
END:VTIMEZONE
BEGIN:VEVENT
DTSTART;VALUE=DATE:20200229
DTEND;VALUE=DATE:20200302
DTSTAMP:20260424T062207
CREATED:20191209T134741Z
LAST-MODIFIED:20191209T135145Z
UID:4986-1582934400-1583107199@www.tangahed.se
SUMMARY:Örgryte IS P09/Träningsläger
DESCRIPTION:
URL:http://www.tangahed.se/evenemang/orgryte-is-p09-traningslager/
LOCATION:Tångahallen
END:VEVENT
BEGIN:VEVENT
DTSTART;VALUE=DATE:20200229
DTEND;VALUE=DATE:20200302
DTSTAMP:20260424T062207
CREATED:20191209T135249Z
LAST-MODIFIED:20191209T135249Z
UID:4988-1582934400-1583107199@www.tangahed.se
SUMMARY:Sävedalens IF/Träningsläger
DESCRIPTION:
URL:http://www.tangahed.se/evenemang/savedalens-if-traningslager-6/
LOCATION:Tångahallen
END:VEVENT
BEGIN:VEVENT
DTSTART;VALUE=DATE:20200229
DTEND;VALUE=DATE:20200302
DTSTAMP:20260424T062207
CREATED:20191209T135415Z
LAST-MODIFIED:20191209T144525Z
UID:4992-1582934400-1583107199@www.tangahed.se
SUMMARY:Sport International/Vallens IF Träningsläger
DESCRIPTION:
URL:http://www.tangahed.se/evenemang/sportinternational-vallens-if-traningslager/
LOCATION:Tångahallen
END:VEVENT
BEGIN:VEVENT
DTSTART;VALUE=DATE:20200307
DTEND;VALUE=DATE:20200308
DTSTAMP:20260424T062207
CREATED:20191209T144831Z
LAST-MODIFIED:20191209T144831Z
UID:4996-1583539200-1583625599@www.tangahed.se
SUMMARY:Västsvenska Fågelhundsklubben Årsmöte
DESCRIPTION:
URL:http://www.tangahed.se/evenemang/vastsvenska-fagelhundsklubben-arsmote/
LOCATION:Mässen
END:VEVENT
BEGIN:VEVENT
DTSTART;VALUE=DATE:20200307
DTEND;VALUE=DATE:20200309
DTSTAMP:20260424T062207
CREATED:20191209T120955Z
LAST-MODIFIED:20191209T122032Z
UID:4963-1583539200-1583711999@www.tangahed.se
SUMMARY:Tångahallen Futsal Cup 2020
DESCRIPTION:Tångahallen Futsal Cup 2020\nHuvudsponsor: Nöjeskonsult i Väst\n\n\n\n\n\n\n\n\n\n\n\n\n\n\nVårgårda IK bjuder in till Tångahallen Futsal Cup 2020 \nmed Nöjeskonsult i Väst som Huvudsponsor. \nSpeldagar\nFlickor och Pojkar födda 2007 eller senare F och P13 lördagen   7 mars \nFlickor och Pojkar födda 2006 eller senare F och P14 söndagen 8 mars \nHjärtligt välkomna hälsar VIK-fotboll
URL:http://www.tangahed.se/evenemang/tangahallen-futsal-cup-2020/
LOCATION:Tångahallen
END:VEVENT
BEGIN:VEVENT
DTSTART;VALUE=DATE:20200313
DTEND;VALUE=DATE:20200315
DTSTAMP:20260424T062207
CREATED:20160309T134712Z
LAST-MODIFIED:20230829T080636Z
UID:2374-1584057600-1584230399@www.tangahed.se
SUMMARY:COI VÅRGÅRDA MÄSSAN - INSTÄLLT!
DESCRIPTION:
URL:http://www.tangahed.se/evenemang/coi-vargarda-massan/
LOCATION:Tångahallen
END:VEVENT
BEGIN:VEVENT
DTSTART;VALUE=DATE:20200313
DTEND;VALUE=DATE:20200315
DTSTAMP:20260424T062207
CREATED:20160309T134712Z
LAST-MODIFIED:20230829T080636Z
UID:2374-1584057600-1584230399@www.tangahed.se
SUMMARY:COI VÅRGÅRDA MÄSSAN - INSTÄLLT!
DESCRIPTION:
URL:http://www.tangahed.se/evenemang/coi-vargarda-massan/
LOCATION:Tångahallen
END:VEVENT
BEGIN:VEVENT
DTSTART;VALUE=DATE:20200320
DTEND;VALUE=DATE:20200323
DTSTAMP:20260424T062207
CREATED:20191211T123308Z
LAST-MODIFIED:20191211T123348Z
UID:5016-1584662400-1584921599@www.tangahed.se
SUMMARY:Swedish Open Agilitytävling
DESCRIPTION:
URL:http://www.tangahed.se/evenemang/swedish-open-agilitytavling-2/
LOCATION:Tångahallen
END:VEVENT
BEGIN:VEVENT
DTSTART;VALUE=DATE:20200327
DTEND;VALUE=DATE:20200329
DTSTAMP:20260424T062207
CREATED:20191209T145647Z
LAST-MODIFIED:20191209T150208Z
UID:4999-1585267200-1585439999@www.tangahed.se
SUMMARY:Hovås Billdal IF F och P06 Träningsläger
DESCRIPTION:
URL:http://www.tangahed.se/evenemang/swedish-open-agility/
LOCATION:Tångahallen
END:VEVENT
BEGIN:VEVENT
DTSTART;VALUE=DATE:20200328
DTEND;VALUE=DATE:20200330
DTSTAMP:20260424T062207
CREATED:20191209T151133Z
LAST-MODIFIED:20191209T151133Z
UID:5004-1585353600-1585526399@www.tangahed.se
SUMMARY:Sports International/Vallens IF utv.gruppen/
DESCRIPTION:Träningsläger
URL:http://www.tangahed.se/evenemang/sports-international-vallens-if-utv-gruppen/
END:VEVENT
BEGIN:VEVENT
DTSTART;VALUE=DATE:20200403
DTEND;VALUE=DATE:20200406
DTSTAMP:20260424T062207
CREATED:20200129T102312Z
LAST-MODIFIED:20200129T102312Z
UID:5067-1585872000-1586131199@www.tangahed.se
SUMMARY:Sports International/Ösets BK Träningsläger
DESCRIPTION:
URL:http://www.tangahed.se/evenemang/sports-international-osets-bk-traningslager/
LOCATION:Tångahallen
END:VEVENT
BEGIN:VEVENT
DTSTART;VALUE=DATE:20200403
DTEND;VALUE=DATE:20200407
DTSTAMP:20260424T062207
CREATED:20181127T142325Z
LAST-MODIFIED:20191209T151625Z
UID:4528-1585872000-1586217599@www.tangahed.se
SUMMARY:Countryhack LAN 2020
DESCRIPTION:
URL:http://www.tangahed.se/evenemang/countryhack-lan-i-tangahallen-2/
LOCATION:Tångahallen
END:VEVENT
BEGIN:VEVENT
DTSTART;VALUE=DATE:20200404
DTEND;VALUE=DATE:20200406
DTSTAMP:20260424T062207
CREATED:20200129T102933Z
LAST-MODIFIED:20200129T102933Z
UID:5080-1585958400-1586131199@www.tangahed.se
SUMMARY:Sports International/Vallens IF Träningsläger
DESCRIPTION:
URL:http://www.tangahed.se/evenemang/sports-international-vallens-if-traningslager/
END:VEVENT
BEGIN:VEVENT
DTSTART;VALUE=DATE:20200425
DTEND;VALUE=DATE:20200426
DTSTAMP:20260424T062207
CREATED:20190115T142421Z
LAST-MODIFIED:20191210T101652Z
UID:4776-1587772800-1587859199@www.tangahed.se
SUMMARY:WIBK Barnmarknad
DESCRIPTION:Öppet mellan 09\,00-13\,00 \nFikaservering! \nVarmt Välkomna!
URL:http://www.tangahed.se/evenemang/wibk-barnmarknad-4/
LOCATION:Tångahallen
END:VEVENT
BEGIN:VEVENT
DTSTART;TZID=Europe/Stockholm:20220701T080000
DTEND;TZID=Europe/Stockholm:20220702T170000
DTSTAMP:20260424T062207
CREATED:20220705T114951Z
LAST-MODIFIED:20220705T114951Z
UID:5236-1656662400-1656781200@www.tangahed.se
SUMMARY:Shih-tzuklubben
DESCRIPTION:
URL:http://www.tangahed.se/evenemang/shih-tzuklubben/
END:VEVENT
BEGIN:VEVENT
DTSTART;TZID=Europe/Stockholm:20220701T080000
DTEND;TZID=Europe/Stockholm:20220703T170000
DTSTAMP:20260424T062207
CREATED:20220705T113451Z
LAST-MODIFIED:20220705T113451Z
UID:5234-1656662400-1656867600@www.tangahed.se
SUMMARY:Vulcan Riders
DESCRIPTION:
URL:http://www.tangahed.se/evenemang/vulcan-riders-2/
END:VEVENT
BEGIN:VEVENT
DTSTART;TZID=Europe/Stockholm:20220708T080000
DTEND;TZID=Europe/Stockholm:20220710T170000
DTSTAMP:20260424T062207
CREATED:20220705T115021Z
LAST-MODIFIED:20220705T115021Z
UID:5238-1657267200-1657472400@www.tangahed.se
SUMMARY:Gothenburg Truckmeet
DESCRIPTION:
URL:http://www.tangahed.se/evenemang/gothenburg-truckmeet/
END:VEVENT
BEGIN:VEVENT
DTSTART;TZID=Europe/Stockholm:20220708T080000
DTEND;TZID=Europe/Stockholm:20220710T170000
DTSTAMP:20260424T062207
CREATED:20220705T115100Z
LAST-MODIFIED:20220705T115100Z
UID:5240-1657267200-1657472400@www.tangahed.se
SUMMARY:Svenska Kromfohrländerklubben
DESCRIPTION:
URL:http://www.tangahed.se/evenemang/svenska-kromfohrlanderklubben/
END:VEVENT
BEGIN:VEVENT
DTSTART;TZID=Europe/Stockholm:20220714T080000
DTEND;TZID=Europe/Stockholm:20220717T170000
DTSTAMP:20260424T062207
CREATED:20220705T115130Z
LAST-MODIFIED:20220705T115130Z
UID:5242-1657785600-1658077200@www.tangahed.se
SUMMARY:Svenska Dalmatinersällskapet
DESCRIPTION:
URL:http://www.tangahed.se/evenemang/svenska-dalmatinersallskapet/
END:VEVENT
BEGIN:VEVENT
DTSTART;TZID=Europe/Stockholm:20220716T080000
DTEND;TZID=Europe/Stockholm:20220717T170000
DTSTAMP:20260424T062207
CREATED:20220705T115153Z
LAST-MODIFIED:20220705T115153Z
UID:5244-1657958400-1658077200@www.tangahed.se
SUMMARY:Bassethoundklubben
DESCRIPTION:
URL:http://www.tangahed.se/evenemang/bassethoundklubben/
END:VEVENT
BEGIN:VEVENT
DTSTART;TZID=Europe/Stockholm:20220716T080000
DTEND;TZID=Europe/Stockholm:20220717T170000
DTSTAMP:20260424T062207
CREATED:20220705T115223Z
LAST-MODIFIED:20220705T115223Z
UID:5246-1657958400-1658077200@www.tangahed.se
SUMMARY:Norwichterrierklubben
DESCRIPTION:
URL:http://www.tangahed.se/evenemang/norwichterrierklubben/
END:VEVENT
BEGIN:VEVENT
DTSTART;TZID=Europe/Stockholm:20220717T080000
DTEND;TZID=Europe/Stockholm:20220722T170000
DTSTAMP:20260424T062207
CREATED:20220705T115254Z
LAST-MODIFIED:20220705T115254Z
UID:5248-1658044800-1658509200@www.tangahed.se
SUMMARY:Boxerläger
DESCRIPTION:
URL:http://www.tangahed.se/evenemang/boxerlager/
END:VEVENT
BEGIN:VEVENT
DTSTART;VALUE=DATE:20220722
DTEND;VALUE=DATE:20220723
DTSTAMP:20260424T062207
CREATED:20211216T121502Z
LAST-MODIFIED:20211216T122100Z
UID:5198-1658448000-1658534399@www.tangahed.se
SUMMARY:Diggiloo 2022
DESCRIPTION:
URL:http://www.tangahed.se/evenemang/diggiloo-2022/
END:VEVENT
BEGIN:VEVENT
DTSTART;TZID=Europe/Stockholm:20220723T080000
DTEND;TZID=Europe/Stockholm:20220724T170000
DTSTAMP:20260424T062207
CREATED:20220705T115317Z
LAST-MODIFIED:20220705T115317Z
UID:5250-1658563200-1658682000@www.tangahed.se
SUMMARY:American Staffordshire Bullterrier
DESCRIPTION:
URL:http://www.tangahed.se/evenemang/american-staffordshire-bullterrier/
END:VEVENT
BEGIN:VEVENT
DTSTART;TZID=Europe/Stockholm:20220728T080000
DTEND;TZID=Europe/Stockholm:20220731T170000
DTSTAMP:20260424T062207
CREATED:20220705T115337Z
LAST-MODIFIED:20220705T115337Z
UID:5252-1658995200-1659286800@www.tangahed.se
SUMMARY:Schäferhunds SM
DESCRIPTION:
URL:http://www.tangahed.se/evenemang/schaferhunds-sm/
END:VEVENT
BEGIN:VEVENT
DTSTART;TZID=Europe/Stockholm:20220805T080000
DTEND;TZID=Europe/Stockholm:20220807T170000
DTSTAMP:20260424T062207
CREATED:20220705T115626Z
LAST-MODIFIED:20220705T115626Z
UID:5254-1659686400-1659891600@www.tangahed.se
SUMMARY:Dansk-svensk gårdshund
DESCRIPTION:
URL:http://www.tangahed.se/evenemang/dansk-svensk-gardshund/
END:VEVENT
BEGIN:VEVENT
DTSTART;TZID=Europe/Stockholm:20220805T080000
DTEND;TZID=Europe/Stockholm:20220807T170000
DTSTAMP:20260424T062207
CREATED:20220705T115650Z
LAST-MODIFIED:20220705T115650Z
UID:5256-1659686400-1659891600@www.tangahed.se
SUMMARY:Svenska Schapendoesklubben
DESCRIPTION:
URL:http://www.tangahed.se/evenemang/svenska-schapendoesklubben-2/
END:VEVENT
BEGIN:VEVENT
DTSTART;TZID=Europe/Stockholm:20220810T080000
DTEND;TZID=Europe/Stockholm:20220810T170000
DTSTAMP:20260424T062207
CREATED:20220705T115902Z
LAST-MODIFIED:20220705T115902Z
UID:5260-1660118400-1660150800@www.tangahed.se
SUMMARY:Partiledarutfrågning Annie Lööf
DESCRIPTION:
URL:http://www.tangahed.se/evenemang/partiledarutfragning-annie-loof/
END:VEVENT
BEGIN:VEVENT
DTSTART;TZID=Europe/Stockholm:20220810T080000
DTEND;TZID=Europe/Stockholm:20220828T170000
DTSTAMP:20260424T062207
CREATED:20220705T115713Z
LAST-MODIFIED:20220705T115713Z
UID:5258-1660118400-1661706000@www.tangahed.se
SUMMARY:Vårgårda Möte
DESCRIPTION:
URL:http://www.tangahed.se/evenemang/vargarda-mote-2/
END:VEVENT
BEGIN:VEVENT
DTSTART;TZID=Europe/Stockholm:20220811T080000
DTEND;TZID=Europe/Stockholm:20220811T170000
DTSTAMP:20260424T062207
CREATED:20220705T115922Z
LAST-MODIFIED:20220705T115922Z
UID:5262-1660204800-1660237200@www.tangahed.se
SUMMARY:Partiledarutfrågning Jimmie Åkesson
DESCRIPTION:
URL:http://www.tangahed.se/evenemang/partiledarutfragning-jimmie-akesson/
END:VEVENT
END:VCALENDAR