BEGIN:VCALENDAR
VERSION:2.0
PRODID:-//Tånga Hed - ECPv6.15.20//NONSGML v1.0//EN
CALSCALE:GREGORIAN
METHOD:PUBLISH
X-WR-CALNAME:Tånga Hed
X-ORIGINAL-URL:http://www.tangahed.se
X-WR-CALDESC:Händelser för Tånga Hed
REFRESH-INTERVAL;VALUE=DURATION:PT1H
X-Robots-Tag:noindex
X-PUBLISHED-TTL:PT1H
BEGIN:VTIMEZONE
TZID:Europe/Stockholm
BEGIN:DAYLIGHT
TZOFFSETFROM:+0100
TZOFFSETTO:+0200
TZNAME:CEST
DTSTART:20180325T010000
END:DAYLIGHT
BEGIN:STANDARD
TZOFFSETFROM:+0200
TZOFFSETTO:+0100
TZNAME:CET
DTSTART:20181028T010000
END:STANDARD
BEGIN:DAYLIGHT
TZOFFSETFROM:+0100
TZOFFSETTO:+0200
TZNAME:CEST
DTSTART:20190331T010000
END:DAYLIGHT
BEGIN:STANDARD
TZOFFSETFROM:+0200
TZOFFSETTO:+0100
TZNAME:CET
DTSTART:20191027T010000
END:STANDARD
BEGIN:DAYLIGHT
TZOFFSETFROM:+0100
TZOFFSETTO:+0200
TZNAME:CEST
DTSTART:20200329T010000
END:DAYLIGHT
BEGIN:STANDARD
TZOFFSETFROM:+0200
TZOFFSETTO:+0100
TZNAME:CET
DTSTART:20201025T010000
END:STANDARD
END:VTIMEZONE
BEGIN:VEVENT
DTSTART;TZID=Europe/Stockholm:20190114T170000
DTEND;TZID=Europe/Stockholm:20190114T210000
DTSTAMP:20260424T211735
CREATED:20190109T114752Z
LAST-MODIFIED:20190109T115237Z
UID:4604-1547485200-1547499600@www.tangahed.se
SUMMARY:Korpen Bowling Träning 17-21
DESCRIPTION:
URL:http://www.tangahed.se/evenemang/korpen-traning-17-21/
LOCATION:Bowlingen
END:VEVENT
BEGIN:VEVENT
DTSTART;TZID=Europe/Stockholm:20190205T170000
DTEND;TZID=Europe/Stockholm:20190205T210000
DTSTAMP:20260424T211735
CREATED:20190109T124530Z
LAST-MODIFIED:20190109T124530Z
UID:4645-1549386000-1549400400@www.tangahed.se
SUMMARY:Korpen Bowling Seriespel 17-21
DESCRIPTION:
URL:http://www.tangahed.se/evenemang/korpen-bowling-seriespel-17-21/
LOCATION:Bowlingen
END:VEVENT
BEGIN:VEVENT
DTSTART;TZID=Europe/Stockholm:20190206T170000
DTEND;TZID=Europe/Stockholm:20190206T210000
DTSTAMP:20260424T211735
CREATED:20190109T124712Z
LAST-MODIFIED:20190109T124712Z
UID:4655-1549472400-1549486800@www.tangahed.se
SUMMARY:Korpen Bowling Seriespel 17-21
DESCRIPTION:
URL:http://www.tangahed.se/evenemang/korpen-bowling-seriespel-17-21-2/
LOCATION:Bowlingen
END:VEVENT
BEGIN:VEVENT
DTSTART;TZID=Europe/Stockholm:20190117T180000
DTEND;TZID=Europe/Stockholm:20190117T210000
DTSTAMP:20260424T211735
CREATED:20190109T132824Z
LAST-MODIFIED:20190109T132824Z
UID:4687-1547748000-1547758800@www.tangahed.se
SUMMARY:Alingsås Dansklubb Motionsdans
DESCRIPTION:VÅRGÅRDA\, 12 gånger motionsdans med start 17 januari\n \nHär ska det vara roligt att dansa\, träffa nya människor och få lite motion på köpet\, i vår lokal ”Matsalen” \nÖppen dans för alla\, 60:- per gång\, inget medlemsskap krävs \nVälkommen!
URL:http://www.tangahed.se/evenemang/alingsas-dansklubb-motionsdans/
LOCATION:Matsalen\, Tånga Hed\, Sverige
END:VEVENT
BEGIN:VEVENT
DTSTART;TZID=Europe/Stockholm:20190407T143000
DTEND;TZID=Europe/Stockholm:20190407T174500
DTSTAMP:20260424T211735
CREATED:20181127T140328Z
LAST-MODIFIED:20181127T140328Z
UID:4508-1554647400-1554659100@www.tangahed.se
SUMMARY:Bilbingo
DESCRIPTION:Bilbingo på ”Bingoplan” utanför matsalen på Tånga. \nFikaservering \nVälkomna!
URL:http://www.tangahed.se/evenemang/bilbingo-3/
LOCATION:Bingoplan
END:VEVENT
BEGIN:VEVENT
DTSTART;TZID=Europe/Stockholm:20190114T170000
DTEND;TZID=Europe/Stockholm:20190114T210000
DTSTAMP:20260424T211735
CREATED:20190109T114752Z
LAST-MODIFIED:20190109T115237Z
UID:4604-1547485200-1547499600@www.tangahed.se
SUMMARY:Korpen Bowling Träning 17-21
DESCRIPTION:
URL:http://www.tangahed.se/evenemang/korpen-traning-17-21/
LOCATION:Bowlingen
END:VEVENT
BEGIN:VEVENT
DTSTART;TZID=Europe/Stockholm:20190410T170000
DTEND;TZID=Europe/Stockholm:20190410T210000
DTSTAMP:20260424T211735
CREATED:20190109T125048Z
LAST-MODIFIED:20190109T125048Z
UID:4675-1554915600-1554930000@www.tangahed.se
SUMMARY:Korpen Bowling slutspel
DESCRIPTION:
URL:http://www.tangahed.se/evenemang/korpen-bowling-slutspel/
LOCATION:Bowlingen
END:VEVENT
BEGIN:VEVENT
DTSTART;VALUE=DATE:20190412
DTEND;VALUE=DATE:20190415
DTSTAMP:20260424T211735
CREATED:20181127T142807Z
LAST-MODIFIED:20181127T142807Z
UID:4530-1555027200-1555286399@www.tangahed.se
SUMMARY:Västsvenska Collieklubben Läger
DESCRIPTION:
URL:http://www.tangahed.se/evenemang/vastsvenska-collieklubben-lager/
LOCATION:Tånga Hed
END:VEVENT
BEGIN:VEVENT
DTSTART;VALUE=DATE:20190413
DTEND;VALUE=DATE:20190414
DTSTAMP:20260424T211735
CREATED:20190109T125139Z
LAST-MODIFIED:20190109T125139Z
UID:4677-1555113600-1555199999@www.tangahed.se
SUMMARY:Korpen Bowling Rankningsfinal
DESCRIPTION:
URL:http://www.tangahed.se/evenemang/korpen-bowling-rankningsfinal/
END:VEVENT
BEGIN:VEVENT
DTSTART;TZID=Europe/Stockholm:20190407T143000
DTEND;TZID=Europe/Stockholm:20190407T174500
DTSTAMP:20260424T211735
CREATED:20181127T140328Z
LAST-MODIFIED:20181127T140328Z
UID:4508-1554647400-1554659100@www.tangahed.se
SUMMARY:Bilbingo
DESCRIPTION:Bilbingo på ”Bingoplan” utanför matsalen på Tånga. \nFikaservering \nVälkomna!
URL:http://www.tangahed.se/evenemang/bilbingo-3/
LOCATION:Bingoplan
END:VEVENT
BEGIN:VEVENT
DTSTART;TZID=Europe/Stockholm:20190114T170000
DTEND;TZID=Europe/Stockholm:20190114T210000
DTSTAMP:20260424T211735
CREATED:20190109T114752Z
LAST-MODIFIED:20190109T115237Z
UID:4604-1547485200-1547499600@www.tangahed.se
SUMMARY:Korpen Bowling Träning 17-21
DESCRIPTION:
URL:http://www.tangahed.se/evenemang/korpen-traning-17-21/
LOCATION:Bowlingen
END:VEVENT
BEGIN:VEVENT
DTSTART;VALUE=DATE:20190418
DTEND;VALUE=DATE:20190419
DTSTAMP:20260424T211735
CREATED:20181127T150452Z
LAST-MODIFIED:20181127T150452Z
UID:4547-1555545600-1555631999@www.tangahed.se
SUMMARY:2Blyga Läppar & Drängarna
DESCRIPTION:Mer info kommer….
URL:http://www.tangahed.se/evenemang/2blyga-lappar-drangarna/
LOCATION:Tångahallen
END:VEVENT
BEGIN:VEVENT
DTSTART;VALUE=DATE:20190419
DTEND;VALUE=DATE:20190420
DTSTAMP:20260424T211735
CREATED:20181127T143611Z
LAST-MODIFIED:20181127T143611Z
UID:4532-1555632000-1555718399@www.tangahed.se
SUMMARY:Påskmaran 2019 Blender & Sannex
DESCRIPTION:
URL:http://www.tangahed.se/evenemang/paskmaran-2019-blender-sannex/
LOCATION:Tångahallen
END:VEVENT
BEGIN:VEVENT
DTSTART;VALUE=DATE:20190420
DTEND;VALUE=DATE:20190421
DTSTAMP:20260424T211735
CREATED:20181127T143742Z
LAST-MODIFIED:20181127T143742Z
UID:4538-1555718400-1555804799@www.tangahed.se
SUMMARY:Påskmaran 2019 Casanovas & Expanders
DESCRIPTION:
URL:http://www.tangahed.se/evenemang/paskmaran-2019-casanovas-expanders/
LOCATION:Tångahallen
END:VEVENT
BEGIN:VEVENT
DTSTART;VALUE=DATE:20190421
DTEND;VALUE=DATE:20190422
DTSTAMP:20260424T211735
CREATED:20181127T144022Z
LAST-MODIFIED:20181127T144022Z
UID:4540-1555804800-1555891199@www.tangahed.se
SUMMARY:Påskmaran 2019 Lasse Stefanz
DESCRIPTION:
URL:http://www.tangahed.se/evenemang/paskmaran-2019-lasse-stefanz/
LOCATION:Tångahallen
END:VEVENT
BEGIN:VEVENT
DTSTART;TZID=Europe/Stockholm:20190407T143000
DTEND;TZID=Europe/Stockholm:20190407T174500
DTSTAMP:20260424T211735
CREATED:20181127T140328Z
LAST-MODIFIED:20181127T140328Z
UID:4508-1554647400-1554659100@www.tangahed.se
SUMMARY:Bilbingo
DESCRIPTION:Bilbingo på ”Bingoplan” utanför matsalen på Tånga. \nFikaservering \nVälkomna!
URL:http://www.tangahed.se/evenemang/bilbingo-3/
LOCATION:Bingoplan
END:VEVENT
BEGIN:VEVENT
DTSTART;TZID=Europe/Stockholm:20190114T170000
DTEND;TZID=Europe/Stockholm:20190114T210000
DTSTAMP:20260424T211735
CREATED:20190109T114752Z
LAST-MODIFIED:20190109T115237Z
UID:4604-1547485200-1547499600@www.tangahed.se
SUMMARY:Korpen Bowling Träning 17-21
DESCRIPTION:
URL:http://www.tangahed.se/evenemang/korpen-traning-17-21/
LOCATION:Bowlingen
END:VEVENT
BEGIN:VEVENT
DTSTART;VALUE=DATE:20190426
DTEND;VALUE=DATE:20190429
DTSTAMP:20260424T211735
CREATED:20190110T123022Z
LAST-MODIFIED:20190110T123022Z
UID:4723-1556236800-1556495999@www.tangahed.se
SUMMARY:Talangtruppen Lydnad
DESCRIPTION:Svenska Brukshundsklubben
URL:http://www.tangahed.se/evenemang/talangtruppen-lydnad/
END:VEVENT
BEGIN:VEVENT
DTSTART;VALUE=DATE:20190426
DTEND;VALUE=DATE:20190429
DTSTAMP:20260424T211735
CREATED:20190110T123108Z
LAST-MODIFIED:20190110T123108Z
UID:4725-1556236800-1556495999@www.tangahed.se
SUMMARY:Lidköpings FK Träningsläger
DESCRIPTION:
URL:http://www.tangahed.se/evenemang/lidkopings-fk-traningslager/
END:VEVENT
BEGIN:VEVENT
DTSTART;VALUE=DATE:20190426
DTEND;VALUE=DATE:20190429
DTSTAMP:20260424T211735
CREATED:20190313T120301Z
LAST-MODIFIED:20190313T120301Z
UID:4806-1556236800-1556495999@www.tangahed.se
SUMMARY:Talangtruppen i lydnad
DESCRIPTION:
URL:http://www.tangahed.se/evenemang/talangtruppen-i-lydnad/
LOCATION:Tångahallen
END:VEVENT
BEGIN:VEVENT
DTSTART;VALUE=DATE:20190426
DTEND;VALUE=DATE:20190502
DTSTAMP:20260424T211735
CREATED:20181127T150100Z
LAST-MODIFIED:20181127T150100Z
UID:4545-1556236800-1556755199@www.tangahed.se
SUMMARY:Riesen i väst Vårläger
DESCRIPTION:
URL:http://www.tangahed.se/evenemang/riesen-i-vast-varlager/
LOCATION:Tånga Hed
END:VEVENT
BEGIN:VEVENT
DTSTART;VALUE=DATE:20190427
DTEND;VALUE=DATE:20190429
DTSTAMP:20260424T211735
CREATED:20181127T145846Z
LAST-MODIFIED:20181127T145846Z
UID:4543-1556323200-1556495999@www.tangahed.se
SUMMARY:Flatcoated Retreiverklubben Västra
DESCRIPTION:Flatshow lördag & söndag 27 – 28 april \nWorkingtest lördag och utställning\, lydnad söndag. \nPlats: Tångahed Vårgårda \n  \n 
URL:http://www.tangahed.se/evenemang/flatcoated-retreiverklubben-vastra/
LOCATION:Tånga Hed
END:VEVENT
BEGIN:VEVENT
DTSTART;TZID=Europe/Stockholm:20190407T143000
DTEND;TZID=Europe/Stockholm:20190407T174500
DTSTAMP:20260424T211735
CREATED:20181127T140328Z
LAST-MODIFIED:20181127T140328Z
UID:4508-1554647400-1554659100@www.tangahed.se
SUMMARY:Bilbingo
DESCRIPTION:Bilbingo på ”Bingoplan” utanför matsalen på Tånga. \nFikaservering \nVälkomna!
URL:http://www.tangahed.se/evenemang/bilbingo-3/
LOCATION:Bingoplan
END:VEVENT
BEGIN:VEVENT
DTSTART;TZID=Europe/Stockholm:20190114T170000
DTEND;TZID=Europe/Stockholm:20190114T210000
DTSTAMP:20260424T211735
CREATED:20190109T114752Z
LAST-MODIFIED:20190109T115237Z
UID:4604-1547485200-1547499600@www.tangahed.se
SUMMARY:Korpen Bowling Träning 17-21
DESCRIPTION:
URL:http://www.tangahed.se/evenemang/korpen-traning-17-21/
LOCATION:Bowlingen
END:VEVENT
BEGIN:VEVENT
DTSTART;TZID=Europe/Stockholm:20190407T143000
DTEND;TZID=Europe/Stockholm:20190407T174500
DTSTAMP:20260424T211735
CREATED:20181127T140328Z
LAST-MODIFIED:20181127T140328Z
UID:4508-1554647400-1554659100@www.tangahed.se
SUMMARY:Bilbingo
DESCRIPTION:Bilbingo på ”Bingoplan” utanför matsalen på Tånga. \nFikaservering \nVälkomna!
URL:http://www.tangahed.se/evenemang/bilbingo-3/
LOCATION:Bingoplan
END:VEVENT
BEGIN:VEVENT
DTSTART;TZID=Europe/Stockholm:20190114T170000
DTEND;TZID=Europe/Stockholm:20190114T210000
DTSTAMP:20260424T211735
CREATED:20190109T114752Z
LAST-MODIFIED:20190109T115237Z
UID:4604-1547485200-1547499600@www.tangahed.se
SUMMARY:Korpen Bowling Träning 17-21
DESCRIPTION:
URL:http://www.tangahed.se/evenemang/korpen-traning-17-21/
LOCATION:Bowlingen
END:VEVENT
BEGIN:VEVENT
DTSTART;VALUE=DATE:20190511
DTEND;VALUE=DATE:20190512
DTSTAMP:20260424T211735
CREATED:20181128T075724Z
LAST-MODIFIED:20181128T075823Z
UID:4550-1557532800-1557619199@www.tangahed.se
SUMMARY:Västsvenska Terrierklubben Utställning
DESCRIPTION:
URL:http://www.tangahed.se/evenemang/vastsvenska-terrierklubben-utstallning-5/
LOCATION:Tångahallen
END:VEVENT
BEGIN:VEVENT
DTSTART;TZID=Europe/Stockholm:20190407T143000
DTEND;TZID=Europe/Stockholm:20190407T174500
DTSTAMP:20260424T211735
CREATED:20181127T140328Z
LAST-MODIFIED:20181127T140328Z
UID:4508-1554647400-1554659100@www.tangahed.se
SUMMARY:Bilbingo
DESCRIPTION:Bilbingo på ”Bingoplan” utanför matsalen på Tånga. \nFikaservering \nVälkomna!
URL:http://www.tangahed.se/evenemang/bilbingo-3/
LOCATION:Bingoplan
END:VEVENT
BEGIN:VEVENT
DTSTART;TZID=Europe/Stockholm:20190114T170000
DTEND;TZID=Europe/Stockholm:20190114T210000
DTSTAMP:20260424T211735
CREATED:20190109T114752Z
LAST-MODIFIED:20190109T115237Z
UID:4604-1547485200-1547499600@www.tangahed.se
SUMMARY:Korpen Bowling Träning 17-21
DESCRIPTION:
URL:http://www.tangahed.se/evenemang/korpen-traning-17-21/
LOCATION:Bowlingen
END:VEVENT
BEGIN:VEVENT
DTSTART;TZID=Europe/Stockholm:20190407T143000
DTEND;TZID=Europe/Stockholm:20190407T174500
DTSTAMP:20260424T211735
CREATED:20181127T140328Z
LAST-MODIFIED:20181127T140328Z
UID:4508-1554647400-1554659100@www.tangahed.se
SUMMARY:Bilbingo
DESCRIPTION:Bilbingo på ”Bingoplan” utanför matsalen på Tånga. \nFikaservering \nVälkomna!
URL:http://www.tangahed.se/evenemang/bilbingo-3/
LOCATION:Bingoplan
END:VEVENT
END:VCALENDAR