BEGIN:VCALENDAR
VERSION:2.0
PRODID:-//Tånga Hed - ECPv6.15.20//NONSGML v1.0//EN
CALSCALE:GREGORIAN
METHOD:PUBLISH
X-WR-CALNAME:Tånga Hed
X-ORIGINAL-URL:http://www.tangahed.se
X-WR-CALDESC:Händelser för Tånga Hed
REFRESH-INTERVAL;VALUE=DURATION:PT1H
X-Robots-Tag:noindex
X-PUBLISHED-TTL:PT1H
BEGIN:VTIMEZONE
TZID:Europe/Stockholm
BEGIN:DAYLIGHT
TZOFFSETFROM:+0100
TZOFFSETTO:+0200
TZNAME:CEST
DTSTART:20160327T010000
END:DAYLIGHT
BEGIN:STANDARD
TZOFFSETFROM:+0200
TZOFFSETTO:+0100
TZNAME:CET
DTSTART:20161030T010000
END:STANDARD
BEGIN:DAYLIGHT
TZOFFSETFROM:+0100
TZOFFSETTO:+0200
TZNAME:CEST
DTSTART:20170326T010000
END:DAYLIGHT
BEGIN:STANDARD
TZOFFSETFROM:+0200
TZOFFSETTO:+0100
TZNAME:CET
DTSTART:20171029T010000
END:STANDARD
BEGIN:DAYLIGHT
TZOFFSETFROM:+0100
TZOFFSETTO:+0200
TZNAME:CEST
DTSTART:20180325T010000
END:DAYLIGHT
BEGIN:STANDARD
TZOFFSETFROM:+0200
TZOFFSETTO:+0100
TZNAME:CET
DTSTART:20181028T010000
END:STANDARD
BEGIN:DAYLIGHT
TZOFFSETFROM:+0100
TZOFFSETTO:+0200
TZNAME:CEST
DTSTART:20190331T010000
END:DAYLIGHT
BEGIN:STANDARD
TZOFFSETFROM:+0200
TZOFFSETTO:+0100
TZNAME:CET
DTSTART:20191027T010000
END:STANDARD
END:VTIMEZONE
BEGIN:VEVENT
DTSTART;VALUE=DATE:20170628
DTEND;VALUE=DATE:20170703
DTSTAMP:20260426T060102
CREATED:20160121T125227Z
LAST-MODIFIED:20170208T134834Z
UID:2260-1498608000-1499039999@www.tangahed.se
SUMMARY:Vulcan Riders
DESCRIPTION:
URL:http://www.tangahed.se/evenemang/vulcan-riders/
END:VEVENT
BEGIN:VEVENT
DTSTART;VALUE=DATE:20170701
DTEND;VALUE=DATE:20170703
DTSTAMP:20260426T060102
CREATED:20170208T143534Z
LAST-MODIFIED:20170208T143534Z
UID:2871-1498867200-1499039999@www.tangahed.se
SUMMARY:Västra Specialklubb Shih-Tzu
DESCRIPTION:
URL:http://www.tangahed.se/evenemang/vastra-specialklubb-shih-tzu/
LOCATION:Talldungen
END:VEVENT
BEGIN:VEVENT
DTSTART;VALUE=DATE:20170708
DTEND;VALUE=DATE:20170710
DTSTAMP:20260426T060102
CREATED:20150329T200550Z
LAST-MODIFIED:20170209T074337Z
UID:1673-1499472000-1499644799@www.tangahed.se
SUMMARY:Västergötlands Fotbollsförbund - Träningsläger fotboll
DESCRIPTION:
URL:http://www.tangahed.se/evenemang/vastergotlands-fotbollsforbund-traningslager-fotboll/
LOCATION:Tånga Hed IP
END:VEVENT
BEGIN:VEVENT
DTSTART;VALUE=DATE:20170715
DTEND;VALUE=DATE:20170716
DTSTAMP:20260426T060102
CREATED:20170209T080248Z
LAST-MODIFIED:20170329T130808Z
UID:2876-1500076800-1500163199@www.tangahed.se
SUMMARY:Svenska Basset Hound Sällskapet
DESCRIPTION:Årsmöte
URL:http://www.tangahed.se/evenemang/svenska-bassetklubben-sbhk/
LOCATION:Matsalen
END:VEVENT
BEGIN:VEVENT
DTSTART;VALUE=DATE:20170716
DTEND;VALUE=DATE:20170717
DTSTAMP:20260426T060102
CREATED:20170209T075945Z
LAST-MODIFIED:20170329T130720Z
UID:2875-1500163200-1500249599@www.tangahed.se
SUMMARY:Svenska Basset Hound Sällskapet
DESCRIPTION:Utställning
URL:http://www.tangahed.se/evenemang/svenska-basset-klubben-sbhk/
LOCATION:Bingoplan
END:VEVENT
BEGIN:VEVENT
DTSTART;VALUE=DATE:20170805
DTEND;VALUE=DATE:20170806
DTSTAMP:20260426T060102
CREATED:20170209T082928Z
LAST-MODIFIED:20170209T082928Z
UID:2880-1501891200-1501977599@www.tangahed.se
SUMMARY:Welsh springer spaniel klubben
DESCRIPTION:Utställning
URL:http://www.tangahed.se/evenemang/welsh-springer-spaniel-klubben/
LOCATION:Talldungen
END:VEVENT
BEGIN:VEVENT
DTSTART;VALUE=DATE:20170811
DTEND;VALUE=DATE:20170812
DTSTAMP:20260426T060102
CREATED:20170209T122619Z
LAST-MODIFIED:20170209T122619Z
UID:2882-1502409600-1502495999@www.tangahed.se
SUMMARY:UCI Womans World tour-lagtempolopp
DESCRIPTION:Lagtempolopp med vändning i herrljunga
URL:http://www.tangahed.se/evenemang/uci-womans-world-tour-lagtempolopp/
END:VEVENT
BEGIN:VEVENT
DTSTART;VALUE=DATE:20170811
DTEND;VALUE=DATE:20170814
DTSTAMP:20260426T060102
CREATED:20160121T132526Z
LAST-MODIFIED:20170209T125334Z
UID:2272-1502409600-1502668799@www.tangahed.se
SUMMARY:Boxer SM
DESCRIPTION:
URL:http://www.tangahed.se/evenemang/boxer-sm/
LOCATION:Tånga Hed
END:VEVENT
BEGIN:VEVENT
DTSTART;VALUE=DATE:20170812
DTEND;VALUE=DATE:20170813
DTSTAMP:20260426T060102
CREATED:20170209T122805Z
LAST-MODIFIED:20170209T122805Z
UID:2884-1502496000-1502582399@www.tangahed.se
SUMMARY:Velofondo-Motionslopp
DESCRIPTION:Cykelfest
URL:http://www.tangahed.se/evenemang/velofondo-motionslopp/
END:VEVENT
BEGIN:VEVENT
DTSTART;VALUE=DATE:20170813
DTEND;VALUE=DATE:20170814
DTSTAMP:20260426T060102
CREATED:20170209T122718Z
LAST-MODIFIED:20170209T122718Z
UID:2883-1502582400-1502668799@www.tangahed.se
SUMMARY:UCI Womans world tour-Linjelopp
DESCRIPTION:
URL:http://www.tangahed.se/evenemang/uci-womans-world-tour-linjelopp/
END:VEVENT
BEGIN:VEVENT
DTSTART;VALUE=DATE:20170815
DTEND;VALUE=DATE:20170816
DTSTAMP:20260426T060102
CREATED:20170814T170607Z
LAST-MODIFIED:20170814T170708Z
UID:3051-1502755200-1502841599@www.tangahed.se
SUMMARY:Receptionen stängd 15/8 pga utbildning. Bad fri entré.
DESCRIPTION:
URL:http://www.tangahed.se/evenemang/receptionen-stangd-158-pga-utbildning/
END:VEVENT
BEGIN:VEVENT
DTSTART;VALUE=DATE:20170819
DTEND;VALUE=DATE:20170820
DTSTAMP:20260426T060102
CREATED:20170209T125059Z
LAST-MODIFIED:20170209T125059Z
UID:2888-1503100800-1503187199@www.tangahed.se
SUMMARY:Älghundklubben
DESCRIPTION:Utställning
URL:http://www.tangahed.se/evenemang/alghundklubben/
LOCATION:Kanonplan
END:VEVENT
BEGIN:VEVENT
DTSTART;VALUE=DATE:20170819
DTEND;VALUE=DATE:20170820
DTSTAMP:20260426T060102
CREATED:20170209T125609Z
LAST-MODIFIED:20170209T125630Z
UID:2889-1503100800-1503187199@www.tangahed.se
SUMMARY:Basset klubben väst
DESCRIPTION:Utställning
URL:http://www.tangahed.se/evenemang/basset-klubben-vast/
LOCATION:Kanonplan
END:VEVENT
BEGIN:VEVENT
DTSTART;VALUE=DATE:20170820
DTEND;VALUE=DATE:20170821
DTSTAMP:20260426T060102
CREATED:20170209T130146Z
LAST-MODIFIED:20170209T130146Z
UID:2890-1503187200-1503273599@www.tangahed.se
SUMMARY:Svenska Petit  Griffon
DESCRIPTION:Utställning
URL:http://www.tangahed.se/evenemang/svenska-petit-griffon/
LOCATION:Kanonplan
END:VEVENT
BEGIN:VEVENT
DTSTART;VALUE=DATE:20170820
DTEND;VALUE=DATE:20170821
DTSTAMP:20260426T060102
CREATED:20170209T133230Z
LAST-MODIFIED:20170209T133230Z
UID:2891-1503187200-1503273599@www.tangahed.se
SUMMARY:Cesky Terrier
DESCRIPTION:Utställning
URL:http://www.tangahed.se/evenemang/cesky-terrier/
LOCATION:Agilityplan
END:VEVENT
BEGIN:VEVENT
DTSTART;VALUE=DATE:20170826
DTEND;VALUE=DATE:20170828
DTSTAMP:20260426T060102
CREATED:20170209T143054Z
LAST-MODIFIED:20170209T143054Z
UID:2895-1503705600-1503878399@www.tangahed.se
SUMMARY:SKOOI Svenska Kooikerklubben
DESCRIPTION:
URL:http://www.tangahed.se/evenemang/skooi-svenska-kooikerklubben/
END:VEVENT
BEGIN:VEVENT
DTSTART;VALUE=DATE:20170903
DTEND;VALUE=DATE:20170904
DTSTAMP:20260426T060102
CREATED:20170209T143627Z
LAST-MODIFIED:20170209T144058Z
UID:2897-1504396800-1504483199@www.tangahed.se
SUMMARY:Rasklubben för Siberien Husky
DESCRIPTION:Rasspecial
URL:http://www.tangahed.se/evenemang/svenska-briardklubben-2/
LOCATION:Kanonplan
END:VEVENT
BEGIN:VEVENT
DTSTART;VALUE=DATE:20170909
DTEND;VALUE=DATE:20170911
DTSTAMP:20260426T060102
CREATED:20170209T144740Z
LAST-MODIFIED:20170209T144741Z
UID:2900-1504915200-1505087999@www.tangahed.se
SUMMARY:IF Väster Träningsläger
DESCRIPTION:Fotboll
URL:http://www.tangahed.se/evenemang/if-vaster-traningslager/
END:VEVENT
BEGIN:VEVENT
DTSTART;VALUE=DATE:20171104
DTEND;VALUE=DATE:20171105
DTSTAMP:20260426T060102
CREATED:20170210T081637Z
LAST-MODIFIED:20171031T111626Z
UID:2908-1509753600-1509839999@www.tangahed.se
SUMMARY:Nostalgimarknad
DESCRIPTION:Kl 9\,00-15\,00
URL:http://www.tangahed.se/evenemang/nostalgimarknad/
LOCATION:Tångahallen
END:VEVENT
BEGIN:VEVENT
DTSTART;TZID=Europe/Stockholm:20171117T080000
DTEND;TZID=Europe/Stockholm:20171119T170000
DTSTAMP:20260426T060102
CREATED:20160121T144149Z
LAST-MODIFIED:20170203T115111Z
UID:2317-1510905600-1511110800@www.tangahed.se
SUMMARY:Novemberrusket Agilitytävling i Tångahallen
DESCRIPTION:
URL:http://www.tangahed.se/evenemang/novemberrusket-agilitytavling-i-tangahallen/
LOCATION:Tångahallen
END:VEVENT
BEGIN:VEVENT
DTSTART;TZID=Europe/Stockholm:20171201T080000
DTEND;TZID=Europe/Stockholm:20171202T170000
DTSTAMP:20260426T060102
CREATED:20170210T082246Z
LAST-MODIFIED:20170210T082246Z
UID:2912-1512115200-1512234000@www.tangahed.se
SUMMARY:Julbord Företagen
DESCRIPTION:
URL:http://www.tangahed.se/evenemang/julbord-foretagen/
LOCATION:Tångahallen
END:VEVENT
BEGIN:VEVENT
DTSTART;TZID=Europe/Stockholm:20171209T100000
DTEND;TZID=Europe/Stockholm:20171209T160000
DTSTAMP:20260426T060102
CREATED:20170210T094309Z
LAST-MODIFIED:20171205T151854Z
UID:2913-1512813600-1512835200@www.tangahed.se
SUMMARY:Kaninavelsföreningen
DESCRIPTION:Utställning
URL:http://www.tangahed.se/evenemang/kaninavelsforeningen/
LOCATION:Tångahallen
END:VEVENT
BEGIN:VEVENT
DTSTART;TZID=Europe/Stockholm:20171210T100000
DTEND;TZID=Europe/Stockholm:20171210T140000
DTSTAMP:20260426T060102
CREATED:20171205T151947Z
LAST-MODIFIED:20171205T151947Z
UID:3096-1512900000-1512914400@www.tangahed.se
SUMMARY:Kaninavelsföreningen
DESCRIPTION:Utställning
URL:http://www.tangahed.se/evenemang/kaninavelsforeningen-2/
END:VEVENT
BEGIN:VEVENT
DTSTART;TZID=Europe/Stockholm:20171216T180000
DTEND;TZID=Europe/Stockholm:20171216T213000
DTSTAMP:20260426T060102
CREATED:20171031T112459Z
LAST-MODIFIED:20171205T153538Z
UID:3082-1513447200-1513459800@www.tangahed.se
SUMMARY:Julkonsert i Tångahallen
DESCRIPTION:Körledare Sara E. Nyberg och Helena Gatås \nGästartister är bröderna Rongedal
URL:http://www.tangahed.se/evenemang/julkonsert-i-tangahallen/
END:VEVENT
BEGIN:VEVENT
DTSTART;TZID=Europe/Stockholm:20171226T100000
DTEND;TZID=Europe/Stockholm:20171226T113000
DTSTAMP:20260426T060102
CREATED:20171218T151711Z
LAST-MODIFIED:20171218T151802Z
UID:3106-1514282400-1514287800@www.tangahed.se
SUMMARY:Tipspromenad
DESCRIPTION:Tipspromenad \nStart kl 10\,00-11\,30 i Tångahallens entré. \nTa med släkt och vänner. \nFika\, korv&bröd ingår i startavgiften. \n50kr/vuxen\, 30kr/barn\, 150kr/familj
URL:http://www.tangahed.se/evenemang/tipspromenad/
END:VEVENT
BEGIN:VEVENT
DTSTART;TZID=Europe/Stockholm:20180115T170000
DTEND;TZID=Europe/Stockholm:20180115T210000
DTSTAMP:20260426T060102
CREATED:20180115T135644Z
LAST-MODIFIED:20180115T135644Z
UID:3187-1516035600-1516050000@www.tangahed.se
SUMMARY:Korpbowling träning
DESCRIPTION:Träning 17\,00-21\,00
URL:http://www.tangahed.se/evenemang/korpbowling-traning-2/
LOCATION:Bowlingen
END:VEVENT
BEGIN:VEVENT
DTSTART;VALUE=DATE:20180127
DTEND;VALUE=DATE:20180129
DTSTAMP:20260426T060102
CREATED:20160120T133200Z
LAST-MODIFIED:20180115T151016Z
UID:2213-1517011200-1517183999@www.tangahed.se
SUMMARY:Futsal Cup
DESCRIPTION:
URL:http://www.tangahed.se/evenemang/futsal-cup-2/
LOCATION:Tångahallen
END:VEVENT
BEGIN:VEVENT
DTSTART;VALUE=DATE:20180203
DTEND;VALUE=DATE:20180205
DTSTAMP:20260426T060102
CREATED:20180115T151118Z
LAST-MODIFIED:20180115T151118Z
UID:3220-1517616000-1517788799@www.tangahed.se
SUMMARY:Sävedalens IF Träningsläger
DESCRIPTION:
URL:http://www.tangahed.se/evenemang/savedalens-if-traningslager-2/
END:VEVENT
BEGIN:VEVENT
DTSTART;TZID=Europe/Stockholm:20180206T170000
DTEND;TZID=Europe/Stockholm:20180206T220000
DTSTAMP:20260426T060102
CREATED:20180115T142904Z
LAST-MODIFIED:20180115T142904Z
UID:3200-1517936400-1517954400@www.tangahed.se
SUMMARY:Korpen Seriespel
DESCRIPTION:Seriespel 17\,00-22\,00
URL:http://www.tangahed.se/evenemang/korpen-seriespel-3/
LOCATION:Bowlingen
END:VEVENT
BEGIN:VEVENT
DTSTART;TZID=Europe/Stockholm:20180210T210000
DTEND;TZID=Europe/Stockholm:20180210T210000
DTSTAMP:20260426T060102
CREATED:20170203T133127Z
LAST-MODIFIED:20180126T084559Z
UID:2789-1518296400-1518296400@www.tangahed.se
SUMMARY:Rockabilly Fest
DESCRIPTION:
URL:http://www.tangahed.se/evenemang/rockabilly-fest/
LOCATION:Matsalen\, Tånga Hed\, Sverige
END:VEVENT
END:VCALENDAR